


BEGIN:VCALENDAR
VERSION:2.0
PRODID:-//Houghton University - ECPv6.15.20//NONSGML v1.0//EN
CALSCALE:GREGORIAN
METHOD:PUBLISH
X-WR-CALNAME:Houghton University
X-ORIGINAL-URL:https://www.houghton.edu
X-WR-CALDESC:Events for Houghton University
REFRESH-INTERVAL;VALUE=DURATION:PT1H
X-Robots-Tag:noindex
X-PUBLISHED-TTL:PT1H
BEGIN:VTIMEZONE
TZID:America/New_York
BEGIN:DAYLIGHT
TZOFFSETFROM:-0500
TZOFFSETTO:-0400
TZNAME:EDT
DTSTART:20240310T070000
END:DAYLIGHT
BEGIN:STANDARD
TZOFFSETFROM:-0400
TZOFFSETTO:-0500
TZNAME:EST
DTSTART:20241103T060000
END:STANDARD
BEGIN:DAYLIGHT
TZOFFSETFROM:-0500
TZOFFSETTO:-0400
TZNAME:EDT
DTSTART:20250309T070000
END:DAYLIGHT
BEGIN:STANDARD
TZOFFSETFROM:-0400
TZOFFSETTO:-0500
TZNAME:EST
DTSTART:20251102T060000
END:STANDARD
BEGIN:DAYLIGHT
TZOFFSETFROM:-0500
TZOFFSETTO:-0400
TZNAME:EDT
DTSTART:20260308T070000
END:DAYLIGHT
BEGIN:STANDARD
TZOFFSETFROM:-0400
TZOFFSETTO:-0500
TZNAME:EST
DTSTART:20261101T060000
END:STANDARD
BEGIN:DAYLIGHT
TZOFFSETFROM:-0500
TZOFFSETTO:-0400
TZNAME:EDT
DTSTART:20270314T070000
END:DAYLIGHT
BEGIN:STANDARD
TZOFFSETFROM:-0400
TZOFFSETTO:-0500
TZNAME:EST
DTSTART:20271107T060000
END:STANDARD
END:VTIMEZONE
BEGIN:VEVENT
DTSTART;TZID=America/New_York:20260422T150000
DTEND;TZID=America/New_York:20260422T160000
DTSTAMP:20260422T190322
CREATED:20260317T074945Z
LAST-MODIFIED:20260422T101958Z
UID:10003045-1776870000-1776873600@www.houghton.edu
SUMMARY:World Earth Day Pop Up & Paint
DESCRIPTION:Come join us at Larder courtyard for some flower pot painting and informational session on sustainability and what it means to care for the environment.   Flower pots\, paint\, soil and wildflower seeds are provided.  A mini thrift mart will be available for those who want\, free of charge.   Think green\, act clean\, save our earth!  — Event Details: https://hub.houghton.edu/rsvp?id=385193
URL:https://www.houghton.edu/event/world-earth-day-pop-up-paint/
LOCATION:Sign in to download the location
CATEGORIES:CAB
END:VEVENT
BEGIN:VEVENT
DTSTART;TZID=America/New_York:20260420T210000
DTEND;TZID=America/New_York:20260420T214500
DTSTAMP:20260422T190322
CREATED:20260311T070517Z
LAST-MODIFIED:20260419T100455Z
UID:10003037-1776718800-1776721500@www.houghton.edu
SUMMARY:Kevin's Pool Party
DESCRIPTION:There will be floaties.\n—\nEvent Details: https://hub.houghton.edu/rsvp?id=385187
URL:https://www.houghton.edu/event/kevins-pool-party/
LOCATION:Pool at Nielsen\, 1 Willard Ave\, Houghton\, NY\, United States
CATEGORIES:CAB
GEO:42.42565;-78.157131
X-APPLE-STRUCTURED-LOCATION;VALUE=URI;X-ADDRESS=Pool at Nielsen 1 Willard Ave Houghton NY United States;X-APPLE-RADIUS=500;X-TITLE=1 Willard Ave:geo:-78.157131,42.42565
END:VEVENT
BEGIN:VEVENT
DTSTART;TZID=America/New_York:20260418T190000
DTEND;TZID=America/New_York:20260418T200000
DTSTAMP:20260422T190322
CREATED:20260211T044952Z
LAST-MODIFIED:20260310T070451Z
UID:10002988-1776538800-1776542400@www.houghton.edu
SUMMARY:Trivia Night
DESCRIPTION:Join us at Java with a team of 6\, ready to rumble. See you there! — Event Details: https://hub.houghton.edu/rsvp?id=385085
URL:https://www.houghton.edu/event/trivia-night-3/
LOCATION:Sign in to download the location
CATEGORIES:CAB
END:VEVENT
BEGIN:VEVENT
DTSTART;TZID=America/New_York:20260415T210000
DTEND;TZID=America/New_York:20260415T220000
DTSTAMP:20260422T190322
CREATED:20260311T070517Z
LAST-MODIFIED:20260415T094948Z
UID:10003036-1776286800-1776290400@www.houghton.edu
SUMMARY:Dodgeball Tournament
DESCRIPTION:Fun dodgeball tournament\, bring your friends and good attitude!  Prizes for the winning team! — Event Details: https://hub.houghton.edu/rsvp?id=385182
URL:https://www.houghton.edu/event/dodgeball-tournament/
LOCATION:Sign in to download the location
CATEGORIES:CAB
END:VEVENT
BEGIN:VEVENT
DTSTART;TZID=America/New_York:20260409T190000
DTEND;TZID=America/New_York:20260409T200000
DTSTAMP:20260422T190322
CREATED:20260312T072006Z
LAST-MODIFIED:20260409T093453Z
UID:10003041-1775761200-1775764800@www.houghton.edu
SUMMARY:Coffeehouse
DESCRIPTION:Coffeehouse-a place to come enjoy a cup of Jo and listen to a variety of live entertainment.\n—\nEvent Details: https://hub.houghton.edu/rsvp?id=385190
URL:https://www.houghton.edu/event/coffeehouse-5/
LOCATION:Sign in to download the location
CATEGORIES:CAB
END:VEVENT
BEGIN:VEVENT
DTSTART;TZID=America/New_York:20260328T210000
DTEND;TZID=America/New_York:20260328T223000
DTSTAMP:20260422T190322
CREATED:20260225T054947Z
LAST-MODIFIED:20260328T083505Z
UID:10003014-1774731600-1774737000@www.houghton.edu
SUMMARY:Hall Brawl Dance: Under the Sea!
DESCRIPTION:🏝️🍹🥥💦 Dive into the sea\, & enjoy some refreshing tropical mocktails & delicious snacks\, ending it with fun dancing!   — Event Details: https://hub.houghton.edu/rsvp?id=385145
URL:https://www.houghton.edu/event/hall-brawl-dance-under-the-sea/
LOCATION:Van Dyk Lounge\, 1 Willard Ave\, Houghton\, NY\, United States
CATEGORIES:CAB
GEO:42.42565;-78.157131
X-APPLE-STRUCTURED-LOCATION;VALUE=URI;X-ADDRESS=Van Dyk Lounge 1 Willard Ave Houghton NY United States;X-APPLE-RADIUS=500;X-TITLE=1 Willard Ave:geo:-78.157131,42.42565
END:VEVENT
BEGIN:VEVENT
DTSTART;TZID=America/New_York:20260319T190000
DTEND;TZID=America/New_York:20260319T200000
DTSTAMP:20260422T190322
CREATED:20260312T072006Z
LAST-MODIFIED:20260319T074946Z
UID:10003040-1773946800-1773950400@www.houghton.edu
SUMMARY:Coffeehouse
DESCRIPTION:Coffeehouse-a place to come enjoy a cup of Jo and listen to a variety of live entertainment.\n—\nEvent Details: https://hub.houghton.edu/rsvp?id=385189
URL:https://www.houghton.edu/event/coffeehouse-4/
LOCATION:Sign in to download the location
CATEGORIES:CAB
END:VEVENT
BEGIN:VEVENT
DTSTART;TZID=America/New_York:20260314T210000
DTEND;TZID=America/New_York:20260314T230000
DTSTAMP:20260422T190322
CREATED:20260205T045001Z
LAST-MODIFIED:20260314T071948Z
UID:10002981-1773522000-1773529200@www.houghton.edu
SUMMARY:Spring SPOT
DESCRIPTION:This is from yourSpring 2026 SPOT hosts\, Nate Bliss and Marcus White. We are excited to announce that this semester\, the theme for SPOT is Stories Around the Campfire! Think back to the summer nights at a camp\, whether with family or friends\, remember all the stories\, memories\, and fun had. That is what we aim to embody with SPOT. What’s better than an exciting and funny story to bring people together? Around this campfire\, everyone has a story. The only question is\, will you take the stage to tell it? — Event Details: https://hub.houghton.edu/rsvp?id=385052
URL:https://www.houghton.edu/event/spring-spot/
LOCATION:Sign in to download the location
CATEGORIES:CAB
END:VEVENT
BEGIN:VEVENT
DTSTART;TZID=America/New_York:20260313T190000
DTEND;TZID=America/New_York:20260313T223000
DTSTAMP:20260422T190322
CREATED:20260310T070450Z
LAST-MODIFIED:20260313T072002Z
UID:10003034-1773428400-1773441000@www.houghton.edu
SUMMARY:Mario Kart Wii Tournament
DESCRIPTION:The engines are warming up\, and the blue shells are ready. Commenting will be provided by Professor Walton and Poythress! Grand prizes will be awarded to the top 4 players! If you register by Wednesday\, you can get a free Esports Lucky the Lion Mario Kart Sticker. All skill levels are welcome! — Event Details: https://hub.houghton.edu/rsvp?id=385161
URL:https://www.houghton.edu/event/mario-kart-wii-tournament/
LOCATION:The Chapel\, 1 Willard Ave\, Houghton\, NY\, United States
CATEGORIES:CAB,ESPORTS
GEO:42.42565;-78.157131
X-APPLE-STRUCTURED-LOCATION;VALUE=URI;X-ADDRESS=The Chapel 1 Willard Ave Houghton NY United States;X-APPLE-RADIUS=500;X-TITLE=1 Willard Ave:geo:-78.157131,42.42565
END:VEVENT
BEGIN:VEVENT
DTSTART;TZID=America/New_York:20260312T190000
DTEND;TZID=America/New_York:20260312T200000
DTSTAMP:20260422T190322
CREATED:20260312T072005Z
LAST-MODIFIED:20260312T072005Z
UID:10003039-1773342000-1773345600@www.houghton.edu
SUMMARY:Coffeehouse
DESCRIPTION:Coffeehouse-a place to come enjoy a cup of Jo and listen to a variety of live entertainment.\n—\nEvent Details: https://hub.houghton.edu/rsvp?id=385188
URL:https://www.houghton.edu/event/coffeehouse-3/
LOCATION:Sign in to download the location
CATEGORIES:CAB
END:VEVENT
BEGIN:VEVENT
DTSTART;TZID=America/New_York:20260223T210000
DTEND;TZID=America/New_York:20260223T220000
DTSTAMP:20260422T190322
CREATED:20260211T044952Z
LAST-MODIFIED:20260223T053451Z
UID:10002986-1771880400-1771884000@www.houghton.edu
SUMMARY:Legit Lasertag
DESCRIPTION:LASER TAG HOSTED BY CAB\n9:00 PM | NEILSEN\nBunkers. Music. Neon. Gear up to take down your friends in the ultimate nighttime showdown. See you in the arena.\n—\nEvent Details: https://hub.houghton.edu/rsvp?id=385082
URL:https://www.houghton.edu/event/legit-lasertag/
LOCATION:Sign in to download the location
CATEGORIES:CAB
END:VEVENT
BEGIN:VEVENT
DTSTART;TZID=America/New_York:20260221T190000
DTEND;TZID=America/New_York:20260221T200000
DTSTAMP:20260422T190322
CREATED:20260211T044951Z
LAST-MODIFIED:20260221T053446Z
UID:10002985-1771700400-1771704000@www.houghton.edu
SUMMARY:Trivia Night
DESCRIPTION:Join us at Java with a team of 6\, ready to rumble. Starts at 7 PM on February 21st. See you there! — Event Details: https://hub.houghton.edu/rsvp?id=385083
URL:https://www.houghton.edu/event/trivia-night/
LOCATION:Sign in to download the location
CATEGORIES:CAB
END:VEVENT
BEGIN:VEVENT
DTSTART;TZID=America/New_York:20260217T180000
DTEND;TZID=America/New_York:20260217T200000
DTSTAMP:20260422T190322
CREATED:20260210T045037Z
LAST-MODIFIED:20260217T052018Z
UID:10002984-1771351200-1771358400@www.houghton.edu
SUMMARY:Chinese New Year Lantern Making
DESCRIPTION:Come make a paper Chinese lantern to celebrate the Chinese New Year!  Tuesday\, Feb. 17 from 6pm to 8pm in Van Dyk Lounge. — Event Details: https://hub.houghton.edu/rsvp?id=385058
URL:https://www.houghton.edu/event/chinese-new-year-lantern-making/
LOCATION:Van Dyk Lounge\, 1 Willard Ave\, Houghton\, NY\, United States
CATEGORIES:CAB
GEO:42.42565;-78.157131
X-APPLE-STRUCTURED-LOCATION;VALUE=URI;X-ADDRESS=Van Dyk Lounge 1 Willard Ave Houghton NY United States;X-APPLE-RADIUS=500;X-TITLE=1 Willard Ave:geo:-78.157131,42.42565
END:VEVENT
BEGIN:VEVENT
DTSTART;TZID=America/New_York:20260214T140000
DTEND;TZID=America/New_York:20260214T160000
DTSTAMP:20260422T190322
CREATED:20260205T045000Z
LAST-MODIFIED:20260214T050514Z
UID:10002980-1771077600-1771084800@www.houghton.edu
SUMMARY:SPOT Act/Band Auditions
DESCRIPTION:For Acts\, the audition will serve as more of a pitch\, so you only need to come up with an idea to pitch us. We will host more thorough act auditions at a later date to see your proof of concept\, but acts will receive that information later. For the Band auditions\, come with your instrument and anything you want to prepare ahead of time to show us what you got! — Event Details: https://hub.houghton.edu/rsvp?id=385060
URL:https://www.houghton.edu/event/spot-act-band-auditions-2/
LOCATION:Sign in to download the location
CATEGORIES:CAB
END:VEVENT
BEGIN:VEVENT
DTSTART;TZID=America/New_York:20260212T153000
DTEND;TZID=America/New_York:20260212T170000
DTSTAMP:20260422T190322
CREATED:20260205T045000Z
LAST-MODIFIED:20260212T050446Z
UID:10002979-1770910200-1770915600@www.houghton.edu
SUMMARY:SPOT Act Auditions
DESCRIPTION:Acts Only!\n—\nEvent Details: https://hub.houghton.edu/rsvp?id=385050
URL:https://www.houghton.edu/event/spot-act-auditions-2/
LOCATION:Sign in to download the location
CATEGORIES:CAB
END:VEVENT
BEGIN:VEVENT
DTSTART;TZID=America/New_York:20260211T180000
DTEND;TZID=America/New_York:20260211T200000
DTSTAMP:20260422T190322
CREATED:20260205T045000Z
LAST-MODIFIED:20260211T044950Z
UID:10002978-1770832800-1770840000@www.houghton.edu
SUMMARY:SPOT Act/Band Auditions
DESCRIPTION:For Acts\, the audition will serve as more of a pitch\, so you only need to come up with an idea to pitch us. We will host more thorough act auditions at a later date to see your proof of concept\, but acts will receive that information later. For the Band auditions\, come with your instrument and anything you want to prepare ahead of time to show us what you got! — Event Details: https://hub.houghton.edu/rsvp?id=385049
URL:https://www.houghton.edu/event/spot-act-band-auditions/
LOCATION:Sign in to download the location
CATEGORIES:CAB
END:VEVENT
BEGIN:VEVENT
DTSTART;TZID=America/New_York:20260131T130000
DTEND;TZID=America/New_York:20260131T140000
DTSTAMP:20260422T190322
CREATED:20260128T044957Z
LAST-MODIFIED:20260131T044956Z
UID:10002961-1769864400-1769868000@www.houghton.edu
SUMMARY:Snow Day!
DESCRIPTION:Dress warmly & be ready to get cozy in the snow!\nJoin us for a game of Razzle Blast & a snow-making contest. ❄️☃️\n—\nEvent Details: https://hub.houghton.edu/rsvp?id=384990
URL:https://www.houghton.edu/event/snow-day/
LOCATION:Sign in to download the location
CATEGORIES:CAB
END:VEVENT
BEGIN:VEVENT
DTSTART;TZID=America/New_York:20260128T200000
DTEND;TZID=America/New_York:20260128T210000
DTSTAMP:20260422T190322
CREATED:20260123T043458Z
LAST-MODIFIED:20260128T044957Z
UID:10002909-1769630400-1769634000@www.houghton.edu
SUMMARY:SPOT Host Auditions
DESCRIPTION:CAB is holding the SPOT Host Auditions for the Spring semester!\nThink of a theme and bring it to the audition!\n—\nEvent Details: https://hub.houghton.edu/rsvp?id=384925
URL:https://www.houghton.edu/event/spot-host-auditions-2/
LOCATION:Sign in to download the location
CATEGORIES:CAB
END:VEVENT
BEGIN:VEVENT
DTSTART;TZID=America/New_York:20260117T190000
DTEND;TZID=America/New_York:20260117T200000
DTSTAMP:20260422T190322
CREATED:20260114T032150Z
LAST-MODIFIED:20260117T034950Z
UID:10002893-1768676400-1768680000@www.houghton.edu
SUMMARY:January Trivia
DESCRIPTION:Join us for a blissful night of trivia and have a team of 6 ready as we start off the new year with a bang! 7-8 PM in Java 101.\n—\nEvent Details: https://hub.houghton.edu/rsvp?id=384842
URL:https://www.houghton.edu/event/january-trivia/
LOCATION:Java 101\, 1 Willard Ave\, Houghton\, NY\, United States
CATEGORIES:CAB
GEO:42.42565;-78.157131
X-APPLE-STRUCTURED-LOCATION;VALUE=URI;X-ADDRESS=Java 101 1 Willard Ave Houghton NY United States;X-APPLE-RADIUS=500;X-TITLE=1 Willard Ave:geo:-78.157131,42.42565
END:VEVENT
BEGIN:VEVENT
DTSTART;TZID=America/New_York:20251212T220000
DTEND;TZID=America/New_York:20251212T230000
DTSTAMP:20260422T190322
CREATED:20251205T023456Z
LAST-MODIFIED:20251213T024948Z
UID:10002790-1765576800-1765580400@www.houghton.edu
SUMMARY:CAB Late Night Breakfast!
DESCRIPTION:CAB Late Night Breakfast!\n—\nEvent Details: https://hub.houghton.edu/rsvp?id=384717
URL:https://www.houghton.edu/event/cab-late-night-breakfast/
LOCATION:Sign in to download the location
CATEGORIES:CAB
END:VEVENT
BEGIN:VEVENT
DTSTART;TZID=America/New_York:20251209T190000
DTEND;TZID=America/New_York:20251209T200000
DTSTAMP:20260422T190322
CREATED:20251209T023446Z
LAST-MODIFIED:20251209T023446Z
UID:10002792-1765306800-1765310400@www.houghton.edu
SUMMARY:Christmas Trivia
DESCRIPTION:Join us at Java for some wintery fun and a jolly good time! Bring friends for a chance to win prizes such as sleds\, cookies\, and games.   Starts at 7 PM on Tuesday\, December 9th.  See you there!   – Thee Wes Andrerson — Event Details: https://hub.houghton.edu/rsvp?id=384726
URL:https://www.houghton.edu/event/christmas-trivia/
LOCATION:Sign in to download the location
CATEGORIES:CAB
END:VEVENT
BEGIN:VEVENT
DTSTART;TZID=America/New_York:20251206T213000
DTEND;TZID=America/New_York:20251206T230000
DTSTAMP:20260422T190322
CREATED:20251203T023524Z
LAST-MODIFIED:20251206T023511Z
UID:10002789-1765056600-1765062000@www.houghton.edu
SUMMARY:After Prism Party-Winter Wonderland
DESCRIPTION:It was a wintery\, snowy night…The lights were twinkling\, the snow was glistening\, and laughter filled the air…the perfect scenery for a Winter Wonderland Gala.  Step into this magical snowscape this Saturday\, December 6th\, from 9:30-11 pm in Van Dyk Lounge.  Enjoy some fancy treats\, mocktails\, and modern dance music! — Event Details: https://hub.houghton.edu/rsvp?id=384713
URL:https://www.houghton.edu/event/after-prism-party-winter-wonderland/
LOCATION:Sign in to download the location
CATEGORIES:CAB
END:VEVENT
BEGIN:VEVENT
DTSTART;TZID=America/New_York:20251203T190000
DTEND;TZID=America/New_York:20251203T200000
DTSTAMP:20260422T190322
CREATED:20251112T014946Z
LAST-MODIFIED:20251203T023524Z
UID:10002768-1764788400-1764792000@www.houghton.edu
SUMMARY:Photo Expo
DESCRIPTION:SUBMIT PHOTO -> https://docs.google.com/forms/d/e/1FAIpQLSfAnpuaeJi8QMa3sZcxPCBbWBXmaS2-8-qz5UMN7hTi_EpKmw/viewform?usp=dialog  SUPER EASY !!! JUST DO IT  !  Everyone gets to see their photo printed out\, on the walls of the Chapel art gallery\, in an official photo expo!  Meeting Link: SUBMIT PHOTO:  https://docs.google.com/forms/d/e/1FAIpQLSfAnpuaeJi8QMa3sZcxPCBbWBXmaS2-8-qz5UMN7hTi_EpKmw/viewform?usp=dialog Dress Code: Casual (jeans ok) — Event Details: https://hub.houghton.edu/rsvp?id=384654
URL:https://www.houghton.edu/event/photo-expo/
LOCATION:Sign in to download the location
CATEGORIES:CAB
END:VEVENT
BEGIN:VEVENT
DTSTART;TZID=America/New_York:20251114T210000
DTEND;TZID=America/New_York:20251114T223000
DTSTAMP:20260422T190322
CREATED:20251111T014944Z
LAST-MODIFIED:20251114T020539Z
UID:10002766-1763154000-1763159400@www.houghton.edu
SUMMARY:Student vs Faculty Basketball Game
DESCRIPTION:A basketball game between our very own Houghton Faculty and Teachers vs 12 randomly selected Houghton students. This will take place on Friday\, November 14th at 9 pm\, you won’t want to miss it! — Event Details: https://hub.houghton.edu/rsvp?id=384606
URL:https://www.houghton.edu/event/student-vs-faculty-basketball-game/
LOCATION:Nielsen Center\, 1 Willard Ave\, Houghton\, NY\, United States
CATEGORIES:CAB
GEO:42.42565;-78.157131
X-APPLE-STRUCTURED-LOCATION;VALUE=URI;X-ADDRESS=Nielsen Center 1 Willard Ave Houghton NY United States;X-APPLE-RADIUS=500;X-TITLE=1 Willard Ave:geo:-78.157131,42.42565
END:VEVENT
BEGIN:VEVENT
DTSTART;TZID=America/New_York:20251107T190000
DTEND;TZID=America/New_York:20251107T213000
DTSTAMP:20260422T190322
CREATED:20251104T004945Z
LAST-MODIFIED:20251107T013447Z
UID:10002759-1762542000-1762551000@www.houghton.edu
SUMMARY:Mario Kart Tournament
DESCRIPTION:Join up at the Chapel to participate in the Fall 2025 Mario Kart Tournament! The Grand Prize for 1st place is $100 Flex!!  2nd\, 3rd\, and 4th place will win $25 Flex each  Here is the link for registration: https://cglink.me/2sv/s317 — Event Details: https://hub.houghton.edu/rsvp?id=384633
URL:https://www.houghton.edu/event/mario-kart-tournament/
LOCATION:Sign in to download the location
CATEGORIES:CAB
END:VEVENT
BEGIN:VEVENT
DTSTART;TZID=America/New_York:20251104T190000
DTEND;TZID=America/New_York:20251104T200000
DTSTAMP:20260422T190322
CREATED:20251028T004952Z
LAST-MODIFIED:20251104T004945Z
UID:10002744-1762282800-1762286400@www.houghton.edu
SUMMARY:Thanksgiving Trivia!
DESCRIPTION:Grab some friends and come out to Java 101 at 7 PM for a night Thanksgiving-themed Trivia!\nWhy you should come:\n– Community (duh)\n– Prizes for Top 3 teams ($50 worth!)\n– Learn something that you can tell your other subservient friends about and make them jealous of how smart you are.\n– See the amazing Wes Anderson in the flesh.\n—\nEvent Details: https://hub.houghton.edu/rsvp?id=384593
URL:https://www.houghton.edu/event/thanksgiving-trivia/
LOCATION:Sign in to download the location
CATEGORIES:CAB
END:VEVENT
BEGIN:VEVENT
DTSTART;TZID=America/New_York:20251031T210000
DTEND;TZID=America/New_York:20251031T230000
DTSTAMP:20260422T190322
CREATED:20251021T214950Z
LAST-MODIFIED:20251101T005009Z
UID:10002734-1761944400-1761951600@www.houghton.edu
SUMMARY:Shenoween
DESCRIPTION:The time is finally here\, the trees baring their spookiest costumes as we all follow suit!* With startlingly scary tours going through the HOUGHTON WOODS you will end your night of frights with a terrifyingly well thrown party in the spoooky basement of Shenawana Hall\, courtesy of our friends at CAB.  *Costume Policy: Modesty is the overriding principle of Houghton’s standards of personal appearance. Every Houghton student is expected to display the maturity necessary to comply with a style of dress that is consistent with the values of the university. Dress which is too revealing or displays advertisements or language that violates or encourages the violation of community standards is unacceptable and may result in disciplinary action (Student Guide 2025-2026). Please use common sense when choosing a costume. Avoid any costumes with full face masks\, elements of extreme violence (avoid prop weapons)\, racial insensitivity or sexual misconduct.    — Event Details: https://hub.houghton.edu/rsvp?id=384570
URL:https://www.houghton.edu/event/shenoween-2/
LOCATION:Sign in to download the location
CATEGORIES:CAB,SHEN,Students
END:VEVENT
BEGIN:VEVENT
DTSTART;TZID=America/New_York:20251024T180000
DTEND;TZID=America/New_York:20251024T200000
DTSTAMP:20260422T190322
CREATED:20251022T000510Z
LAST-MODIFIED:20251024T003544Z
UID:10002736-1761328800-1761336000@www.houghton.edu
SUMMARY:Board Game Night
DESCRIPTION:Come to Van Dyk Lounge to enjoy some board games with your peers!\n—\nEvent Details: https://hub.houghton.edu/rsvp?id=384568
URL:https://www.houghton.edu/event/board-game-night/
LOCATION:Sign in to download the location
CATEGORIES:CAB
END:VEVENT
BEGIN:VEVENT
DTSTART;TZID=America/New_York:20251023T200000
DTEND;TZID=America/New_York:20251023T210000
DTSTAMP:20260422T190322
CREATED:20251022T000509Z
LAST-MODIFIED:20251023T002000Z
UID:10002735-1761249600-1761253200@www.houghton.edu
SUMMARY:Comedy House
DESCRIPTION:Coffee Night has been transformed into a night of comedy! (a.k.a. Comedy House)\n—\nEvent Details: https://hub.houghton.edu/rsvp?id=384569
URL:https://www.houghton.edu/event/comedy-house/
LOCATION:Java 101\, 1 Willard Ave\, Houghton\, NY\, United States
CATEGORIES:CAB
GEO:42.42565;-78.157131
X-APPLE-STRUCTURED-LOCATION;VALUE=URI;X-ADDRESS=Java 101 1 Willard Ave Houghton NY United States;X-APPLE-RADIUS=500;X-TITLE=1 Willard Ave:geo:-78.157131,42.42565
END:VEVENT
BEGIN:VEVENT
DTSTART;TZID=America/New_York:20250909T104500
DTEND;TZID=America/New_York:20250909T123000
DTSTAMP:20260422T190322
CREATED:20250805T212012Z
LAST-MODIFIED:20250909T033450Z
UID:10002528-1757414700-1757421000@www.houghton.edu
SUMMARY:Community Connections Fair 2025
DESCRIPTION:Open to all students – learn about ways you can get involved on campus\, in a local church\, and in the wider community!  If your local organization would like to request a booth\, fill out that registration here or contact rachel.wright@houghton.edu. Spaces are limited\, so please expect a confirmation email ahead of the event. — Event Details: https://hub.houghton.edu/rsvp?id=383125
URL:https://www.houghton.edu/event/community-connections-fair-2025/
LOCATION:Sign in to download the location
CATEGORIES:Alumni,CAB,Center for Student Success,EPIC,GSOM,Students
END:VEVENT
END:VCALENDAR