


BEGIN:VCALENDAR
VERSION:2.0
PRODID:-//Houghton University - ECPv6.15.20//NONSGML v1.0//EN
CALSCALE:GREGORIAN
METHOD:PUBLISH
X-ORIGINAL-URL:https://www.houghton.edu
X-WR-CALDESC:Events for Houghton University
REFRESH-INTERVAL;VALUE=DURATION:PT1H
X-Robots-Tag:noindex
X-PUBLISHED-TTL:PT1H
BEGIN:VTIMEZONE
TZID:America/New_York
BEGIN:DAYLIGHT
TZOFFSETFROM:-0500
TZOFFSETTO:-0400
TZNAME:EDT
DTSTART:20250309T070000
END:DAYLIGHT
BEGIN:STANDARD
TZOFFSETFROM:-0400
TZOFFSETTO:-0500
TZNAME:EST
DTSTART:20251102T060000
END:STANDARD
BEGIN:DAYLIGHT
TZOFFSETFROM:-0500
TZOFFSETTO:-0400
TZNAME:EDT
DTSTART:20260308T070000
END:DAYLIGHT
BEGIN:STANDARD
TZOFFSETFROM:-0400
TZOFFSETTO:-0500
TZNAME:EST
DTSTART:20261101T060000
END:STANDARD
BEGIN:DAYLIGHT
TZOFFSETFROM:-0500
TZOFFSETTO:-0400
TZNAME:EDT
DTSTART:20270314T070000
END:DAYLIGHT
BEGIN:STANDARD
TZOFFSETFROM:-0400
TZOFFSETTO:-0500
TZNAME:EST
DTSTART:20271107T060000
END:STANDARD
BEGIN:DAYLIGHT
TZOFFSETFROM:-0500
TZOFFSETTO:-0400
TZNAME:EDT
DTSTART:20280312T070000
END:DAYLIGHT
BEGIN:STANDARD
TZOFFSETFROM:-0400
TZOFFSETTO:-0500
TZNAME:EST
DTSTART:20281105T060000
END:STANDARD
END:VTIMEZONE
BEGIN:VEVENT
DTSTART;TZID=America/New_York:20260415T210000
DTEND;TZID=America/New_York:20260415T220000
DTSTAMP:20260424T080858
CREATED:20260311T070517Z
LAST-MODIFIED:20260415T094948Z
UID:10003036-1776286800-1776290400@www.houghton.edu
SUMMARY:Dodgeball Tournament
DESCRIPTION:Fun dodgeball tournament\, bring your friends and good attitude!  Prizes for the winning team! — Event Details: https://hub.houghton.edu/rsvp?id=385182
URL:https://www.houghton.edu/event/dodgeball-tournament/
LOCATION:Sign in to download the location
CATEGORIES:CAB
END:VEVENT
BEGIN:VEVENT
DTSTART;TZID=America/New_York:20260418T190000
DTEND;TZID=America/New_York:20260418T200000
DTSTAMP:20260424T080858
CREATED:20260211T044952Z
LAST-MODIFIED:20260310T070451Z
UID:10002988-1776538800-1776542400@www.houghton.edu
SUMMARY:Trivia Night
DESCRIPTION:Join us at Java with a team of 6\, ready to rumble. See you there! — Event Details: https://hub.houghton.edu/rsvp?id=385085
URL:https://www.houghton.edu/event/trivia-night-3/
LOCATION:Sign in to download the location
CATEGORIES:CAB
END:VEVENT
BEGIN:VEVENT
DTSTART;TZID=America/New_York:20260420T210000
DTEND;TZID=America/New_York:20260420T214500
DTSTAMP:20260424T080858
CREATED:20260311T070517Z
LAST-MODIFIED:20260419T100455Z
UID:10003037-1776718800-1776721500@www.houghton.edu
SUMMARY:Kevin's Pool Party
DESCRIPTION:There will be floaties.\n—\nEvent Details: https://hub.houghton.edu/rsvp?id=385187
URL:https://www.houghton.edu/event/kevins-pool-party/
LOCATION:Pool at Nielsen\, 1 Willard Ave\, Houghton\, NY\, United States
CATEGORIES:CAB
GEO:42.42565;-78.157131
X-APPLE-STRUCTURED-LOCATION;VALUE=URI;X-ADDRESS=Pool at Nielsen 1 Willard Ave Houghton NY United States;X-APPLE-RADIUS=500;X-TITLE=1 Willard Ave:geo:-78.157131,42.42565
END:VEVENT
BEGIN:VEVENT
DTSTART;TZID=America/New_York:20260422T150000
DTEND;TZID=America/New_York:20260422T160000
DTSTAMP:20260424T080858
CREATED:20260317T074945Z
LAST-MODIFIED:20260422T101958Z
UID:10003045-1776870000-1776873600@www.houghton.edu
SUMMARY:World Earth Day Pop Up & Paint
DESCRIPTION:Come join us at Larder courtyard for some flower pot painting and informational session on sustainability and what it means to care for the environment.   Flower pots\, paint\, soil and wildflower seeds are provided.  A mini thrift mart will be available for those who want\, free of charge.   Think green\, act clean\, save our earth!  — Event Details: https://hub.houghton.edu/rsvp?id=385193
URL:https://www.houghton.edu/event/world-earth-day-pop-up-paint/
LOCATION:Sign in to download the location
CATEGORIES:CAB
END:VEVENT
BEGIN:VEVENT
DTSTART;TZID=America/New_York:20260423T180000
DTEND;TZID=America/New_York:20260423T190000
DTSTAMP:20260424T080858
CREATED:20260312T072006Z
LAST-MODIFIED:20260423T102014Z
UID:10003042-1776967200-1776970800@www.houghton.edu
SUMMARY:Comedy House
DESCRIPTION:Coffeehouse-a place to come enjoy a cup of Jo and listen to a variety of live entertainment.\n—\nEvent Details: https://hub.houghton.edu/rsvp?id=385191
URL:https://www.houghton.edu/event/coffeehouse-6/
LOCATION:Sign in to download the location
CATEGORIES:CAB
END:VEVENT
BEGIN:VEVENT
DTSTART;TZID=America/New_York:20260424T210000
DTEND;TZID=America/New_York:20260424T223000
DTSTAMP:20260424T080858
CREATED:20260311T070517Z
LAST-MODIFIED:20260424T101952Z
UID:10003038-1777064400-1777069800@www.houghton.edu
SUMMARY:5v5 Coaches vs Student Basketball Game
DESCRIPTION:5v5 Coaches vs Student Basketball Game!.  Fun event to cheer on your favorite coaches and students with prizes at halftime.\n—\nEvent Details: https://hub.houghton.edu/rsvp?id=385181
URL:https://www.houghton.edu/event/5v5-coaches-vs-student-basketball-game/
LOCATION:Sign in to download the location
CATEGORIES:CAB
END:VEVENT
BEGIN:VEVENT
DTSTART;TZID=America/New_York:20260425T210000
DTEND;TZID=America/New_York:20260425T230000
DTSTAMP:20260424T080858
CREATED:20260309T064946Z
LAST-MODIFIED:20260424T101952Z
UID:10003021-1777150800-1777158000@www.houghton.edu
SUMMARY:CAB Roller Skating
DESCRIPTION:CAB Roller Skating night!\n—\nEvent Details: https://hub.houghton.edu/rsvp?id=385163
URL:https://www.houghton.edu/event/cab-roller-skating/
LOCATION:Sign in to download the location
CATEGORIES:CAB
END:VEVENT
BEGIN:VEVENT
DTSTART;TZID=America/New_York:20260428T190000
DTEND;TZID=America/New_York:20260428T200000
DTSTAMP:20260424T080858
CREATED:20260211T044952Z
LAST-MODIFIED:20260424T101953Z
UID:10002987-1777402800-1777406400@www.houghton.edu
SUMMARY:Trivia Night
DESCRIPTION:Join us at Java with a team of 6\, ready to rumble. See you there! — Event Details: https://hub.houghton.edu/rsvp?id=385084
URL:https://www.houghton.edu/event/trivia-night-2/
LOCATION:Sign in to download the location
CATEGORIES:CAB
END:VEVENT
BEGIN:VEVENT
DTSTART;TZID=America/New_York:20260430T190000
DTEND;TZID=America/New_York:20260430T200000
DTSTAMP:20260424T080858
CREATED:20260312T072007Z
LAST-MODIFIED:20260420T100446Z
UID:10003043-1777575600-1777579200@www.houghton.edu
SUMMARY:Coffeehouse
DESCRIPTION:Coffeehouse-a place to come enjoy a cup of Jo and listen to a variety of live entertainment.\n—\nEvent Details: https://hub.houghton.edu/rsvp?id=385192
URL:https://www.houghton.edu/event/coffeehouse-7/
LOCATION:Sign in to download the location
CATEGORIES:CAB
END:VEVENT
BEGIN:VEVENT
DTSTART;TZID=America/New_York:20260501T220000
DTEND;TZID=America/New_York:20260501T230000
DTSTAMP:20260424T080858
CREATED:20260421T101949Z
LAST-MODIFIED:20260424T101953Z
UID:10003089-1777672800-1777676400@www.houghton.edu
SUMMARY:Late Night Breakfast
DESCRIPTION:Late Night Breakfast before finals week!\n—\nEvent Details: https://hub.houghton.edu/rsvp?id=385323
URL:https://www.houghton.edu/event/late-night-breakfast-2/
LOCATION:Sign in to download the location
CATEGORIES:CAB
END:VEVENT
BEGIN:VEVENT
DTSTART;TZID=America/New_York:20260822T070000
DTEND;TZID=America/New_York:20260822T090000
DTSTAMP:20260424T080858
CREATED:20260421T101949Z
LAST-MODIFIED:20260424T101953Z
UID:10003090-1787382000-1787389200@www.houghton.edu
SUMMARY:Morning Hike
DESCRIPTION:Join O Crew for a morning hike on the Houghton Trails\n—\nEvent Details: https://hub.houghton.edu/rsvp?id=385302
URL:https://www.houghton.edu/event/morning-hike/
LOCATION:Sign in to download the location
CATEGORIES:CAB
END:VEVENT
BEGIN:VEVENT
DTSTART;TZID=America/New_York:20260822T150000
DTEND;TZID=America/New_York:20260822T170000
DTSTAMP:20260424T080858
CREATED:20260421T101949Z
LAST-MODIFIED:20260424T101953Z
UID:10003091-1787410800-1787418000@www.houghton.edu
SUMMARY:Houghdown
DESCRIPTION:Come join the fun at the Houghton Houghdown!\n—\nEvent Details: https://hub.houghton.edu/rsvp?id=385303
URL:https://www.houghton.edu/event/houghdown/
LOCATION:Sign in to download the location
CATEGORIES:CAB
END:VEVENT
BEGIN:VEVENT
DTSTART;TZID=America/New_York:20260822T180000
DTEND;TZID=America/New_York:20260822T200000
DTSTAMP:20260424T080858
CREATED:20260421T101949Z
LAST-MODIFIED:20260424T101953Z
UID:10003092-1787421600-1787428800@www.houghton.edu
SUMMARY:CAB Carnival
DESCRIPTION:Carnival on the Quad!\n—\nEvent Details: https://hub.houghton.edu/rsvp?id=385304
URL:https://www.houghton.edu/event/cab-carnival/
LOCATION:Sign in to download the location
CATEGORIES:CAB
END:VEVENT
BEGIN:VEVENT
DTSTART;TZID=America/New_York:20260822T210000
DTEND;TZID=America/New_York:20260822T230000
DTSTAMP:20260424T080858
CREATED:20260421T101950Z
LAST-MODIFIED:20260424T101953Z
UID:10003093-1787432400-1787439600@www.houghton.edu
SUMMARY:CAB Movie on the Quad
DESCRIPTION:Outdoor movie on the Quad!\n—\nEvent Details: https://hub.houghton.edu/rsvp?id=385305
URL:https://www.houghton.edu/event/cab-movie-on-the-quad/
LOCATION:Sign in to download the location
CATEGORIES:CAB
END:VEVENT
BEGIN:VEVENT
DTSTART;TZID=America/New_York:20260928T210000
DTEND;TZID=America/New_York:20260928T230000
DTSTAMP:20260424T080858
CREATED:20260421T101950Z
LAST-MODIFIED:20260424T101953Z
UID:10003094-1790629200-1790636400@www.houghton.edu
SUMMARY:Purple and Gold Events
DESCRIPTION:TBD\n—\nEvent Details: https://hub.houghton.edu/rsvp?id=385307
URL:https://www.houghton.edu/event/purple-and-gold-events/
LOCATION:Sign in to download the location
CATEGORIES:CAB
END:VEVENT
BEGIN:VEVENT
DTSTART;TZID=America/New_York:20260929T210000
DTEND;TZID=America/New_York:20260929T230000
DTSTAMP:20260424T080858
CREATED:20260421T101950Z
LAST-MODIFIED:20260424T101953Z
UID:10003095-1790715600-1790722800@www.houghton.edu
SUMMARY:Purple and Gold Events
DESCRIPTION:TBD\n—\nEvent Details: https://hub.houghton.edu/rsvp?id=385308
URL:https://www.houghton.edu/event/purple-and-gold-events-2/
LOCATION:Sign in to download the location
CATEGORIES:CAB
END:VEVENT
BEGIN:VEVENT
DTSTART;TZID=America/New_York:20260930T210000
DTEND;TZID=America/New_York:20260930T230000
DTSTAMP:20260424T080858
CREATED:20260421T101950Z
LAST-MODIFIED:20260424T101953Z
UID:10003096-1790802000-1790809200@www.houghton.edu
SUMMARY:Purple and Gold Events
DESCRIPTION:TBD\n—\nEvent Details: https://hub.houghton.edu/rsvp?id=385309
URL:https://www.houghton.edu/event/purple-and-gold-events-3/
LOCATION:Sign in to download the location
CATEGORIES:CAB
END:VEVENT
BEGIN:VEVENT
DTSTART;TZID=America/New_York:20261001T210000
DTEND;TZID=America/New_York:20261001T230000
DTSTAMP:20260424T080858
CREATED:20260421T101950Z
LAST-MODIFIED:20260424T101953Z
UID:10003097-1790888400-1790895600@www.houghton.edu
SUMMARY:Purple and Gold Events
DESCRIPTION:TBD\n—\nEvent Details: https://hub.houghton.edu/rsvp?id=385310
URL:https://www.houghton.edu/event/purple-and-gold-events-4/
LOCATION:Sign in to download the location
CATEGORIES:CAB
END:VEVENT
BEGIN:VEVENT
DTSTART;TZID=America/New_York:20261002T210000
DTEND;TZID=America/New_York:20261002T230000
DTSTAMP:20260424T080858
CREATED:20260421T101950Z
LAST-MODIFIED:20260424T101953Z
UID:10003098-1790974800-1790982000@www.houghton.edu
SUMMARY:Purple and Gold Events
DESCRIPTION:TBD\n—\nEvent Details: https://hub.houghton.edu/rsvp?id=385311
URL:https://www.houghton.edu/event/purple-and-gold-events-5/
LOCATION:Sign in to download the location
CATEGORIES:CAB
END:VEVENT
BEGIN:VEVENT
DTSTART;TZID=America/New_York:20261003T210000
DTEND;TZID=America/New_York:20261003T230000
DTSTAMP:20260424T080858
CREATED:20260421T101950Z
LAST-MODIFIED:20260424T101953Z
UID:10003099-1791061200-1791068400@www.houghton.edu
SUMMARY:CAB SPOT
DESCRIPTION:SPOT\n—\nEvent Details: https://hub.houghton.edu/rsvp?id=385306
URL:https://www.houghton.edu/event/cab-spot/
LOCATION:Sign in to download the location
CATEGORIES:CAB
END:VEVENT
BEGIN:VEVENT
DTSTART;TZID=America/New_York:20261208T220000
DTEND;TZID=America/New_York:20261208T230000
DTSTAMP:20260424T080858
CREATED:20260421T101951Z
LAST-MODIFIED:20260424T101953Z
UID:10003100-1796767200-1796770800@www.houghton.edu
SUMMARY:Late Night Breakfast
DESCRIPTION:Late Night Breakfast!\n—\nEvent Details: https://hub.houghton.edu/rsvp?id=385312
URL:https://www.houghton.edu/event/late-night-breakfast-3/
LOCATION:Sign in to download the location
CATEGORIES:CAB
END:VEVENT
BEGIN:VEVENT
DTSTART;TZID=America/New_York:20270308T210000
DTEND;TZID=America/New_York:20270308T230000
DTSTAMP:20260424T080858
CREATED:20260421T101951Z
LAST-MODIFIED:20260424T101954Z
UID:10003101-1804539600-1804546800@www.houghton.edu
SUMMARY:Hall Brawl
DESCRIPTION:Hall Brawl events\n—\nEvent Details: https://hub.houghton.edu/rsvp?id=385313
URL:https://www.houghton.edu/event/hall-brawl-2/
LOCATION:Sign in to download the location
CATEGORIES:CAB
END:VEVENT
BEGIN:VEVENT
DTSTART;TZID=America/New_York:20270309T210000
DTEND;TZID=America/New_York:20270309T230000
DTSTAMP:20260424T080858
CREATED:20260421T101951Z
LAST-MODIFIED:20260424T101954Z
UID:10003102-1804626000-1804633200@www.houghton.edu
SUMMARY:Hall Brawl
DESCRIPTION:Hall Brawl events\n—\nEvent Details: https://hub.houghton.edu/rsvp?id=385314
URL:https://www.houghton.edu/event/hall-brawl-3/
LOCATION:Sign in to download the location
CATEGORIES:CAB
END:VEVENT
BEGIN:VEVENT
DTSTART;TZID=America/New_York:20270310T210000
DTEND;TZID=America/New_York:20270310T230000
DTSTAMP:20260424T080858
CREATED:20260421T101951Z
LAST-MODIFIED:20260424T101954Z
UID:10003103-1804712400-1804719600@www.houghton.edu
SUMMARY:Hall Brawl
DESCRIPTION:Hall Brawl events\n—\nEvent Details: https://hub.houghton.edu/rsvp?id=385315
URL:https://www.houghton.edu/event/hall-brawl-4/
LOCATION:Sign in to download the location
CATEGORIES:CAB
END:VEVENT
BEGIN:VEVENT
DTSTART;TZID=America/New_York:20270311T210000
DTEND;TZID=America/New_York:20270311T230000
DTSTAMP:20260424T080858
CREATED:20260421T101951Z
LAST-MODIFIED:20260424T101954Z
UID:10003104-1804798800-1804806000@www.houghton.edu
SUMMARY:Hall Brawl
DESCRIPTION:Hall Brawl events\n—\nEvent Details: https://hub.houghton.edu/rsvp?id=385316
URL:https://www.houghton.edu/event/hall-brawl-5/
LOCATION:Sign in to download the location
CATEGORIES:CAB
END:VEVENT
BEGIN:VEVENT
DTSTART;TZID=America/New_York:20270312T210000
DTEND;TZID=America/New_York:20270312T230000
DTSTAMP:20260424T080858
CREATED:20260421T101951Z
LAST-MODIFIED:20260424T101954Z
UID:10003105-1804885200-1804892400@www.houghton.edu
SUMMARY:Hall Brawl
DESCRIPTION:Hall Brawl events\n—\nEvent Details: https://hub.houghton.edu/rsvp?id=385317
URL:https://www.houghton.edu/event/hall-brawl-6/
LOCATION:Sign in to download the location
CATEGORIES:CAB
END:VEVENT
BEGIN:VEVENT
DTSTART;TZID=America/New_York:20270313T210000
DTEND;TZID=America/New_York:20270313T230000
DTSTAMP:20260424T080858
CREATED:20260421T101951Z
LAST-MODIFIED:20260424T101954Z
UID:10003106-1804971600-1804978800@www.houghton.edu
SUMMARY:SPOT
DESCRIPTION:SPOT\n—\nEvent Details: https://hub.houghton.edu/rsvp?id=385318
URL:https://www.houghton.edu/event/spot/
LOCATION:Sign in to download the location
CATEGORIES:CAB
END:VEVENT
BEGIN:VEVENT
DTSTART;TZID=America/New_York:20270410T210000
DTEND;TZID=America/New_York:20270410T230000
DTSTAMP:20260424T080858
CREATED:20260421T101951Z
LAST-MODIFIED:20260424T101954Z
UID:10003107-1807390800-1807398000@www.houghton.edu
SUMMARY:Roller Skating
DESCRIPTION:Roller Skating\n—\nEvent Details: https://hub.houghton.edu/rsvp?id=385319
URL:https://www.houghton.edu/event/roller-skating/
LOCATION:Sign in to download the location
CATEGORIES:CAB
END:VEVENT
END:VCALENDAR