


BEGIN:VCALENDAR
VERSION:2.0
PRODID:-//Houghton University - ECPv6.15.20//NONSGML v1.0//EN
CALSCALE:GREGORIAN
METHOD:PUBLISH
X-ORIGINAL-URL:https://www.houghton.edu
X-WR-CALDESC:Events for Houghton University
REFRESH-INTERVAL;VALUE=DURATION:PT1H
X-Robots-Tag:noindex
X-PUBLISHED-TTL:PT1H
BEGIN:VTIMEZONE
TZID:America/New_York
BEGIN:DAYLIGHT
TZOFFSETFROM:-0500
TZOFFSETTO:-0400
TZNAME:EDT
DTSTART:20240310T070000
END:DAYLIGHT
BEGIN:STANDARD
TZOFFSETFROM:-0400
TZOFFSETTO:-0500
TZNAME:EST
DTSTART:20241103T060000
END:STANDARD
BEGIN:DAYLIGHT
TZOFFSETFROM:-0500
TZOFFSETTO:-0400
TZNAME:EDT
DTSTART:20250309T070000
END:DAYLIGHT
BEGIN:STANDARD
TZOFFSETFROM:-0400
TZOFFSETTO:-0500
TZNAME:EST
DTSTART:20251102T060000
END:STANDARD
BEGIN:DAYLIGHT
TZOFFSETFROM:-0500
TZOFFSETTO:-0400
TZNAME:EDT
DTSTART:20260308T070000
END:DAYLIGHT
BEGIN:STANDARD
TZOFFSETFROM:-0400
TZOFFSETTO:-0500
TZNAME:EST
DTSTART:20261101T060000
END:STANDARD
END:VTIMEZONE
BEGIN:VEVENT
DTSTART;TZID=America/New_York:20251114T210000
DTEND;TZID=America/New_York:20251114T223000
DTSTAMP:20260424T095119
CREATED:20251111T014944Z
LAST-MODIFIED:20251114T020539Z
UID:10002766-1763154000-1763159400@www.houghton.edu
SUMMARY:Student vs Faculty Basketball Game
DESCRIPTION:A basketball game between our very own Houghton Faculty and Teachers vs 12 randomly selected Houghton students. This will take place on Friday\, November 14th at 9 pm\, you won’t want to miss it! — Event Details: https://hub.houghton.edu/rsvp?id=384606
URL:https://www.houghton.edu/event/student-vs-faculty-basketball-game/
LOCATION:Nielsen Center\, 1 Willard Ave\, Houghton\, NY\, United States
CATEGORIES:CAB
GEO:42.42565;-78.157131
X-APPLE-STRUCTURED-LOCATION;VALUE=URI;X-ADDRESS=Nielsen Center 1 Willard Ave Houghton NY United States;X-APPLE-RADIUS=500;X-TITLE=1 Willard Ave:geo:-78.157131,42.42565
END:VEVENT
BEGIN:VEVENT
DTSTART;TZID=America/New_York:20251107T190000
DTEND;TZID=America/New_York:20251107T213000
DTSTAMP:20260424T095119
CREATED:20251104T004945Z
LAST-MODIFIED:20251107T013447Z
UID:10002759-1762542000-1762551000@www.houghton.edu
SUMMARY:Mario Kart Tournament
DESCRIPTION:Join up at the Chapel to participate in the Fall 2025 Mario Kart Tournament! The Grand Prize for 1st place is $100 Flex!!  2nd\, 3rd\, and 4th place will win $25 Flex each  Here is the link for registration: https://cglink.me/2sv/s317 — Event Details: https://hub.houghton.edu/rsvp?id=384633
URL:https://www.houghton.edu/event/mario-kart-tournament/
LOCATION:Sign in to download the location
CATEGORIES:CAB
END:VEVENT
BEGIN:VEVENT
DTSTART;TZID=America/New_York:20251104T190000
DTEND;TZID=America/New_York:20251104T200000
DTSTAMP:20260424T095119
CREATED:20251028T004952Z
LAST-MODIFIED:20251104T004945Z
UID:10002744-1762282800-1762286400@www.houghton.edu
SUMMARY:Thanksgiving Trivia!
DESCRIPTION:Grab some friends and come out to Java 101 at 7 PM for a night Thanksgiving-themed Trivia!\nWhy you should come:\n– Community (duh)\n– Prizes for Top 3 teams ($50 worth!)\n– Learn something that you can tell your other subservient friends about and make them jealous of how smart you are.\n– See the amazing Wes Anderson in the flesh.\n—\nEvent Details: https://hub.houghton.edu/rsvp?id=384593
URL:https://www.houghton.edu/event/thanksgiving-trivia/
LOCATION:Sign in to download the location
CATEGORIES:CAB
END:VEVENT
BEGIN:VEVENT
DTSTART;TZID=America/New_York:20251031T210000
DTEND;TZID=America/New_York:20251031T230000
DTSTAMP:20260424T095119
CREATED:20251021T214950Z
LAST-MODIFIED:20251101T005009Z
UID:10002734-1761944400-1761951600@www.houghton.edu
SUMMARY:Shenoween
DESCRIPTION:The time is finally here\, the trees baring their spookiest costumes as we all follow suit!* With startlingly scary tours going through the HOUGHTON WOODS you will end your night of frights with a terrifyingly well thrown party in the spoooky basement of Shenawana Hall\, courtesy of our friends at CAB.  *Costume Policy: Modesty is the overriding principle of Houghton’s standards of personal appearance. Every Houghton student is expected to display the maturity necessary to comply with a style of dress that is consistent with the values of the university. Dress which is too revealing or displays advertisements or language that violates or encourages the violation of community standards is unacceptable and may result in disciplinary action (Student Guide 2025-2026). Please use common sense when choosing a costume. Avoid any costumes with full face masks\, elements of extreme violence (avoid prop weapons)\, racial insensitivity or sexual misconduct.    — Event Details: https://hub.houghton.edu/rsvp?id=384570
URL:https://www.houghton.edu/event/shenoween-2/
LOCATION:Sign in to download the location
CATEGORIES:CAB,SHEN,Students
END:VEVENT
BEGIN:VEVENT
DTSTART;TZID=America/New_York:20251024T180000
DTEND;TZID=America/New_York:20251024T200000
DTSTAMP:20260424T095119
CREATED:20251022T000510Z
LAST-MODIFIED:20251024T003544Z
UID:10002736-1761328800-1761336000@www.houghton.edu
SUMMARY:Board Game Night
DESCRIPTION:Come to Van Dyk Lounge to enjoy some board games with your peers!\n—\nEvent Details: https://hub.houghton.edu/rsvp?id=384568
URL:https://www.houghton.edu/event/board-game-night/
LOCATION:Sign in to download the location
CATEGORIES:CAB
END:VEVENT
BEGIN:VEVENT
DTSTART;TZID=America/New_York:20251023T200000
DTEND;TZID=America/New_York:20251023T210000
DTSTAMP:20260424T095119
CREATED:20251022T000509Z
LAST-MODIFIED:20251023T002000Z
UID:10002735-1761249600-1761253200@www.houghton.edu
SUMMARY:Comedy House
DESCRIPTION:Coffee Night has been transformed into a night of comedy! (a.k.a. Comedy House)\n—\nEvent Details: https://hub.houghton.edu/rsvp?id=384569
URL:https://www.houghton.edu/event/comedy-house/
LOCATION:Java 101\, 1 Willard Ave\, Houghton\, NY\, United States
CATEGORIES:CAB
GEO:42.42565;-78.157131
X-APPLE-STRUCTURED-LOCATION;VALUE=URI;X-ADDRESS=Java 101 1 Willard Ave Houghton NY United States;X-APPLE-RADIUS=500;X-TITLE=1 Willard Ave:geo:-78.157131,42.42565
END:VEVENT
BEGIN:VEVENT
DTSTART;TZID=America/New_York:20250909T104500
DTEND;TZID=America/New_York:20250909T123000
DTSTAMP:20260424T095119
CREATED:20250805T212012Z
LAST-MODIFIED:20250909T033450Z
UID:10002528-1757414700-1757421000@www.houghton.edu
SUMMARY:Community Connections Fair 2025
DESCRIPTION:Open to all students – learn about ways you can get involved on campus\, in a local church\, and in the wider community!  If your local organization would like to request a booth\, fill out that registration here or contact rachel.wright@houghton.edu. Spaces are limited\, so please expect a confirmation email ahead of the event. — Event Details: https://hub.houghton.edu/rsvp?id=383125
URL:https://www.houghton.edu/event/community-connections-fair-2025/
LOCATION:Sign in to download the location
CATEGORIES:Alumni,CAB,Center for Student Success,EPIC,GSOM,Students
END:VEVENT
END:VCALENDAR