


BEGIN:VCALENDAR
VERSION:2.0
PRODID:-//Houghton University - ECPv6.15.20//NONSGML v1.0//EN
CALSCALE:GREGORIAN
METHOD:PUBLISH
X-ORIGINAL-URL:https://www.houghton.edu
X-WR-CALDESC:Events for Houghton University
REFRESH-INTERVAL;VALUE=DURATION:PT1H
X-Robots-Tag:noindex
X-PUBLISHED-TTL:PT1H
BEGIN:VTIMEZONE
TZID:America/New_York
BEGIN:DAYLIGHT
TZOFFSETFROM:-0500
TZOFFSETTO:-0400
TZNAME:EDT
DTSTART:20250309T070000
END:DAYLIGHT
BEGIN:STANDARD
TZOFFSETFROM:-0400
TZOFFSETTO:-0500
TZNAME:EST
DTSTART:20251102T060000
END:STANDARD
BEGIN:DAYLIGHT
TZOFFSETFROM:-0500
TZOFFSETTO:-0400
TZNAME:EDT
DTSTART:20260308T070000
END:DAYLIGHT
BEGIN:STANDARD
TZOFFSETFROM:-0400
TZOFFSETTO:-0500
TZNAME:EST
DTSTART:20261101T060000
END:STANDARD
BEGIN:DAYLIGHT
TZOFFSETFROM:-0500
TZOFFSETTO:-0400
TZNAME:EDT
DTSTART:20270314T070000
END:DAYLIGHT
BEGIN:STANDARD
TZOFFSETFROM:-0400
TZOFFSETTO:-0500
TZNAME:EST
DTSTART:20271107T060000
END:STANDARD
BEGIN:DAYLIGHT
TZOFFSETFROM:-0500
TZOFFSETTO:-0400
TZNAME:EDT
DTSTART:20280312T070000
END:DAYLIGHT
BEGIN:STANDARD
TZOFFSETFROM:-0400
TZOFFSETTO:-0500
TZNAME:EST
DTSTART:20281105T060000
END:STANDARD
END:VTIMEZONE
BEGIN:VEVENT
DTSTART;TZID=America/New_York:20261002T210000
DTEND;TZID=America/New_York:20261002T230000
DTSTAMP:20260422T213421
CREATED:20260421T101950Z
LAST-MODIFIED:20260422T101959Z
UID:10003098-1790974800-1790982000@www.houghton.edu
SUMMARY:Purple and Gold Events
DESCRIPTION:TBD\n—\nEvent Details: https://hub.houghton.edu/rsvp?id=385311
URL:https://www.houghton.edu/event/purple-and-gold-events-5/
LOCATION:Sign in to download the location
CATEGORIES:CAB
END:VEVENT
BEGIN:VEVENT
DTSTART;TZID=America/New_York:20261003T210000
DTEND;TZID=America/New_York:20261003T230000
DTSTAMP:20260422T213421
CREATED:20260421T101950Z
LAST-MODIFIED:20260422T101959Z
UID:10003099-1791061200-1791068400@www.houghton.edu
SUMMARY:CAB SPOT
DESCRIPTION:SPOT\n—\nEvent Details: https://hub.houghton.edu/rsvp?id=385306
URL:https://www.houghton.edu/event/cab-spot/
LOCATION:Sign in to download the location
CATEGORIES:CAB
END:VEVENT
BEGIN:VEVENT
DTSTART;TZID=America/New_York:20261208T220000
DTEND;TZID=America/New_York:20261208T230000
DTSTAMP:20260422T213421
CREATED:20260421T101951Z
LAST-MODIFIED:20260422T102000Z
UID:10003100-1796767200-1796770800@www.houghton.edu
SUMMARY:Late Night Breakfast
DESCRIPTION:Late Night Breakfast!\n—\nEvent Details: https://hub.houghton.edu/rsvp?id=385312
URL:https://www.houghton.edu/event/late-night-breakfast-3/
LOCATION:Sign in to download the location
CATEGORIES:CAB
END:VEVENT
BEGIN:VEVENT
DTSTART;TZID=America/New_York:20270308T210000
DTEND;TZID=America/New_York:20270308T230000
DTSTAMP:20260422T213421
CREATED:20260421T101951Z
LAST-MODIFIED:20260422T102000Z
UID:10003101-1804539600-1804546800@www.houghton.edu
SUMMARY:Hall Brawl
DESCRIPTION:Hall Brawl events\n—\nEvent Details: https://hub.houghton.edu/rsvp?id=385313
URL:https://www.houghton.edu/event/hall-brawl-2/
LOCATION:Sign in to download the location
CATEGORIES:CAB
END:VEVENT
BEGIN:VEVENT
DTSTART;TZID=America/New_York:20270309T210000
DTEND;TZID=America/New_York:20270309T230000
DTSTAMP:20260422T213421
CREATED:20260421T101951Z
LAST-MODIFIED:20260422T102000Z
UID:10003102-1804626000-1804633200@www.houghton.edu
SUMMARY:Hall Brawl
DESCRIPTION:Hall Brawl events\n—\nEvent Details: https://hub.houghton.edu/rsvp?id=385314
URL:https://www.houghton.edu/event/hall-brawl-3/
LOCATION:Sign in to download the location
CATEGORIES:CAB
END:VEVENT
BEGIN:VEVENT
DTSTART;TZID=America/New_York:20270310T210000
DTEND;TZID=America/New_York:20270310T230000
DTSTAMP:20260422T213421
CREATED:20260421T101951Z
LAST-MODIFIED:20260422T102000Z
UID:10003103-1804712400-1804719600@www.houghton.edu
SUMMARY:Hall Brawl
DESCRIPTION:Hall Brawl events\n—\nEvent Details: https://hub.houghton.edu/rsvp?id=385315
URL:https://www.houghton.edu/event/hall-brawl-4/
LOCATION:Sign in to download the location
CATEGORIES:CAB
END:VEVENT
BEGIN:VEVENT
DTSTART;TZID=America/New_York:20270311T210000
DTEND;TZID=America/New_York:20270311T230000
DTSTAMP:20260422T213421
CREATED:20260421T101951Z
LAST-MODIFIED:20260422T102000Z
UID:10003104-1804798800-1804806000@www.houghton.edu
SUMMARY:Hall Brawl
DESCRIPTION:Hall Brawl events\n—\nEvent Details: https://hub.houghton.edu/rsvp?id=385316
URL:https://www.houghton.edu/event/hall-brawl-5/
LOCATION:Sign in to download the location
CATEGORIES:CAB
END:VEVENT
BEGIN:VEVENT
DTSTART;TZID=America/New_York:20270312T210000
DTEND;TZID=America/New_York:20270312T230000
DTSTAMP:20260422T213421
CREATED:20260421T101951Z
LAST-MODIFIED:20260422T102000Z
UID:10003105-1804885200-1804892400@www.houghton.edu
SUMMARY:Hall Brawl
DESCRIPTION:Hall Brawl events\n—\nEvent Details: https://hub.houghton.edu/rsvp?id=385317
URL:https://www.houghton.edu/event/hall-brawl-6/
LOCATION:Sign in to download the location
CATEGORIES:CAB
END:VEVENT
BEGIN:VEVENT
DTSTART;TZID=America/New_York:20270313T210000
DTEND;TZID=America/New_York:20270313T230000
DTSTAMP:20260422T213421
CREATED:20260421T101951Z
LAST-MODIFIED:20260422T102001Z
UID:10003106-1804971600-1804978800@www.houghton.edu
SUMMARY:SPOT
DESCRIPTION:SPOT\n—\nEvent Details: https://hub.houghton.edu/rsvp?id=385318
URL:https://www.houghton.edu/event/spot/
LOCATION:Sign in to download the location
CATEGORIES:CAB
END:VEVENT
BEGIN:VEVENT
DTSTART;TZID=America/New_York:20270410T210000
DTEND;TZID=America/New_York:20270410T230000
DTSTAMP:20260422T213421
CREATED:20260421T101951Z
LAST-MODIFIED:20260422T102001Z
UID:10003107-1807390800-1807398000@www.houghton.edu
SUMMARY:Roller Skating
DESCRIPTION:Roller Skating\n—\nEvent Details: https://hub.houghton.edu/rsvp?id=385319
URL:https://www.houghton.edu/event/roller-skating/
LOCATION:Sign in to download the location
CATEGORIES:CAB
END:VEVENT
END:VCALENDAR