


BEGIN:VCALENDAR
VERSION:2.0
PRODID:-//Houghton University - ECPv6.15.20//NONSGML v1.0//EN
CALSCALE:GREGORIAN
METHOD:PUBLISH
X-ORIGINAL-URL:https://www.houghton.edu
X-WR-CALDESC:Events for Houghton University
REFRESH-INTERVAL;VALUE=DURATION:PT1H
X-Robots-Tag:noindex
X-PUBLISHED-TTL:PT1H
BEGIN:VTIMEZONE
TZID:America/New_York
BEGIN:DAYLIGHT
TZOFFSETFROM:-0500
TZOFFSETTO:-0400
TZNAME:EDT
DTSTART:20250309T070000
END:DAYLIGHT
BEGIN:STANDARD
TZOFFSETFROM:-0400
TZOFFSETTO:-0500
TZNAME:EST
DTSTART:20251102T060000
END:STANDARD
BEGIN:DAYLIGHT
TZOFFSETFROM:-0500
TZOFFSETTO:-0400
TZNAME:EDT
DTSTART:20260308T070000
END:DAYLIGHT
BEGIN:STANDARD
TZOFFSETFROM:-0400
TZOFFSETTO:-0500
TZNAME:EST
DTSTART:20261101T060000
END:STANDARD
BEGIN:DAYLIGHT
TZOFFSETFROM:-0500
TZOFFSETTO:-0400
TZNAME:EDT
DTSTART:20270314T070000
END:DAYLIGHT
BEGIN:STANDARD
TZOFFSETFROM:-0400
TZOFFSETTO:-0500
TZNAME:EST
DTSTART:20271107T060000
END:STANDARD
END:VTIMEZONE
BEGIN:VEVENT
DTSTART;TZID=America/New_York:20260113T110000
DTEND;TZID=America/New_York:20260113T120000
DTSTAMP:20260419T150333
CREATED:20251015T224955Z
LAST-MODIFIED:20260112T033453Z
UID:10002703-1768302000-1768305600@www.houghton.edu
SUMMARY:Open Pickleball
DESCRIPTION:Offering open play pickleball twice a week for beginners to advanced players.\n—\nEvent Details: https://hub.houghton.edu/rsvp?id=384526
URL:https://www.houghton.edu/event/open-pickleball-14/
LOCATION:Sign in to download the location
CATEGORIES:CAMPUSLIFE
END:VEVENT
BEGIN:VEVENT
DTSTART;TZID=America/New_York:20260115T110000
DTEND;TZID=America/New_York:20260115T120000
DTSTAMP:20260419T150333
CREATED:20251015T224955Z
LAST-MODIFIED:20260112T033454Z
UID:10002704-1768474800-1768478400@www.houghton.edu
SUMMARY:Open Pickleball
DESCRIPTION:Offering open play pickleball twice a week for beginners to advanced players.\n—\nEvent Details: https://hub.houghton.edu/rsvp?id=384527
URL:https://www.houghton.edu/event/open-pickleball-15/
LOCATION:Sign in to download the location
CATEGORIES:CAMPUSLIFE
END:VEVENT
BEGIN:VEVENT
DTSTART;TZID=America/New_York:20260116T163000
DTEND;TZID=America/New_York:20260116T210000
DTSTAMP:20260419T150333
CREATED:20260107T030502Z
LAST-MODIFIED:20260116T033504Z
UID:10002806-1768581000-1768597200@www.houghton.edu
SUMMARY:Activate Leadership Conference 2026
DESCRIPTION:Houghton University students are invited to participate in the 9th annual Activate Leadership Conference on Friday\, January 16\, 2026.  This conference on campus will include a keynote speaker\, Dr. Erika Young Reitz\, and the opportunity to learn more about your strengths and abilities as a leader.   Please RSVP on the HUB or by emailing katie.breitigan@houghton.edu to confirm your attendance!   Keynote Speaker: Erica Young Reitz Dress Code: Business Casual — Event Details: https://hub.houghton.edu/rsvp?id=384804
URL:https://www.houghton.edu/event/activate-leadership-conference-2026/
LOCATION:Sign in to download the location
CATEGORIES:CAMPUSLIFE
END:VEVENT
BEGIN:VEVENT
DTSTART;TZID=America/New_York:20260117T090000
DTEND;TZID=America/New_York:20260117T170000
DTSTAMP:20260419T150333
CREATED:20251220T023455Z
LAST-MODIFIED:20260117T034951Z
UID:10002801-1768640400-1768669200@www.houghton.edu
SUMMARY:Honors at Houghton Interview Day II
DESCRIPTION:Admission will host it’s second of two Honors at Houghton Interview Days.\n—\nEvent Details: https://hub.houghton.edu/rsvp?id=384741
URL:https://www.houghton.edu/event/honors-at-houghton-interview-day-ii/
LOCATION:Sign in to download the location
CATEGORIES:CAMPUSLIFE
END:VEVENT
BEGIN:VEVENT
DTSTART;TZID=America/New_York:20260119T190000
DTEND;TZID=America/New_York:20260119T200000
DTSTAMP:20260419T150333
CREATED:20260116T033456Z
LAST-MODIFIED:20260119T035006Z
UID:10002901-1768849200-1768852800@www.houghton.edu
SUMMARY:MLK Day Evening Panel Book Discussion
DESCRIPTION:Evening panel book discussion of Kevin Slack’s\, Mother Emanuel: Two Centuries of Race\, Resistance\, and Forgiveness in One Charleston Church. The book was named to the New York Times’ Book Review’s “ten best books of 2025″. That discussion will be facilitated by Dr. Peter Meilaender and will feature Rev. Gladden\, Anna Lloyd (Houghton senior)\, and Dr. Michael Jordan (Associate Professor of Theology). The panel discussion will begin at 7:00 pm in the Center for the Arts (CFA) Recital Hall. — Event Details: https://hub.houghton.edu/rsvp?id=384893
URL:https://www.houghton.edu/event/mlk-day-evening-panel-book-discussion/
LOCATION:Sign in to download the location
CATEGORIES:CAMPUSLIFE
END:VEVENT
BEGIN:VEVENT
DTSTART;TZID=America/New_York:20260120T110000
DTEND;TZID=America/New_York:20260120T120000
DTSTAMP:20260419T150333
CREATED:20251015T224956Z
LAST-MODIFIED:20260112T033454Z
UID:10002705-1768906800-1768910400@www.houghton.edu
SUMMARY:Open Pickleball
DESCRIPTION:Offering open play pickleball twice a week for beginners to advanced players.\n—\nEvent Details: https://hub.houghton.edu/rsvp?id=384528
URL:https://www.houghton.edu/event/open-pickleball-16/
LOCATION:Sign in to download the location
CATEGORIES:CAMPUSLIFE
END:VEVENT
BEGIN:VEVENT
DTSTART;TZID=America/New_York:20260122T110000
DTEND;TZID=America/New_York:20260122T120000
DTSTAMP:20260419T150333
CREATED:20251015T224956Z
LAST-MODIFIED:20260112T033454Z
UID:10002706-1769079600-1769083200@www.houghton.edu
SUMMARY:Open Pickleball
DESCRIPTION:Offering open play pickleball twice a week for beginners to advanced players.\n—\nEvent Details: https://hub.houghton.edu/rsvp?id=384529
URL:https://www.houghton.edu/event/open-pickleball-17/
LOCATION:Sign in to download the location
CATEGORIES:CAMPUSLIFE
END:VEVENT
BEGIN:VEVENT
DTSTART;TZID=America/New_York:20260127T110000
DTEND;TZID=America/New_York:20260127T120000
DTSTAMP:20260419T150333
CREATED:20251015T224956Z
LAST-MODIFIED:20260112T033454Z
UID:10002707-1769511600-1769515200@www.houghton.edu
SUMMARY:Open Pickleball
DESCRIPTION:Offering open play pickleball twice a week for beginners to advanced players.\n—\nEvent Details: https://hub.houghton.edu/rsvp?id=384530
URL:https://www.houghton.edu/event/open-pickleball-18/
LOCATION:Sign in to download the location
CATEGORIES:CAMPUSLIFE
END:VEVENT
BEGIN:VEVENT
DTSTART;TZID=America/New_York:20260129T110000
DTEND;TZID=America/New_York:20260129T120000
DTSTAMP:20260419T150333
CREATED:20251015T224956Z
LAST-MODIFIED:20260112T033455Z
UID:10002708-1769684400-1769688000@www.houghton.edu
SUMMARY:Open Pickleball
DESCRIPTION:Offering open play pickleball twice a week for beginners to advanced players.\n—\nEvent Details: https://hub.houghton.edu/rsvp?id=384531
URL:https://www.houghton.edu/event/open-pickleball-19/
LOCATION:Sign in to download the location
CATEGORIES:CAMPUSLIFE
END:VEVENT
END:VCALENDAR