


BEGIN:VCALENDAR
VERSION:2.0
PRODID:-//Houghton University - ECPv6.15.20//NONSGML v1.0//EN
CALSCALE:GREGORIAN
METHOD:PUBLISH
X-WR-CALNAME:Houghton University
X-ORIGINAL-URL:https://www.houghton.edu
X-WR-CALDESC:Events for Houghton University
REFRESH-INTERVAL;VALUE=DURATION:PT1H
X-Robots-Tag:noindex
X-PUBLISHED-TTL:PT1H
BEGIN:VTIMEZONE
TZID:America/New_York
BEGIN:DAYLIGHT
TZOFFSETFROM:-0500
TZOFFSETTO:-0400
TZNAME:EDT
DTSTART:20250309T070000
END:DAYLIGHT
BEGIN:STANDARD
TZOFFSETFROM:-0400
TZOFFSETTO:-0500
TZNAME:EST
DTSTART:20251102T060000
END:STANDARD
BEGIN:DAYLIGHT
TZOFFSETFROM:-0500
TZOFFSETTO:-0400
TZNAME:EDT
DTSTART:20260308T070000
END:DAYLIGHT
BEGIN:STANDARD
TZOFFSETFROM:-0400
TZOFFSETTO:-0500
TZNAME:EST
DTSTART:20261101T060000
END:STANDARD
BEGIN:DAYLIGHT
TZOFFSETFROM:-0500
TZOFFSETTO:-0400
TZNAME:EDT
DTSTART:20270314T070000
END:DAYLIGHT
BEGIN:STANDARD
TZOFFSETFROM:-0400
TZOFFSETTO:-0500
TZNAME:EST
DTSTART:20271107T060000
END:STANDARD
END:VTIMEZONE
BEGIN:VEVENT
DTSTART;TZID=America/New_York:20260219T190000
DTEND;TZID=America/New_York:20260219T203000
DTSTAMP:20260421T075258
CREATED:20260128T040502Z
LAST-MODIFIED:20260219T044950Z
UID:10002960-1771527600-1771533000@www.houghton.edu
SUMMARY:37th Annual Juried Student Art Exhibition--Reception & Awards Ceremony
DESCRIPTION:Join us to celebrate the artistic achievements of our students!   Thursday\, February 19\, 7-8:30PM\, Ortlip Gallery\, CFA (Awards ceremony around 7:30)  Featuring artwork in a wide range of visual media\, this is a competitive exhibition which every year is judged by an independent member of the art community. This year’s juror is Emma Brittain\, an accomplished interdisciplinary artist\, art educator\, and community builder based in Buffalo\, NY. Her work centers on real and symbolic relationships between humans and the natural world. She finds comfort and conviction in the codependence of us all. Visit emmabrittainart.com for more.  This event is free\, and open to the public. Light refreshments will be served.   The Juried Show will be on display February 19-March 27\, 2026 Gallery Hours: Mon-Sat 9-6  Questions? Contact Ian Campbell\, Director of Exhibitions: ian.campbell@houghton.edu     Dress Code: Casual (jeans ok) — Event Details: https://hub.houghton.edu/rsvp?id=384988
URL:https://www.houghton.edu/event/37th-annual-juried-student-art-exhibition-reception-awards-ceremony/
LOCATION:Sign in to download the location
CATEGORIES:CAMPUSLIFE
END:VEVENT
BEGIN:VEVENT
DTSTART;TZID=America/New_York:20260224T110000
DTEND;TZID=America/New_York:20260224T120000
DTSTAMP:20260421T075258
CREATED:20251015T224959Z
LAST-MODIFIED:20260112T033458Z
UID:10002715-1771930800-1771934400@www.houghton.edu
SUMMARY:Open Pickleball
DESCRIPTION:Offering open play pickleball twice a week for beginners to advanced players.\n—\nEvent Details: https://hub.houghton.edu/rsvp?id=384538
URL:https://www.houghton.edu/event/open-pickleball-26/
LOCATION:Sign in to download the location
CATEGORIES:CAMPUSLIFE
END:VEVENT
BEGIN:VEVENT
DTSTART;TZID=America/New_York:20260226T110000
DTEND;TZID=America/New_York:20260226T120000
DTSTAMP:20260421T075258
CREATED:20251015T224959Z
LAST-MODIFIED:20260112T033458Z
UID:10002716-1772103600-1772107200@www.houghton.edu
SUMMARY:Open Pickleball
DESCRIPTION:Offering open play pickleball twice a week for beginners to advanced players.\n—\nEvent Details: https://hub.houghton.edu/rsvp?id=384539
URL:https://www.houghton.edu/event/open-pickleball-27/
LOCATION:Sign in to download the location
CATEGORIES:CAMPUSLIFE
END:VEVENT
BEGIN:VEVENT
DTSTART;TZID=America/New_York:20260310T110000
DTEND;TZID=America/New_York:20260310T120000
DTSTAMP:20260421T075258
CREATED:20251015T224959Z
LAST-MODIFIED:20260112T033459Z
UID:10002717-1773140400-1773144000@www.houghton.edu
SUMMARY:Open Pickleball
DESCRIPTION:Offering open play pickleball twice a week for beginners to advanced players.\n—\nEvent Details: https://hub.houghton.edu/rsvp?id=384540
URL:https://www.houghton.edu/event/open-pickleball-28/
LOCATION:Sign in to download the location
CATEGORIES:CAMPUSLIFE
END:VEVENT
BEGIN:VEVENT
DTSTART;TZID=America/New_York:20260310T190000
DTEND;TZID=America/New_York:20260310T200000
DTSTAMP:20260421T075258
CREATED:20260210T041959Z
LAST-MODIFIED:20260310T055003Z
UID:10002982-1773169200-1773172800@www.houghton.edu
SUMMARY:Panel Discussion: Is Missions Neocolonialism?
DESCRIPTION:This panel discussion will examine the question\, “Is missions neocolonialism?” Kara Campbell\, Sam Kocheri\, and Margie Doty will discuss historical and contemporary perspectives on mission work. — Event Details: https://hub.houghton.edu/rsvp?id=385072
URL:https://www.houghton.edu/event/panel-discussion-is-missions-neocolonialism/
LOCATION:Sign in to download the location
CATEGORIES:CAMPUSLIFE
END:VEVENT
BEGIN:VEVENT
DTSTART;TZID=America/New_York:20260312T110000
DTEND;TZID=America/New_York:20260312T120000
DTSTAMP:20260421T075258
CREATED:20251015T225000Z
LAST-MODIFIED:20260112T033459Z
UID:10002718-1773313200-1773316800@www.houghton.edu
SUMMARY:Open Pickleball
DESCRIPTION:Offering open play pickleball twice a week for beginners to advanced players.\n—\nEvent Details: https://hub.houghton.edu/rsvp?id=384541
URL:https://www.houghton.edu/event/open-pickleball-29/
LOCATION:Sign in to download the location
CATEGORIES:CAMPUSLIFE
END:VEVENT
BEGIN:VEVENT
DTSTART;TZID=America/New_York:20260317T110000
DTEND;TZID=America/New_York:20260317T120000
DTSTAMP:20260421T075258
CREATED:20251015T225000Z
LAST-MODIFIED:20260112T033500Z
UID:10002719-1773745200-1773748800@www.houghton.edu
SUMMARY:Open Pickleball
DESCRIPTION:Offering open play pickleball twice a week for beginners to advanced players.\n—\nEvent Details: https://hub.houghton.edu/rsvp?id=384542
URL:https://www.houghton.edu/event/open-pickleball-30/
LOCATION:Sign in to download the location
CATEGORIES:CAMPUSLIFE
END:VEVENT
BEGIN:VEVENT
DTSTART;TZID=America/New_York:20260319T110000
DTEND;TZID=America/New_York:20260319T120000
DTSTAMP:20260421T075258
CREATED:20251015T225001Z
LAST-MODIFIED:20260112T033500Z
UID:10002720-1773918000-1773921600@www.houghton.edu
SUMMARY:Open Pickleball
DESCRIPTION:Offering open play pickleball twice a week for beginners to advanced players.\n—\nEvent Details: https://hub.houghton.edu/rsvp?id=384543
URL:https://www.houghton.edu/event/open-pickleball-31/
LOCATION:Sign in to download the location
CATEGORIES:CAMPUSLIFE
END:VEVENT
BEGIN:VEVENT
DTSTART;TZID=America/New_York:20260319T110000
DTEND;TZID=America/New_York:20260319T120000
DTSTAMP:20260421T075258
CREATED:20260219T044952Z
LAST-MODIFIED:20260319T055626Z
UID:10003002-1773918000-1773921600@www.houghton.edu
SUMMARY:Rank & Tenure Celebration
DESCRIPTION:Please join us at this casual gathering to celebrate those faculty members receiving promotions or receiving tenure this year.\nDress Code: Casual (jeans ok)\n—\nEvent Details: https://hub.houghton.edu/rsvp?id=385123
URL:https://www.houghton.edu/event/rank-tenure-celebration/
LOCATION:Van Dyk Lounge\, 1 Willard Ave\, Houghton\, NY\, United States
CATEGORIES:CAMPUSLIFE
GEO:42.42565;-78.157131
X-APPLE-STRUCTURED-LOCATION;VALUE=URI;X-ADDRESS=Van Dyk Lounge 1 Willard Ave Houghton NY United States;X-APPLE-RADIUS=500;X-TITLE=1 Willard Ave:geo:-78.157131,42.42565
END:VEVENT
BEGIN:VEVENT
DTSTART;TZID=America/New_York:20260319T162500
DTEND;TZID=America/New_York:20260319T172500
DTSTAMP:20260421T075258
CREATED:20260214T043455Z
LAST-MODIFIED:20260319T055626Z
UID:10003000-1773937500-1773941100@www.houghton.edu
SUMMARY:Faculty Lecture Series - Benjamin Lipscomb
DESCRIPTION:Join us for the second Faculty Lecture in the Spring 2026 Series\nDress Code: Casual (jeans ok)\n—\nEvent Details: https://hub.houghton.edu/rsvp?id=385115
URL:https://www.houghton.edu/event/faculty-lecture-series-benjamin-lipscomb/
LOCATION:Sign in to download the location
CATEGORIES:CAMPUSLIFE
END:VEVENT
BEGIN:VEVENT
DTSTART;TZID=America/New_York:20260319T183000
DTEND;TZID=America/New_York:20260319T191500
DTSTAMP:20260421T075258
CREATED:20260314T054957Z
LAST-MODIFIED:20260319T055627Z
UID:10003044-1773945000-1773947700@www.houghton.edu
SUMMARY:AI & Academic Research
DESCRIPTION:AI & Academic Research\n—\nEvent Details: https://hub.houghton.edu/rsvp?id=385196
URL:https://www.houghton.edu/event/ai-academic-research/
LOCATION:Sign in to download the location
CATEGORIES:CAMPUSLIFE
END:VEVENT
BEGIN:VEVENT
DTSTART;TZID=America/New_York:20260320T190000
DTEND;TZID=America/New_York:20260320T200000
DTSTAMP:20260421T075258
CREATED:20260310T054958Z
LAST-MODIFIED:20260320T060553Z
UID:10003023-1774033200-1774036800@www.houghton.edu
SUMMARY:Rural Realities: Evening Session with Steve McVey\, Dirt Roads Network
DESCRIPTION:This is the opening event of a conference called Rural Realities. Rural Realities is co-sponsored by the University and Houghton Wesleyan Church which looks at the realities of both rural poverty and the strength of rural communities\, around America and close to Houghton.  Steve McVey is the director of the Dirt Roads Network\, which resources churches and pastors to do culturally appropriate\, meaningful ministry in rural churches. — Event Details: https://hub.houghton.edu/rsvp?id=385164
URL:https://www.houghton.edu/event/rural-realities-evening-session-with-steve-mcvey-dirt-roads-network/
LOCATION:Sign in to download the location
CATEGORIES:CAMPUSLIFE
END:VEVENT
BEGIN:VEVENT
DTSTART;TZID=America/New_York:20260321T093000
DTEND;TZID=America/New_York:20260321T103000
DTSTAMP:20260421T075258
CREATED:20260310T054958Z
LAST-MODIFIED:20260321T060510Z
UID:10003024-1774085400-1774089000@www.houghton.edu
SUMMARY:Rural Realities: Morning Session with Dr. Jason McConnell\, Rural Church Institute at Wheaton College
DESCRIPTION:The Rural Realities conference continues with an address by Dr. Jason McConnell\, the Director of the Rural Church Institute at Wheaton College.   The conference is a joint effort between HU and Houghton Wesleyan Church to help educate about the unique potential and difficulties in rural communities so that we can do the best possible ministry in our own. — Event Details: https://hub.houghton.edu/rsvp?id=385165
URL:https://www.houghton.edu/event/rural-realities-morning-session-with-dr-jason-mcconnell-rural-church-institute-at-wheaton-college/
LOCATION:Sign in to download the location
CATEGORIES:CAMPUSLIFE
END:VEVENT
BEGIN:VEVENT
DTSTART;TZID=America/New_York:20260321T103000
DTEND;TZID=America/New_York:20260321T113000
DTSTAMP:20260421T075258
CREATED:20260310T054958Z
LAST-MODIFIED:20260321T060510Z
UID:10003028-1774089000-1774092600@www.houghton.edu
SUMMARY:Rural Realities: Breakout Session with Belinda Knight\, ACCORD
DESCRIPTION:Belinda Knight is director of Community Operations for ACCORD\, an Allegany County Community Action Agency that helps people connect with basic needs so they can build thriving lives. — Event Details: https://hub.houghton.edu/rsvp?id=385167
URL:https://www.houghton.edu/event/rural-realities-breakout-session-with-belinda-knight-accord/
LOCATION:Sign in to download the location
CATEGORIES:CAMPUSLIFE
END:VEVENT
BEGIN:VEVENT
DTSTART;TZID=America/New_York:20260321T103000
DTEND;TZID=America/New_York:20260321T113000
DTSTAMP:20260421T075258
CREATED:20260310T054958Z
LAST-MODIFIED:20260321T060510Z
UID:10003029-1774089000-1774092600@www.houghton.edu
SUMMARY:Rural Realities: Breakout Session with Carl Greene\, "Discovering Asset-Based Rural Ministry"
DESCRIPTION:Carl Greene is the Executive Director of the Seventh Day Baptist General Conference of the United States and Canada\, and serves on the Board of Directors of the National Association of Evangelicals — Event Details: https://hub.houghton.edu/rsvp?id=385166
URL:https://www.houghton.edu/event/rural-realities-breakout-session-with-carl-greene-discovering-asset-based-rural-ministry/
LOCATION:Sign in to download the location
CATEGORIES:CAMPUSLIFE
END:VEVENT
BEGIN:VEVENT
DTSTART;TZID=America/New_York:20260321T113000
DTEND;TZID=America/New_York:20260321T123000
DTSTAMP:20260421T075258
CREATED:20260310T054958Z
LAST-MODIFIED:20260321T060511Z
UID:10003025-1774092600-1774096200@www.houghton.edu
SUMMARY:Rural Realities: Breakout Session about Allegany County CrossCurrents
DESCRIPTION:Come learn more about this new ministry for Houghton students to connect and serve in Allegany County.  David Huizenga and/or Mike Jordan will be leading\n—\nEvent Details: https://hub.houghton.edu/rsvp?id=385171
URL:https://www.houghton.edu/event/rural-realities-breakout-session-about-allegany-county-crosscurrents/
LOCATION:Sign in to download the location
CATEGORIES:CAMPUSLIFE
END:VEVENT
BEGIN:VEVENT
DTSTART;TZID=America/New_York:20260321T113000
DTEND;TZID=America/New_York:20260321T123000
DTSTAMP:20260421T075258
CREATED:20260310T054958Z
LAST-MODIFIED:20260321T060511Z
UID:10003026-1774092600-1774096200@www.houghton.edu
SUMMARY:Rural Realities: Breakout Session with PPAC
DESCRIPTION:Jon Chafee and Amy Weaver from Partners for Prevention in Allegany County (PPAC) will be presenting a breakout session called “Poverty and Substance Abuse: Causes\, Consequences and Solutions.” — Event Details: https://hub.houghton.edu/rsvp?id=385170
URL:https://www.houghton.edu/event/rural-realities-breakout-session-with-ppac/
LOCATION:Sign in to download the location
CATEGORIES:CAMPUSLIFE
END:VEVENT
BEGIN:VEVENT
DTSTART;TZID=America/New_York:20260321T113000
DTEND;TZID=America/New_York:20260321T123000
DTSTAMP:20260421T075258
CREATED:20260310T054958Z
LAST-MODIFIED:20260321T060511Z
UID:10003027-1774092600-1774096200@www.houghton.edu
SUMMARY:Rural Realities: Breakout Session with Christian Huebner
DESCRIPTION:Christian Huebner (father of a Houghton student!) is a pastor in Vermont and is studying rural ministry at the doctoral level.  He’ll be presenting a session called “Called to the Sticks: Shepherding Beyond the Spotlight in Forgotten Places.”\n—\nEvent Details: https://hub.houghton.edu/rsvp?id=385169
URL:https://www.houghton.edu/event/rural-realities-breakout-session-with-christian-huebner/
LOCATION:Sign in to download the location
CATEGORIES:CAMPUSLIFE
END:VEVENT
BEGIN:VEVENT
DTSTART;TZID=America/New_York:20260321T140000
DTEND;TZID=America/New_York:20260321T150000
DTSTAMP:20260421T075258
CREATED:20260310T054959Z
LAST-MODIFIED:20260321T060511Z
UID:10003030-1774101600-1774105200@www.houghton.edu
SUMMARY:Rural Realities: Breakout Session\, Royal Family Kids Camp
DESCRIPTION:Come hear Olivia Tetta share about Royal Family Kids Camp\, a summer ministry for local children experiencing unstable living situations.  You’ll have a chance to learn how you can be part of this vital ministry! — Event Details: https://hub.houghton.edu/rsvp?id=385172
URL:https://www.houghton.edu/event/rural-realities-breakout-session-royal-family-kids-camp/
LOCATION:Sign in to download the location
CATEGORIES:CAMPUSLIFE
END:VEVENT
BEGIN:VEVENT
DTSTART;TZID=America/New_York:20260321T140000
DTEND;TZID=America/New_York:20260321T150000
DTSTAMP:20260421T075258
CREATED:20260310T054959Z
LAST-MODIFIED:20260321T060511Z
UID:10003031-1774101600-1774105200@www.houghton.edu
SUMMARY:Rural Realities: Breakout Session about Allegany County CrossCurrents
DESCRIPTION:Come learn more about this new ministry helping Houghton students to connect with our community in helpful and loving ways!  David Huizenga and/or Mike Jordan will be leading.\n—\nEvent Details: https://hub.houghton.edu/rsvp?id=385173
URL:https://www.houghton.edu/event/rural-realities-breakout-session-about-allegany-county-crosscurrents-2/
LOCATION:Sign in to download the location
CATEGORIES:CAMPUSLIFE
END:VEVENT
BEGIN:VEVENT
DTSTART;TZID=America/New_York:20260321T173000
DTEND;TZID=America/New_York:20260321T183000
DTSTAMP:20260421T075258
CREATED:20260310T054959Z
LAST-MODIFIED:20260321T060511Z
UID:10003032-1774114200-1774117800@www.houghton.edu
SUMMARY:Rural Realities: Evening Session with Dr. Jason McConnell\, Rural Church Institute at Wheaton College
DESCRIPTION:Jason McConnell (Wheaton College Rural Church Institute) provides our closing session for the Rural Realities Conference\n—\nEvent Details: https://hub.houghton.edu/rsvp?id=385174
URL:https://www.houghton.edu/event/rural-realities-evening-session-with-dr-jason-mcconnell-rural-church-institute-at-wheaton-college/
LOCATION:Sign in to download the location
CATEGORIES:CAMPUSLIFE
END:VEVENT
BEGIN:VEVENT
DTSTART;TZID=America/New_York:20260321T223000
DTEND;TZID=America/New_York:20260321T233000
DTSTAMP:20260421T075258
CREATED:20260310T054959Z
LAST-MODIFIED:20260321T060512Z
UID:10003033-1774132200-1774135800@www.houghton.edu
SUMMARY:Rural Realities: Breakout Session about Allegany County CrossCurrents
DESCRIPTION:Allegany County CrossCurrents is a new ministry for Houghton University students to connect with and serve the surrounding community in ways that show God’s love deeply and are sustainable\, loving\, and appropriate for our rural setting.  Come learn more about it with David Huizenga and/or Mike Jordan! — Event Details: https://hub.houghton.edu/rsvp?id=385168
URL:https://www.houghton.edu/event/rural-realities-breakout-session-about-allegany-county-crosscurrents-3/
LOCATION:Sign in to download the location
CATEGORIES:CAMPUSLIFE
END:VEVENT
BEGIN:VEVENT
DTSTART;TZID=America/New_York:20260324T110000
DTEND;TZID=America/New_York:20260324T120000
DTSTAMP:20260421T075258
CREATED:20251015T225002Z
LAST-MODIFIED:20260112T033501Z
UID:10002721-1774350000-1774353600@www.houghton.edu
SUMMARY:Open Pickleball
DESCRIPTION:Offering open play pickleball twice a week for beginners to advanced players.\n—\nEvent Details: https://hub.houghton.edu/rsvp?id=384544
URL:https://www.houghton.edu/event/open-pickleball-32/
LOCATION:Sign in to download the location
CATEGORIES:CAMPUSLIFE
END:VEVENT
BEGIN:VEVENT
DTSTART;TZID=America/New_York:20260326T110000
DTEND;TZID=America/New_York:20260326T120000
DTSTAMP:20260421T075258
CREATED:20251015T225002Z
LAST-MODIFIED:20260112T033502Z
UID:10002722-1774522800-1774526400@www.houghton.edu
SUMMARY:Open Pickleball
DESCRIPTION:Offering open play pickleball twice a week for beginners to advanced players.\n—\nEvent Details: https://hub.houghton.edu/rsvp?id=384545
URL:https://www.houghton.edu/event/open-pickleball-33/
LOCATION:Sign in to download the location
CATEGORIES:CAMPUSLIFE
END:VEVENT
BEGIN:VEVENT
DTSTART;TZID=America/New_York:20260326T160000
DTEND;TZID=America/New_York:20260326T170000
DTSTAMP:20260421T075258
CREATED:20260319T055629Z
LAST-MODIFIED:20260326T060458Z
UID:10003048-1774540800-1774544400@www.houghton.edu
SUMMARY:The Highlander's Shop Easter Egg Hunt
DESCRIPTION:Hunt for 200+ eggs with candy and coupons in The Highlanders Shop! Find the golden egg or find the most eggs to win a prize basket! Thursday\, March 26th starting at 4:00 p.m. until all eggs are found. — Event Details: https://hub.houghton.edu/rsvp?id=385208
URL:https://www.houghton.edu/event/the-highlanders-shop-easter-egg-hunt/
LOCATION:The Highlanders Shop\, 1 Willard Ave\, Houghton\, NY\, United States
CATEGORIES:CAMPUSLIFE
GEO:42.42565;-78.157131
X-APPLE-STRUCTURED-LOCATION;VALUE=URI;X-ADDRESS=The Highlanders Shop 1 Willard Ave Houghton NY United States;X-APPLE-RADIUS=500;X-TITLE=1 Willard Ave:geo:-78.157131,42.42565
END:VEVENT
BEGIN:VEVENT
DTSTART;TZID=America/New_York:20260328T093000
DTEND;TZID=America/New_York:20260328T173000
DTSTAMP:20260421T075258
CREATED:20251220T023501Z
LAST-MODIFIED:20260328T062001Z
UID:10002804-1774690200-1774719000@www.houghton.edu
SUMMARY:Accepted Student Day
DESCRIPTION:Admission will host its largest event of the year\, Accepted Student Day\, for admitted students and their families. — Event Details: https://hub.houghton.edu/rsvp?id=384745
URL:https://www.houghton.edu/event/accepted-student-day/
LOCATION:Sign in to download the location
CATEGORIES:CAMPUSLIFE
END:VEVENT
BEGIN:VEVENT
DTSTART;TZID=America/New_York:20260331T110000
DTEND;TZID=America/New_York:20260331T120000
DTSTAMP:20260421T075258
CREATED:20251015T225002Z
LAST-MODIFIED:20260112T033503Z
UID:10002723-1774954800-1774958400@www.houghton.edu
SUMMARY:Open Pickleball
DESCRIPTION:Offering open play pickleball twice a week for beginners to advanced players.\n—\nEvent Details: https://hub.houghton.edu/rsvp?id=384546
URL:https://www.houghton.edu/event/open-pickleball-34/
LOCATION:Sign in to download the location
CATEGORIES:CAMPUSLIFE
END:VEVENT
BEGIN:VEVENT
DTSTART;TZID=America/New_York:20260409T110000
DTEND;TZID=America/New_York:20260409T120000
DTSTAMP:20260421T075258
CREATED:20251015T225003Z
LAST-MODIFIED:20260112T033503Z
UID:10002724-1775732400-1775736000@www.houghton.edu
SUMMARY:Open Pickleball
DESCRIPTION:Offering open play pickleball twice a week for beginners to advanced players.\n—\nEvent Details: https://hub.houghton.edu/rsvp?id=384547
URL:https://www.houghton.edu/event/open-pickleball-35/
LOCATION:Sign in to download the location
CATEGORIES:CAMPUSLIFE
END:VEVENT
BEGIN:VEVENT
DTSTART;TZID=America/New_York:20260410T190000
DTEND;TZID=America/New_York:20260410T203000
DTSTAMP:20260421T075258
CREATED:20260403T063450Z
LAST-MODIFIED:20260410T064947Z
UID:10003073-1775847600-1775853000@www.houghton.edu
SUMMARY:Senior Art Exhibition
DESCRIPTION:Join us in the Ortlip Gallery to celebrate our Senior Art Majors as they culminate their program of study with this exhibition of their artwork. This event is free\, and open to the public. Light refreshments will be served\, and each artist will be introduced by their Advisor in a brief talk (around 7:30).   This show will be on display April 10th – May 9th; gallery hours are Mon-Sat\, 9 am-6 pm.  Questions? Contact Ian Campbell\, Director of Exhibitions: ian.campbell@houghton.edu Dress Code: Casual (jeans ok) — Event Details: https://hub.houghton.edu/rsvp?id=385252
URL:https://www.houghton.edu/event/senior-art-exhibition/
LOCATION:Sign in to download the location
CATEGORIES:CAMPUSLIFE
END:VEVENT
BEGIN:VEVENT
DTSTART;TZID=America/New_York:20260411T130000
DTEND;TZID=America/New_York:20260411T160000
DTSTAMP:20260421T075258
CREATED:20260409T065050Z
LAST-MODIFIED:20260411T065008Z
UID:10003075-1775912400-1775923200@www.houghton.edu
SUMMARY:AHA! Allegany Collegiate Start-up Competition
DESCRIPTION:Each year\, the AHA! Allegany County Startup Collegiate Competition brings together students who want to test ideas that can actually become businesses in the future. The competition invites students from Alfred University\, Houghton University\, and Alfred State College to pitch their startup business ideas in front of judges\, compete for cash prizes\, and see if what they built holds up.  The event is open to anyone from our campus or community.    Pitch Day – Saturday April 11th •	Registration Open: 11:30 am – 12:45 pm •	Lunch Available: 11:30 am – 12:45 pm (just at our regular dining hall so meal tickets must be received at the Registration table for non-Houghton students) •	Official Event Starts: 1 pm •	Judges Deliberation – Viewer’s Choice Award Voting – STARTS 3:30 – 3:45 ish – for 20 Approx •	Winner Announcement – APPROX  3:50 – 4:10 ISH •	Celebration & Group Picture: RIGHT AFTER Winners •	Expected Departure: by 4:30  Dress Code: Business Casual — Event Details: https://hub.houghton.edu/rsvp?id=385256
URL:https://www.houghton.edu/event/aha-allegany-collegiate-start-up-competition/
LOCATION:The Paine Science Center – Schaller Hall\, 1 Willard Ave\, Houghton\, NY\, United States
CATEGORIES:CAMPUSLIFE
GEO:42.42565;-78.157131
X-APPLE-STRUCTURED-LOCATION;VALUE=URI;X-ADDRESS=The Paine Science Center – Schaller Hall 1 Willard Ave Houghton NY United States;X-APPLE-RADIUS=500;X-TITLE=1 Willard Ave:geo:-78.157131,42.42565
END:VEVENT
END:VCALENDAR