


BEGIN:VCALENDAR
VERSION:2.0
PRODID:-//Houghton University - ECPv6.15.20//NONSGML v1.0//EN
CALSCALE:GREGORIAN
METHOD:PUBLISH
X-ORIGINAL-URL:https://www.houghton.edu
X-WR-CALDESC:Events for Houghton University
REFRESH-INTERVAL;VALUE=DURATION:PT1H
X-Robots-Tag:noindex
X-PUBLISHED-TTL:PT1H
BEGIN:VTIMEZONE
TZID:America/New_York
BEGIN:DAYLIGHT
TZOFFSETFROM:-0500
TZOFFSETTO:-0400
TZNAME:EDT
DTSTART:20250309T070000
END:DAYLIGHT
BEGIN:STANDARD
TZOFFSETFROM:-0400
TZOFFSETTO:-0500
TZNAME:EST
DTSTART:20251102T060000
END:STANDARD
BEGIN:DAYLIGHT
TZOFFSETFROM:-0500
TZOFFSETTO:-0400
TZNAME:EDT
DTSTART:20260308T070000
END:DAYLIGHT
BEGIN:STANDARD
TZOFFSETFROM:-0400
TZOFFSETTO:-0500
TZNAME:EST
DTSTART:20261101T060000
END:STANDARD
BEGIN:DAYLIGHT
TZOFFSETFROM:-0500
TZOFFSETTO:-0400
TZNAME:EDT
DTSTART:20270314T070000
END:DAYLIGHT
BEGIN:STANDARD
TZOFFSETFROM:-0400
TZOFFSETTO:-0500
TZNAME:EST
DTSTART:20271107T060000
END:STANDARD
END:VTIMEZONE
BEGIN:VEVENT
DTSTART;TZID=America/New_York:20260425T083000
DTEND;TZID=America/New_York:20260425T170000
DTSTAMP:20260419T144621
CREATED:20260120T003446Z
LAST-MODIFIED:20260419T044954Z
UID:10002903-1777105800-1777136400@www.houghton.edu
SUMMARY:Spring Hunter Jumper Show
DESCRIPTION:Come join us for our annual Spring Hunter Jumper Show!\nIt will be a fun day of showing where a variety of classes will be available to participate in. There will be Hunter & Equitation classes on the flat and over fences as well as Jumpers.\nRegister Day of when you arrive.\nStabling Requests must be approved. Email equestrian@houghton.edu for stall availability.\n—\nEvent Details: https://hub.houghton.edu/rsvp?id=384897
URL:https://www.houghton.edu/event/spring-hunter-jumper-show/
LOCATION:Equestrian Center\, 9823 School Farm Rd\, Houghton\, NY\, United States
CATEGORIES:Equestrian
GEO:42.431326;-78.176592
X-APPLE-STRUCTURED-LOCATION;VALUE=URI;X-ADDRESS=Equestrian Center 9823 School Farm Rd Houghton NY United States;X-APPLE-RADIUS=500;X-TITLE=9823 School Farm Rd:geo:-78.176592,42.431326
END:VEVENT
END:VCALENDAR