


BEGIN:VCALENDAR
VERSION:2.0
PRODID:-//Houghton University - ECPv6.15.20//NONSGML v1.0//EN
CALSCALE:GREGORIAN
METHOD:PUBLISH
X-WR-CALNAME:Houghton University
X-ORIGINAL-URL:https://www.houghton.edu
X-WR-CALDESC:Events for Houghton University
REFRESH-INTERVAL;VALUE=DURATION:PT1H
X-Robots-Tag:noindex
X-PUBLISHED-TTL:PT1H
BEGIN:VTIMEZONE
TZID:America/New_York
BEGIN:DAYLIGHT
TZOFFSETFROM:-0500
TZOFFSETTO:-0400
TZNAME:EDT
DTSTART:20250309T070000
END:DAYLIGHT
BEGIN:STANDARD
TZOFFSETFROM:-0400
TZOFFSETTO:-0500
TZNAME:EST
DTSTART:20251102T060000
END:STANDARD
BEGIN:DAYLIGHT
TZOFFSETFROM:-0500
TZOFFSETTO:-0400
TZNAME:EDT
DTSTART:20260308T070000
END:DAYLIGHT
BEGIN:STANDARD
TZOFFSETFROM:-0400
TZOFFSETTO:-0500
TZNAME:EST
DTSTART:20261101T060000
END:STANDARD
BEGIN:DAYLIGHT
TZOFFSETFROM:-0500
TZOFFSETTO:-0400
TZNAME:EDT
DTSTART:20270314T070000
END:DAYLIGHT
BEGIN:STANDARD
TZOFFSETFROM:-0400
TZOFFSETTO:-0500
TZNAME:EST
DTSTART:20271107T060000
END:STANDARD
END:VTIMEZONE
BEGIN:VEVENT
DTSTART;VALUE=DATE:20260726
DTEND;VALUE=DATE:20260801
DTSTAMP:20260420T070942
CREATED:20260128T160953Z
LAST-MODIFIED:20260224T131357Z
UID:10002962-1785031200-1785463199@www.houghton.edu
SUMMARY:Summer Music Festival
DESCRIPTION:[vc_row text_align=”center”][vc_column width=”3/4″][vc_row_inner][vc_column_inner][vc_column_text] \nTake your performance to the next level.\n[/vc_column_text][vc_column_text] \nAt this four-day summer string festival\, you will work closely with Houghton’s world-class faculty to gain a deeper understanding of your instrument and push yourself to grow as a whole musician. Private lessons\, masterclasses\, and various ensemble group coaching will allow you to experience the true artistry of music-making. Dive deeper with special workshops in Musician’s Wellness and an invitation-only Spotlight Competition—a great stepping stone to prepare for optimal playing. \nDiscover a holistic approach to glorifying God through music with your talents and abilities. \n[/vc_column_text][vc_column_text] \nFestival Dates: July 26-30\, 2026\n[/vc_column_text]Register Today[/vc_column_inner][/vc_row_inner][vc_row_inner][vc_column_inner][vc_column_text] \n\n[/vc_column_text][/vc_column_inner][/vc_row_inner][/vc_column][/vc_row][vc_row text_align=”center”][vc_column][vc_column_text] \nHighlights\n[/vc_column_text][vc_empty_space][vc_row_inner][vc_column_inner width=”1/4″ text_align=”center”][vc_column_text] \nIndividual and small group instruction from Houghton Faculty and Houghton Music Alum.\n[/vc_column_text][/vc_column_inner][vc_column_inner width=”1/4″ text_align=”center”][vc_column_text] \nCourses in musicianship\, music theory\, and improvisation.\n[/vc_column_text][/vc_column_inner][vc_column_inner width=”1/4″ text_align=”center”][vc_column_text] \nDirect preparation for collegiate music studies.\n[/vc_column_text][/vc_column_inner][/vc_row_inner][vc_empty_space height=”64px”][/vc_column][/vc_row][vc_row row_image=”51498″ reverse=”true”][vc_column][vc_column_text] \nBuild Your Festival Experience\n[/vc_column_text][vc_empty_space][vc_row_inner][vc_column_inner el_class=”lp-about” width=”1/3″][vc_column_text] \nAll students will participate in:\n\nPrivate Lessons for Violin\, Viola\, Cello\, and Piano\nChamber Music (Duo\, Trio\, String Quartet\, Quintet)\nString Orchestra\nCello Ensemble (Cello students only)\nGuest Artist Masterclass\nWorkshops on Jazz Improvisation & Musicians’ wellness\nStudent Spotlight Competition\n\n[/vc_column_text][/vc_column_inner][vc_column_inner el_class=”lp-about” width=”1/3″][vc_column_text] \n[/vc_column_text][/vc_column_inner][/vc_row_inner][/vc_column][/vc_row][vc_row text_align=”center”][vc_column width=”3/4″][vc_row_inner][vc_column_inner width=”1/2″ boxed=”true”][vc_column_text] \nRates & Registration\n[/vc_column_text][vc_column_text] \nJuly 26-30\, 2026\nFor students ages 13-25 year old of Intermediate and Advanced levels\n[/vc_column_text][vc_empty_space][vc_column_text] \n$1000 – Residential Experience\nIncludes housing and all meals \n$950 – Early Bird Registration for Residential Experience only (must enroll prior to April 15\, 2026) \nIncludes housing and all meals[/vc_column_text][vc_column_text] \n$870 – Day Experience\nIncludes lunches and dinners[/vc_column_text]Register for the festival[/vc_column_inner][vc_column_inner width=”1/2″ boxed=”true”][vc_column_text] \nRegistration Details\n[/vc_column_text][vc_column_text] \nA $100 non-refundable deposit must accompany each registration. A $30 refundable room key deposit is required upon arrival at the festival. \n[/vc_column_text][vc_column_text] \nWhen you register\, use your email as your log-in and then pick a password you will remember. You will need to get back into your UltraCamp account after you register. Follow these directions to create an account and register your child for the festival. \n[/vc_column_text]Upload Your Festival Forms[/vc_column_inner][/vc_row_inner][/vc_column][/vc_row][vc_row row_image=”51497″ reverse=”true”][vc_column][vc_raw_html]JTNDYSUyMGlkJTNEJTIybG9jYXRpb24lMjIlM0UlM0MlMkZhJTNF[/vc_raw_html][vc_row_inner][vc_column_inner width=”1/2″][vc_column_text] \nFestival Location\nHoughton University is located 65 miles southeast of Buffalo and 70 miles southwest of Rochester in Houghton\, New York. On all sides of our 1\,300-acre campus is the scenic beauty of the rolling hills and northern hardwood forests of Western New York.[/vc_column_text][vc_empty_space][vc_raw_html]JTNDaWZyYW1lJTIwc3JjJTNEJTIyaHR0cHMlM0ElMkYlMkZ3d3cuZ29vZ2xlLmNvbSUyRm1hcHMlMkZlbWJlZCUzRnBiJTNEJTIxMW0xNCUyMTFtOCUyMTFtMyUyMTFkMzAxNTc1Ni41MzI4ODE2MTg1JTIxMmQtNzguMTU1NjMyJTIxM2Q0Mi40MjYxNDQlMjEzbTIlMjExaTEwMjQlMjEyaTc2OCUyMTRmMTMuMSUyMTNtMyUyMTFtMiUyMTFzMHgwJTI1M0EweDgyMTQyZjk1MWZiZjgyMWUlMjEyc0hvdWdodG9uJTI1MjBDb2xsZWdlJTIxNWUwJTIxM20yJTIxMXNlbiUyMTJzdXMlMjE0djE2MzIyNTE5NDU4MTAlMjE1bTIlMjExc2VuJTIxMnN1cyUyMiUyMHdpZHRoJTNEJTIyNzAwJTIyJTIwaGVpZ2h0JTNEJTIyNDUwJTIyJTIwc3R5bGUlM0QlMjJib3JkZXIlM0EwJTNCJTIyJTIwYWxsb3dmdWxsc2NyZWVuJTNEJTIyJTIyJTIwbG9hZGluZyUzRCUyMmxhenklMjIlM0UlM0MlMkZpZnJhbWUlM0U=[/vc_raw_html][/vc_column_inner][vc_column_inner width=”1/2″][/vc_column_inner][/vc_row_inner][/vc_column][/vc_row][vc_row text_align=”center”][vc_column][vc_raw_html]JTNDYSUyMGlkJTNEJTIyZmFjdWx0eSUyMiUzRSUzQyUyRmElM0U=[/vc_raw_html][vc_column_text] \nMeet the Faculty\n[/vc_column_text][vc_empty_space][vc_row_inner][vc_column_inner width=”1/4″ text_align=”center”][vc_column_text] \nSoo Yeon Kim\nDirector & Violin Faculty\nAssistant Professor of Violin and Viola\, Houghton University[/vc_column_text]Meet Dr. Kim[vc_empty_space][/vc_column_inner][vc_column_inner width=”1/4″][vc_column_text] \nJeremy Russo\nCello Faculty\nAssistant Professor of Cello\, Houghton University[/vc_column_text]Meet Prof. Russo[vc_empty_space][/vc_column_inner][/vc_row_inner][vc_row_inner][vc_column_inner width=”1/4″ text_align=”center”][vc_column_text] \nJohn Vaida\nViolin & Viola Faculty\nExecutive Director of Northeastern Pennsylvania Chamber Music Society[/vc_column_text][/vc_column_inner][vc_column_inner width=”1/4″][vc_column_text] \nDaniel Lamas\nViola Faculty\nCertified Suzuki instructor & Founding Principal Violist of Orquesta de Cámara de Valdivia[/vc_column_text][/vc_column_inner][vc_column_inner width=”1/4″][vc_column_text] \nDr. Anton Machleder\nGuitar Faculty\nAdjunct Assistant Professor of Guitar at Houghton University)[/vc_column_text][/vc_column_inner][/vc_row_inner][vc_row_inner][vc_column_inner width=”1/4″][vc_column_text] \nDr. Nathan Cheung\, Piano & Collaborative Piano Faculty\nInstructor of Collaboration at Vanderbilt University’s Blair School of Music[/vc_column_text]Read more about Nathan[/vc_column_inner][vc_column_inner width=”1/4″][vc_column_text] \nEric Tran\, Piano & Collaborative Piano Faculty\n[/vc_column_text]Read more about Eric[/vc_column_inner][/vc_row_inner][vc_empty_space height=”64px”][/vc_column][/vc_row]
URL:https://www.houghton.edu/event/summer-music-festival/
LOCATION:Houghton University\, 1 Willard Avenue\, Houghton\, NY 14744\, United States
CATEGORIES:GSOM
ATTACH;FMTTYPE=image/jpeg:https://www.houghton.edu/wp-content/uploads/2024/01/Houghton-University-Prism-orchestra-choir.jpg
ORGANIZER;CN="Greatbatch School of Music":MAILTO:music@houghton.edu
END:VEVENT
END:VCALENDAR