


BEGIN:VCALENDAR
VERSION:2.0
PRODID:-//Houghton University - ECPv6.15.20//NONSGML v1.0//EN
CALSCALE:GREGORIAN
METHOD:PUBLISH
X-ORIGINAL-URL:https://www.houghton.edu
X-WR-CALDESC:Events for Houghton University
REFRESH-INTERVAL;VALUE=DURATION:PT1H
X-Robots-Tag:noindex
X-PUBLISHED-TTL:PT1H
BEGIN:VTIMEZONE
TZID:America/New_York
BEGIN:DAYLIGHT
TZOFFSETFROM:-0500
TZOFFSETTO:-0400
TZNAME:EDT
DTSTART:20240310T070000
END:DAYLIGHT
BEGIN:STANDARD
TZOFFSETFROM:-0400
TZOFFSETTO:-0500
TZNAME:EST
DTSTART:20241103T060000
END:STANDARD
BEGIN:DAYLIGHT
TZOFFSETFROM:-0500
TZOFFSETTO:-0400
TZNAME:EDT
DTSTART:20250309T070000
END:DAYLIGHT
BEGIN:STANDARD
TZOFFSETFROM:-0400
TZOFFSETTO:-0500
TZNAME:EST
DTSTART:20251102T060000
END:STANDARD
BEGIN:DAYLIGHT
TZOFFSETFROM:-0500
TZOFFSETTO:-0400
TZNAME:EDT
DTSTART:20260308T070000
END:DAYLIGHT
BEGIN:STANDARD
TZOFFSETFROM:-0400
TZOFFSETTO:-0500
TZNAME:EST
DTSTART:20261101T060000
END:STANDARD
END:VTIMEZONE
BEGIN:VEVENT
DTSTART;TZID=America/New_York:20251103T183000
DTEND;TZID=America/New_York:20251103T193000
DTSTAMP:20260421T211031
CREATED:20250722T220504Z
LAST-MODIFIED:20251103T231953Z
UID:10002514-1762194600-1762198200@www.houghton.edu
SUMMARY:Senior Recital: Joshua Armstrong\, trombone
DESCRIPTION:Joshua Armstrong will be accompanied by Rachel Huchthausen\, piano\, and Gwenna Hass\, trombone. They are playing the Concerto in F Minor by George Frederic Handel\,  Recitative and Prayer\, Op. 15 by Hector Berlioz\, a rondo duet by Oskar Blume\, and a Sonata in F minor by Georg Philipp Telemann. These soloistic pieces are classic parts of the trombone repertoire. — Event Details: https://hub.houghton.edu/rsvp?id=383346
URL:https://www.houghton.edu/event/senior-recital-joshua-armstrong-trombone/
LOCATION:CFA Recital Hall\, 42.427041\,-78.153753
CATEGORIES:GSOM
ORGANIZER;CN="Greatbatch School of Music":MAILTO:music@houghton.edu
END:VEVENT
BEGIN:VEVENT
DTSTART;TZID=America/New_York:20251027T200000
DTEND;TZID=America/New_York:20251027T210000
DTSTAMP:20260421T211031
CREATED:20250714T215032Z
LAST-MODIFIED:20251027T230453Z
UID:10002499-1761595200-1761598800@www.houghton.edu
SUMMARY:Faculty Recital: Kimberly Prins Moeller and Sharon Johnson
DESCRIPTION:Dr. Kimberly Prins Moeller and Dr. Sharon Johnson present Juliana Hall’s “Songs of Enchantment\,” a whimsical colorful cycle Dr. Johnson studied and premiered as part of her doctoral research. The program also includes a work from the just-released inaugural North American Indigenous Songbook\, “Tádídíín Béé atiin” (“Corn Pollen Road”) by Navajo composer Connor Chee\, Alban Berg’s Sieben Frühe Lieder (Seven Early Songs)\, and a selection from Jules Massenet’s operatic telling of Cinderella\, Cendrillon. — Event Details: https://hub.houghton.edu/rsvp?id=383324
URL:https://www.houghton.edu/event/faculty-recital-kimberly-prins-moeller-voice-and-sharon-johnson-piano/
LOCATION:CFA Recital Hall\, 42.427041\,-78.153753
CATEGORIES:GSOM
ORGANIZER;CN="Greatbatch School of Music":MAILTO:music@houghton.edu
END:VEVENT
BEGIN:VEVENT
DTSTART;TZID=America/New_York:20251024T193000
DTEND;TZID=America/New_York:20251024T210000
DTSTAMP:20260421T211031
CREATED:20250710T214957Z
LAST-MODIFIED:20251024T230454Z
UID:10002490-1761334200-1761339600@www.houghton.edu
SUMMARY:Houghton Wind Ensemble Concert: Shadow and Light
DESCRIPTION:Titled “Shadow and Light\,” this program will include pieces by Carol Brittin Chambers\, Katahj Copley\, Henry Fillmore\, Gordon Jacob\, John Mackey\, Michael Markowski\, Cait Nishimura\, and Nicole Piunno. — Event Details: https://hub.houghton.edu/rsvp?id=383308
URL:https://www.houghton.edu/event/houghton-wind-ensemble-concert/
LOCATION:Wesley Chapel\, 1 Willard Ave\, Houghton\, NY\, United States
CATEGORIES:GSOM
ORGANIZER;CN="Greatbatch School of Music":MAILTO:music@houghton.edu
GEO:42.42565;-78.157131
X-APPLE-STRUCTURED-LOCATION;VALUE=URI;X-ADDRESS=Wesley Chapel 1 Willard Ave Houghton NY United States;X-APPLE-RADIUS=500;X-TITLE=1 Willard Ave:geo:-78.157131,42.42565
END:VEVENT
BEGIN:VEVENT
DTSTART;TZID=America/New_York:20251016T193000
DTEND;TZID=America/New_York:20251016T210000
DTSTAMP:20260421T211031
CREATED:20250710T214957Z
LAST-MODIFIED:20251016T224948Z
UID:10002488-1760643000-1760648400@www.houghton.edu
SUMMARY:Houghton Symphony Orchestra Concert: New Beginnings
DESCRIPTION:The Houghton Symphony Orchestra will present its first full concert of the 2025-26 season on Thursday\, October 16 at 7:30 PM in the Wesley Chapel.  The evening’s program\, titled “New Beginnings\,” will feature a diverse selection of repertoire by contemporary composers. Selections will include: McCormick Fanfare by Karel Butz Tango Oscuro by Kevin Day Bolt from the Blue by Roger Zare Deep Summer Music by Libby Larsen Equinox by Katahj Copley Almost Alice by Theresa Martin Alpha and Omega by Soon Hee Newbold The concert is free and open to the public. We hope you will join us for an exciting evening of new music! — Event Details: https://hub.houghton.edu/rsvp?id=383307
URL:https://www.houghton.edu/event/houghton-symphony-orchestra-concert/
LOCATION:Wesley Chapel\, 1 Willard Ave\, Houghton\, NY\, United States
CATEGORIES:GSOM
ORGANIZER;CN="Greatbatch School of Music":MAILTO:music@houghton.edu
GEO:42.42565;-78.157131
X-APPLE-STRUCTURED-LOCATION;VALUE=URI;X-ADDRESS=Wesley Chapel 1 Willard Ave Houghton NY United States;X-APPLE-RADIUS=500;X-TITLE=1 Willard Ave:geo:-78.157131,42.42565
END:VEVENT
BEGIN:VEVENT
DTSTART;TZID=America/New_York:20251013T183000
DTEND;TZID=America/New_York:20251013T193000
DTSTAMP:20260421T211031
CREATED:20250723T220522Z
LAST-MODIFIED:20251013T221954Z
UID:10002516-1760380200-1760383800@www.houghton.edu
SUMMARY:Faculty Recital: Jason Decker\, tuba: Music for Growing Up
DESCRIPTION:Jason Decker’s Faculty Tuba Recital: “Music for Growing Up” is on Monday\, October 13 at 6:30 PM in the Recital Hall.    “Music for Growing up” is retrospective of joys\, dealing with loss\, the angst of growing up\, and the grandeur of nature\, told by the misunderstood instrument\, the tuba.  Music by Alec Wilder for tuba and piano (with Laurie Smith\, piano) will tell the adventures of an elephant with big dreams.  “Blue Grace” for tuba alone contemplates the challenges of loss.  A piece for the unlikely duo of flute and tuba by Ben Miles (with Rachel Decker\, flute) depicts video game music. The second part of the program will feature the tuba in the context of the small ensemble.  The Letchworth Valley Brass Quintet will perform the playful and fun standard “Scherzo” by John Cheetham.  The program will conclude with Cait Nishimura’s “Valley Views\,” which depicts the landscapes of the remote area of Southern Oregon.  Children are welcome and encouraged to attend! — Event Details: https://hub.houghton.edu/rsvp?id=383355
URL:https://www.houghton.edu/event/faculty-recital-jason-decker-tuba/
LOCATION:CFA Recital Hall\, 42.427041\,-78.153753
CATEGORIES:GSOM
ORGANIZER;CN="Greatbatch School of Music":MAILTO:music@houghton.edu
END:VEVENT
BEGIN:VEVENT
DTSTART;TZID=America/New_York:20251008T200000
DTEND;TZID=America/New_York:20251008T210000
DTSTAMP:20260421T211031
CREATED:20250723T220522Z
LAST-MODIFIED:20251008T234950Z
UID:10002515-1759953600-1759957200@www.houghton.edu
SUMMARY:Faculty Recital: Judy Congdon\, Organ
DESCRIPTION:On Wednesday\, October 8 at 8:00 p.m. Professor of Organ Dr. Judy Congdon will present a recital in Wesley Chapel on the Houghton University campus. The program features work by J.S. Bach\, César Franck\, 19th-early 20th century American composers John Knowles Paine and Clarence Dickenson\, and 20th-21st century Houghton composers William T. Allen and Gloria Huizenga.   The Holtkamp organ in Wesley Chapel\, installed in 1962 under the leadership of college organist Dr. Charles Finney and college president Dr. Stephen Paine\, has inspired generations of organ students\, visiting concert organists\, worshipers\, and listeners. This program will invite us to thankfully remember the “great cloud of witnesses” connected with the Holtkamp organ in Houghton’s history. — Event Details: https://hub.houghton.edu/rsvp?id=383357
URL:https://www.houghton.edu/event/faculty-recital-judy-congdon-organ/
LOCATION:Wesley Chapel\, 42.427041\,-78.153753
CATEGORIES:GSOM
ORGANIZER;CN="Greatbatch School of Music":MAILTO:music@houghton.edu
END:VEVENT
BEGIN:VEVENT
DTSTART;TZID=America/New_York:20251003T193000
DTEND;TZID=America/New_York:20251003T210000
DTSTAMP:20260421T211031
CREATED:20250710T203447Z
LAST-MODIFIED:20251003T230507Z
UID:10002482-1759519800-1759525200@www.houghton.edu
SUMMARY:Homecoming Collage 2025 Concert
DESCRIPTION:Our annual Homecoming Collage concert is this Friday at 7:30 PM in Wesley Chapel\, featuring the Houghton Choir\, Chamber Choir\, Houghton Symphony Orchestra\, Houghton Wind Ensemble\, and Houghton Lyric Theatre as well as faculty performers Dr. Judy Congdon\, Dr. Soo Yeon Kim\, Jeremy Russo\, Dr. Kimberly Prins Moeller\, and Dr. Sharon Johnson.  — Event Details: https://hub.houghton.edu/rsvp?id=383305
URL:https://www.houghton.edu/event/homecoming-collage-2025-concert/
LOCATION:Wesley Chapel\, 1 Willard Ave\, Houghton\, NY\, United States
CATEGORIES:Alumni,GSOM
ORGANIZER;CN="Greatbatch School of Music":MAILTO:music@houghton.edu
GEO:42.42565;-78.157131
X-APPLE-STRUCTURED-LOCATION;VALUE=URI;X-ADDRESS=Wesley Chapel 1 Willard Ave Houghton NY United States;X-APPLE-RADIUS=500;X-TITLE=1 Willard Ave:geo:-78.157131,42.42565
END:VEVENT
BEGIN:VEVENT
DTSTART;TZID=America/New_York:20250926T193000
DTEND;TZID=America/New_York:20250926T213000
DTSTAMP:20260421T211031
CREATED:20250710T214956Z
LAST-MODIFIED:20250926T223532Z
UID:10002486-1758915000-1758922200@www.houghton.edu
SUMMARY:Artist Series: Nicholas Goluses\, guitar
DESCRIPTION:NICHOLAS GOLUSES\, GUITARIST “Goluses is masterly\, a musician’s musician.” American Record Guide “Goluses produced an elegant sound. And the finales\, taken dangerously fast\, were accurate\, transparent\, and impressively articulated. Mr. Goluses gave persuasive\, energetic readings.” The New York Times “Goluses reached the highest levels of instrumental virtuosity.” Generalanzeiber (Bonn\, Germany) Nicholas Goluses is Professor of Guitar\, founder\, and director of the guitar programs at the Eastman School of Music\, where he is the recipient of the Eisenhart Award for Excellence in Teaching. Additionally\, he was the inaugural Andrés Segovia Professor at Manhattan School of Music where he received the Doctor of Musical Arts degree and was the recipient of the Pablo Casals Award for Musical Accomplishment and Human Endeavor\, the Faculty Award of Distinguished Merit and the 2019 Distinguished Alumni Award. His students have won major competitions and professorships throughout the world. He is a Fulbright International Specialist Professor and serves as the external examiner for doctoral dissertations throughout the British Isles. Nicholas Goluses’s concert tours as soloist\, with orchestra\, and as chamber musician have taken him across North America\, South America\, Europe\, Australia\, and the Far East to critical acclaim. He has recorded extensively for NAXOS\, Albany Records\, BMG\, and Linn Records. Committed to performing new music for the guitar\, Goluses has given world première performances of over 100 works. His 2023 season is highlighted by a performance of a new concerto by Stephen Goss in Glasgow\, Scotland and a Fulbright Residency in Tolima\, Colombia. For more information\, please visit WWW.GOLUSES.COM — Event Details: https://hub.houghton.edu/rsvp?id=383300
URL:https://www.houghton.edu/event/artist-series-nicholas-goluses-guitar/
LOCATION:Wesley Chapel\, 1 Willard Ave\, Houghton\, NY\, United States
CATEGORIES:GSOM
ORGANIZER;CN="Greatbatch School of Music":MAILTO:music@houghton.edu
GEO:42.42565;-78.157131
X-APPLE-STRUCTURED-LOCATION;VALUE=URI;X-ADDRESS=Wesley Chapel 1 Willard Ave Houghton NY United States;X-APPLE-RADIUS=500;X-TITLE=1 Willard Ave:geo:-78.157131,42.42565
END:VEVENT
BEGIN:VEVENT
DTSTART;TZID=America/New_York:20250909T104500
DTEND;TZID=America/New_York:20250909T123000
DTSTAMP:20260421T211031
CREATED:20250805T212012Z
LAST-MODIFIED:20250909T033450Z
UID:10002528-1757414700-1757421000@www.houghton.edu
SUMMARY:Community Connections Fair 2025
DESCRIPTION:Open to all students – learn about ways you can get involved on campus\, in a local church\, and in the wider community!  If your local organization would like to request a booth\, fill out that registration here or contact rachel.wright@houghton.edu. Spaces are limited\, so please expect a confirmation email ahead of the event. — Event Details: https://hub.houghton.edu/rsvp?id=383125
URL:https://www.houghton.edu/event/community-connections-fair-2025/
LOCATION:Sign in to download the location
CATEGORIES:Alumni,CAB,Center for Student Success,EPIC,GSOM,Students
END:VEVENT
END:VCALENDAR