


BEGIN:VCALENDAR
VERSION:2.0
PRODID:-//Houghton University - ECPv6.15.20//NONSGML v1.0//EN
CALSCALE:GREGORIAN
METHOD:PUBLISH
X-ORIGINAL-URL:https://www.houghton.edu
X-WR-CALDESC:Events for Houghton University
REFRESH-INTERVAL;VALUE=DURATION:PT1H
X-Robots-Tag:noindex
X-PUBLISHED-TTL:PT1H
BEGIN:VTIMEZONE
TZID:America/New_York
BEGIN:DAYLIGHT
TZOFFSETFROM:-0500
TZOFFSETTO:-0400
TZNAME:EDT
DTSTART:20250309T070000
END:DAYLIGHT
BEGIN:STANDARD
TZOFFSETFROM:-0400
TZOFFSETTO:-0500
TZNAME:EST
DTSTART:20251102T060000
END:STANDARD
BEGIN:DAYLIGHT
TZOFFSETFROM:-0500
TZOFFSETTO:-0400
TZNAME:EDT
DTSTART:20260308T070000
END:DAYLIGHT
BEGIN:STANDARD
TZOFFSETFROM:-0400
TZOFFSETTO:-0500
TZNAME:EST
DTSTART:20261101T060000
END:STANDARD
BEGIN:DAYLIGHT
TZOFFSETFROM:-0500
TZOFFSETTO:-0400
TZNAME:EDT
DTSTART:20270314T070000
END:DAYLIGHT
BEGIN:STANDARD
TZOFFSETFROM:-0400
TZOFFSETTO:-0500
TZNAME:EST
DTSTART:20271107T060000
END:STANDARD
END:VTIMEZONE
BEGIN:VEVENT
DTSTART;TZID=America/New_York:20260331T193000
DTEND;TZID=America/New_York:20260331T195000
DTSTAMP:20260423T210017
CREATED:20260107T063458Z
LAST-MODIFIED:20260116T073459Z
UID:10002841-1774985400-1774986600@www.houghton.edu
SUMMARY:Tuesday Morning Prayer
DESCRIPTION:Gather for morning prayer in a liturgical style.\n—\nEvent Details: https://hub.houghton.edu/rsvp?id=384795
URL:https://www.houghton.edu/event/tuesday-morning-prayer-21/
LOCATION:Sign in to download the location
CATEGORIES:Spiritual Life
END:VEVENT
BEGIN:VEVENT
DTSTART;TZID=America/New_York:20260331T213000
DTEND;TZID=America/New_York:20260331T223000
DTSTAMP:20260423T210017
CREATED:20260108T021947Z
LAST-MODIFIED:20260331T141945Z
UID:10002856-1774992600-1774996200@www.houghton.edu
SUMMARY:Housing Room Draw
DESCRIPTION:This is the main room draw event for students looking to secure a double room or still needing housing at the end of the housing process. Specific instructions and details for participating in Room Draw will be emailed to all students closer to the event.\n—\nEvent Details: https://hub.houghton.edu/rsvp?id=384806
URL:https://www.houghton.edu/event/housing-room-draw/
LOCATION:Sign in to download the location
CATEGORIES:RLH,Students
END:VEVENT
BEGIN:VEVENT
DTSTART;TZID=America/New_York:20260401T111000
DTEND;TZID=America/New_York:20260401T115000
DTSTAMP:20260423T210017
CREATED:20260129T085008Z
LAST-MODIFIED:20260331T154950Z
UID:10002966-1775041800-1775044200@www.houghton.edu
SUMMARY:Around the Table - Houghton Music Faculty
DESCRIPTION:A panel of Houghton Music Faculty will share how music and the discipline of practice has shaped their faith journey.\n—\nEvent Details: https://hub.houghton.edu/rsvp?id=384998
URL:https://www.houghton.edu/event/around-the-table-houghton-music-faculty/
LOCATION:Sign in to download the location
CATEGORIES:Spiritual Life
END:VEVENT
BEGIN:VEVENT
DTSTART;TZID=America/New_York:20260401T130000
DTEND;TZID=America/New_York:20260401T150000
DTSTAMP:20260423T210017
CREATED:20260321T032043Z
LAST-MODIFIED:20260401T060456Z
UID:10003053-1775048400-1775055600@www.houghton.edu
SUMMARY:Wellness Wednesday: Goal Setting/ Punch cards
DESCRIPTION:Stop by and practice wellness!\n—\nEvent Details: https://hub.houghton.edu/rsvp?id=385198
URL:https://www.houghton.edu/event/wellness-wednesday-goal-setting-punch-cards/
LOCATION:Sign in to download the location
CATEGORIES:Center for Student Success
END:VEVENT
BEGIN:VEVENT
DTSTART;TZID=America/New_York:20260401T160000
DTEND;TZID=America/New_York:20260401T180000
DTSTAMP:20260423T210017
CREATED:20251112T033455Z
LAST-MODIFIED:20260401T093446Z
UID:10002773-1775059200-1775066400@www.houghton.edu
SUMMARY:MT vs. Alfred University
DESCRIPTION:Men’s Tennis Match\n—\nEvent Details: https://hub.houghton.edu/rsvp?id=384658
URL:https://www.houghton.edu/event/mt-vs-alfred-university-2/
LOCATION:KPAC Tennis Courts\, 1 Willard Ave\, Houghton\, NY\, United States
CATEGORIES:Athletics
GEO:42.42565;-78.157131
X-APPLE-STRUCTURED-LOCATION;VALUE=URI;X-ADDRESS=KPAC Tennis Courts 1 Willard Ave Houghton NY United States;X-APPLE-RADIUS=500;X-TITLE=1 Willard Ave:geo:-78.157131,42.42565
END:VEVENT
BEGIN:VEVENT
DTSTART;TZID=America/New_York:20260401T160000
DTEND;TZID=America/New_York:20260401T183000
DTSTAMP:20260423T210017
CREATED:20250619T205026Z
LAST-MODIFIED:20250630T210504Z
UID:10002454-1775059200-1775068200@www.houghton.edu
SUMMARY:BB vs. SUNY Brockport
DESCRIPTION:Baseball Game\n—\nEvent Details: https://hub.houghton.edu/rsvp?id=383249
URL:https://www.houghton.edu/event/bb-vs-suny-brockport/
LOCATION:Baseball Field\, 1 Willard Ave\, Houghton\, NY\, United States
CATEGORIES:Athletics
GEO:42.42565;-78.157131
X-APPLE-STRUCTURED-LOCATION;VALUE=URI;X-ADDRESS=Baseball Field 1 Willard Ave Houghton NY United States;X-APPLE-RADIUS=500;X-TITLE=1 Willard Ave:geo:-78.157131,42.42565
END:VEVENT
BEGIN:VEVENT
DTSTART;TZID=America/New_York:20260401T160000
DTEND;TZID=America/New_York:20260401T190000
DTSTAMP:20260423T210017
CREATED:20260401T093446Z
LAST-MODIFIED:20260401T093446Z
UID:10003071-1775059200-1775070000@www.houghton.edu
SUMMARY:BB vs. SUNY Brockport
DESCRIPTION:Baseball Game\n—\nEvent Details: https://hub.houghton.edu/rsvp?id=385250
URL:https://www.houghton.edu/event/bb-vs-suny-brockport-3/
LOCATION:Baseball Field\, 1 Willard Ave\, Houghton\, NY\, United States
CATEGORIES:Athletics
GEO:42.42565;-78.157131
X-APPLE-STRUCTURED-LOCATION;VALUE=URI;X-ADDRESS=Baseball Field 1 Willard Ave Houghton NY United States;X-APPLE-RADIUS=500;X-TITLE=1 Willard Ave:geo:-78.157131,42.42565
END:VEVENT
BEGIN:VEVENT
DTSTART;TZID=America/New_York:20260401T180000
DTEND;TZID=America/New_York:20260401T190000
DTSTAMP:20260423T210017
CREATED:20260212T092005Z
LAST-MODIFIED:20260401T154948Z
UID:10002993-1775066400-1775070000@www.houghton.edu
SUMMARY:Men in Christian Relationships - Life Together Group
DESCRIPTION:Every passing year brings new questions culturally about how to live as Christians in relationship with our friends\, partners\, and the culture around us. This group tried to answer some of the swirling pool of unanswered expectations by bringing male mentors from a variety of campus departments to talk about their experiences in friendship\, society\, dating\, and marriage. — Event Details: https://hub.houghton.edu/rsvp?id=385094
URL:https://www.houghton.edu/event/men-in-christian-relationships-life-together-group-28/
LOCATION:Sign in to download the location
CATEGORIES:Spiritual Life
END:VEVENT
BEGIN:VEVENT
DTSTART;TZID=America/New_York:20260401T190000
DTEND;TZID=America/New_York:20260401T210000
DTSTAMP:20260423T210017
CREATED:20250819T223521Z
LAST-MODIFIED:20260401T093446Z
UID:10002547-1775070000-1775077200@www.houghton.edu
SUMMARY:MVB vs. Hilbert
DESCRIPTION:Men’s Volleyball Match\n—\nEvent Details: https://hub.houghton.edu/rsvp?id=383421
URL:https://www.houghton.edu/event/mvb-vs-hilbert-2/
LOCATION:Nielsen Physical Education Center\, 1 Willard Ave\, Houghton\, NY\, United States
CATEGORIES:Athletics
GEO:42.42565;-78.157131
X-APPLE-STRUCTURED-LOCATION;VALUE=URI;X-ADDRESS=Nielsen Physical Education Center 1 Willard Ave Houghton NY United States;X-APPLE-RADIUS=500;X-TITLE=1 Willard Ave:geo:-78.157131,42.42565
END:VEVENT
BEGIN:VEVENT
DTSTART;TZID=America/New_York:20260403T170000
DTEND;TZID=America/New_York:20260403T193000
DTSTAMP:20260423T210017
CREATED:20250619T205026Z
LAST-MODIFIED:20260403T093535Z
UID:10002456-1775235600-1775244600@www.houghton.edu
SUMMARY:BB vs. SUNY Poly
DESCRIPTION:Baseball Game\n—\nEvent Details: https://hub.houghton.edu/rsvp?id=383250
URL:https://www.houghton.edu/event/bb-vs-suny-poly/
LOCATION:Baseball Field\, 1 Willard Ave\, Houghton\, NY\, United States
CATEGORIES:Athletics
GEO:42.42565;-78.157131
X-APPLE-STRUCTURED-LOCATION;VALUE=URI;X-ADDRESS=Baseball Field 1 Willard Ave Houghton NY United States;X-APPLE-RADIUS=500;X-TITLE=1 Willard Ave:geo:-78.157131,42.42565
END:VEVENT
BEGIN:VEVENT
DTSTART;TZID=America/New_York:20260404T120000
DTEND;TZID=America/New_York:20260404T173000
DTSTAMP:20260423T210017
CREATED:20250619T205027Z
LAST-MODIFIED:20260404T093453Z
UID:10002458-1775304000-1775323800@www.houghton.edu
SUMMARY:BB vs. SUNY Poly
DESCRIPTION:Baseball Game 12:00PM/3:00PM\n—\nEvent Details: https://hub.houghton.edu/rsvp?id=383251
URL:https://www.houghton.edu/event/bb-vs-suny-poly-2/
LOCATION:Baseball Field\, 1 Willard Ave\, Houghton\, NY\, United States
CATEGORIES:Athletics
GEO:42.42565;-78.157131
X-APPLE-STRUCTURED-LOCATION;VALUE=URI;X-ADDRESS=Baseball Field 1 Willard Ave Houghton NY United States;X-APPLE-RADIUS=500;X-TITLE=1 Willard Ave:geo:-78.157131,42.42565
END:VEVENT
BEGIN:VEVENT
DTSTART;TZID=America/New_York:20260404T150000
DTEND;TZID=America/New_York:20260404T183000
DTSTAMP:20260423T210017
CREATED:20250619T205026Z
LAST-MODIFIED:20260404T093453Z
UID:10002457-1775314800-1775327400@www.houghton.edu
SUMMARY:SB vs. SUNY Brockport
DESCRIPTION:Softball Game 3:00PM/5:00PM\n—\nEvent Details: https://hub.houghton.edu/rsvp?id=383262
URL:https://www.houghton.edu/event/sb-vs-suny-brockport/
LOCATION:Softball field\, 1 Willard Ave\, Houghton\, NY\, United States
CATEGORIES:Athletics
GEO:42.42565;-78.157131
X-APPLE-STRUCTURED-LOCATION;VALUE=URI;X-ADDRESS=Softball field 1 Willard Ave Houghton NY United States;X-APPLE-RADIUS=500;X-TITLE=1 Willard Ave:geo:-78.157131,42.42565
END:VEVENT
BEGIN:VEVENT
DTSTART;TZID=America/New_York:20260408T111000
DTEND;TZID=America/New_York:20260408T115000
DTSTAMP:20260423T210017
CREATED:20260213T092000Z
LAST-MODIFIED:20260407T161953Z
UID:10002998-1775646600-1775649000@www.houghton.edu
SUMMARY:Around the Table - Ransom Poythress
DESCRIPTION:Ransom Poythress has been selected as the recipient of the Excellence in Teaching award at Houghton University. He is the featured guest in Around the Table.\n—\nEvent Details: https://hub.houghton.edu/rsvp?id=385102
URL:https://www.houghton.edu/event/around-the-table-ransom-poythress/
LOCATION:Sign in to download the location
CATEGORIES:Spiritual Life
END:VEVENT
BEGIN:VEVENT
DTSTART;TZID=America/New_York:20260408T160000
DTEND;TZID=America/New_York:20260408T163000
DTSTAMP:20260423T210017
CREATED:20260204T085017Z
LAST-MODIFIED:20260408T162047Z
UID:10002974-1775664000-1775665800@www.houghton.edu
SUMMARY:Wednesday Prayer
DESCRIPTION:Join us for Wednesday afternoon prayer at 4PM in the Spiritual Life Office.\n—\nEvent Details: https://hub.houghton.edu/rsvp?id=385042
URL:https://www.houghton.edu/event/wednesday-prayer-7/
LOCATION:Sign in to download the location
CATEGORIES:Spiritual Life
END:VEVENT
BEGIN:VEVENT
DTSTART;TZID=America/New_York:20260408T160000
DTEND;TZID=America/New_York:20260408T210000
DTSTAMP:20260423T210017
CREATED:20260115T061958Z
LAST-MODIFIED:20260408T100450Z
UID:10002900-1775664000-1775682000@www.houghton.edu
SUMMARY:BB vs. Alfred
DESCRIPTION:4:00 pm & 7:00 pm games\n—\nEvent Details: https://hub.houghton.edu/rsvp?id=384858
URL:https://www.houghton.edu/event/bb-vs-alfred-2/
LOCATION:Baseball Field\, 1 Willard Ave\, Houghton\, NY\, United States
CATEGORIES:Athletics
GEO:42.42565;-78.157131
X-APPLE-STRUCTURED-LOCATION;VALUE=URI;X-ADDRESS=Baseball Field 1 Willard Ave Houghton NY United States;X-APPLE-RADIUS=500;X-TITLE=1 Willard Ave:geo:-78.157131,42.42565
END:VEVENT
BEGIN:VEVENT
DTSTART;TZID=America/New_York:20260408T180000
DTEND;TZID=America/New_York:20260408T190000
DTSTAMP:20260423T210017
CREATED:20260212T092005Z
LAST-MODIFIED:20260408T162047Z
UID:10002994-1775671200-1775674800@www.houghton.edu
SUMMARY:Men in Christian Relationships - Life Together Group
DESCRIPTION:Every passing year brings new questions culturally about how to live as Christians in relationship with our friends\, partners\, and the culture around us. This group tried to answer some of the swirling pool of unanswered expectations by bringing male mentors from a variety of campus departments to talk about their experiences in friendship\, society\, dating\, and marriage. — Event Details: https://hub.houghton.edu/rsvp?id=385095
URL:https://www.houghton.edu/event/men-in-christian-relationships-life-together-group-29/
LOCATION:Sign in to download the location
CATEGORIES:Spiritual Life
END:VEVENT
BEGIN:VEVENT
DTSTART;TZID=America/New_York:20260408T183000
DTEND;TZID=America/New_York:20260408T193000
DTSTAMP:20260423T210017
CREATED:20251016T225006Z
LAST-MODIFIED:20260408T090451Z
UID:10002732-1775673000-1775676600@www.houghton.edu
SUMMARY:Junior Recital: Melanie Cogan\, voice
DESCRIPTION:Melanie Cogan’s recital titled “And So You Are” is a 30-minute exploration of her first three years at Houghton and truths she has learned through the community that supports her and the God who loves her. There will be three sections of music that highlight her emotional growth and a coinciding lesson she learned featuring works from Stephen Sondheim\, Nadia Boulanger\, and living female composer Erin Hansen Janke. (And more!)  https://www.youtube.com/live/G17V4ygBtAw?si=njWNb5sCdIhtx7po — Event Details: https://hub.houghton.edu/rsvp?id=384558
URL:https://www.houghton.edu/event/junior-recital-melanie-cogan-voice/
LOCATION:CFA Recital Hall\, 42.427041\,-78.153753
CATEGORIES:GSOM
ORGANIZER;CN="Greatbatch School of Music":MAILTO:music@houghton.edu
END:VEVENT
BEGIN:VEVENT
DTSTART;TZID=America/New_York:20260408T190000
DTEND;TZID=America/New_York:20260408T193000
DTSTAMP:20260423T210017
CREATED:20260124T080509Z
LAST-MODIFIED:20260408T162047Z
UID:10002939-1775674800-1775676600@www.houghton.edu
SUMMARY:Life Together Group - Study of Galatians
DESCRIPTION:We will be studying the book of Galatians every Wednesday.\n—\nEvent Details: https://hub.houghton.edu/rsvp?id=384965
URL:https://www.houghton.edu/event/life-together-group-study-of-galatians-9/
LOCATION:Sign in to download the location
CATEGORIES:Spiritual Life
END:VEVENT
BEGIN:VEVENT
DTSTART;TZID=America/New_York:20260408T213000
DTEND;TZID=America/New_York:20260408T223000
DTSTAMP:20260423T210017
CREATED:20260325T141956Z
LAST-MODIFIED:20260408T141952Z
UID:10003065-1775683800-1775687400@www.houghton.edu
SUMMARY:Mandatory Floor Meetings
DESCRIPTION:Each year we hold mandatory floor meetings before spring final exams as a time to gather together and learn about final checkout procedures.\n—\nEvent Details: https://hub.houghton.edu/rsvp?id=385240
URL:https://www.houghton.edu/event/mandatory-floor-meetings-2/
LOCATION:Sign in to download the location
CATEGORIES:RLH,Students
END:VEVENT
BEGIN:VEVENT
DTSTART;TZID=America/New_York:20260409T073000
DTEND;TZID=America/New_York:20260409T075000
DTSTAMP:20260423T210017
CREATED:20260107T063458Z
LAST-MODIFIED:20260408T162048Z
UID:10002842-1775719800-1775721000@www.houghton.edu
SUMMARY:Thursday Morning Prayer
DESCRIPTION:Gather for morning prayer.\n—\nEvent Details: https://hub.houghton.edu/rsvp?id=384781
URL:https://www.houghton.edu/event/thursday-morning-prayer-11/
LOCATION:Sign in to download the location
CATEGORIES:Spiritual Life
END:VEVENT
BEGIN:VEVENT
DTSTART;TZID=America/New_York:20260409T110000
DTEND;TZID=America/New_York:20260409T120000
DTSTAMP:20260423T210017
CREATED:20251015T225003Z
LAST-MODIFIED:20260112T033503Z
UID:10002724-1775732400-1775736000@www.houghton.edu
SUMMARY:Open Pickleball
DESCRIPTION:Offering open play pickleball twice a week for beginners to advanced players.\n—\nEvent Details: https://hub.houghton.edu/rsvp?id=384547
URL:https://www.houghton.edu/event/open-pickleball-35/
LOCATION:Sign in to download the location
CATEGORIES:CAMPUSLIFE
END:VEVENT
BEGIN:VEVENT
DTSTART;TZID=America/New_York:20260409T181500
DTEND;TZID=America/New_York:20260409T190000
DTSTAMP:20260423T210017
CREATED:20260220T095004Z
LAST-MODIFIED:20260409T161949Z
UID:10003008-1775758500-1775761200@www.houghton.edu
SUMMARY:Women's Life Together Group
DESCRIPTION:The Women’s Life Together Group will be a time dedicated for the Women at Houghton to spend time mediating on the Lord’s Word and walking through life together. Our theme for this semester is the fear of the Lord (Proverbs 31:10) and how a healthy fear of the Lord leads us to fully live out our purpose. We meet every Thursday from 6:15pm-6:55pm\, if you have any questions please contact chesnie.waddingham26@houghton.edu. I hope to see you there!  — Event Details: https://hub.houghton.edu/rsvp?id=385131
URL:https://www.houghton.edu/event/womens-life-together-group-5/
LOCATION:Sign in to download the location
CATEGORIES:Spiritual Life
END:VEVENT
BEGIN:VEVENT
DTSTART;TZID=America/New_York:20260409T183000
DTEND;TZID=America/New_York:20260409T193000
DTSTAMP:20260423T210017
CREATED:20260321T032043Z
LAST-MODIFIED:20260409T070447Z
UID:10003054-1775759400-1775763000@www.houghton.edu
SUMMARY:Young Alumni Panel
DESCRIPTION:Learn about four alumni’s journey through Houghton\, their transition beyond\, and how the Lord has worked in them to be where they are and get where they are going.   Avery Belanger – Project Engineer @ Manufacturing Automation Systems Julia Hotchkiss – Lead Pastor @ Peace Wesleyan Church  Esther (Webb) Pellegrino – Head Women’s Soccer Coach @ Houghton University Jonathan Durbin – Data Scientist @ University of Rochester  Dress Code: Casual (jeans ok) — Event Details: https://hub.houghton.edu/rsvp?id=385176
URL:https://www.houghton.edu/event/young-alumni-panel-2/
LOCATION:Sign in to download the location
CATEGORIES:Center for Student Success
END:VEVENT
BEGIN:VEVENT
DTSTART;TZID=America/New_York:20260409T190000
DTEND;TZID=America/New_York:20260409T200000
DTSTAMP:20260423T210017
CREATED:20260123T080541Z
LAST-MODIFIED:20260409T161949Z
UID:10002918-1775761200-1775764800@www.houghton.edu
SUMMARY:Listening Prayer Study
DESCRIPTION:Following Brad Jersek’s book\, “Can You Hear Me.” Learn more about listening prayer in this book study throughout the semester.  — Event Details: https://hub.houghton.edu/rsvp?id=384934
URL:https://www.houghton.edu/event/listening-prayer-study-8/
LOCATION:SASF Meeting Room\, 1 Willard Ave\, Houghton\, NY\, United States
CATEGORIES:Spiritual Life
GEO:42.42565;-78.157131
X-APPLE-STRUCTURED-LOCATION;VALUE=URI;X-ADDRESS=SASF Meeting Room 1 Willard Ave Houghton NY United States;X-APPLE-RADIUS=500;X-TITLE=1 Willard Ave:geo:-78.157131,42.42565
END:VEVENT
BEGIN:VEVENT
DTSTART;TZID=America/New_York:20260409T190000
DTEND;TZID=America/New_York:20260409T200000
DTSTAMP:20260423T210017
CREATED:20260312T072006Z
LAST-MODIFIED:20260409T093453Z
UID:10003041-1775761200-1775764800@www.houghton.edu
SUMMARY:Coffeehouse
DESCRIPTION:Coffeehouse-a place to come enjoy a cup of Jo and listen to a variety of live entertainment.\n—\nEvent Details: https://hub.houghton.edu/rsvp?id=385190
URL:https://www.houghton.edu/event/coffeehouse-5/
LOCATION:Sign in to download the location
CATEGORIES:CAB
END:VEVENT
BEGIN:VEVENT
DTSTART;TZID=America/New_York:20260409T200000
DTEND;TZID=America/New_York:20260409T210000
DTSTAMP:20260423T210017
CREATED:20260203T040459Z
LAST-MODIFIED:20260409T090513Z
UID:10002967-1775764800-1775768400@www.houghton.edu
SUMMARY:Senior Capstone: Emily Hanes\, worship arts
DESCRIPTION:Emily Hanes is putting together a worship night for her senior capstone\, featuring The Good News Band.  They will be playing a mix of worship songs you probably already know\, along with a few original songs she’s written. It’s going to be a fun\, high-energy\, rockin’ night\, but also a genuine time to come together\, worship\, and spend time in the Lord’s presence. — Event Details: https://hub.houghton.edu/rsvp?id=385035
URL:https://www.houghton.edu/event/senior-capstone-emily-hanes-worship-arts/
LOCATION:Wesley Chapel\, 42.427041\,-78.153753
CATEGORIES:GSOM
ORGANIZER;CN="Greatbatch School of Music":MAILTO:music@houghton.edu
END:VEVENT
BEGIN:VEVENT
DTSTART;TZID=America/New_York:20260410T111000
DTEND;TZID=America/New_York:20260410T115000
DTSTAMP:20260423T210017
CREATED:20260108T063505Z
LAST-MODIFIED:20260409T161949Z
UID:10002882-1775819400-1775821800@www.houghton.edu
SUMMARY:Chapel - Scott Hallman\, Dean of Spiritual Life/Campus Pastor
DESCRIPTION:Chapel with Scott Hallman\, Dean of Spiritual Life/Campus Pastor — Event Details: https://hub.houghton.edu/rsvp?id=384830
URL:https://www.houghton.edu/event/chapel-scott-hallman-dean-of-spiritual-life-campus-pastor-2/
LOCATION:Sign in to download the location
CATEGORIES:Spiritual Life
END:VEVENT
BEGIN:VEVENT
DTSTART;TZID=America/New_York:20260410T160000
DTEND;TZID=America/New_York:20260410T163000
DTSTAMP:20260423T210017
CREATED:20260124T080510Z
LAST-MODIFIED:20260410T161956Z
UID:10002940-1775836800-1775838600@www.houghton.edu
SUMMARY:Life Together Group: Study of the Gospel Of John
DESCRIPTION:We will be studying the Gospel of John together every Friday.\n—\nEvent Details: https://hub.houghton.edu/rsvp?id=384954
URL:https://www.houghton.edu/event/life-together-group-study-of-the-gospel-of-john-9/
LOCATION:Sign in to download the location
CATEGORIES:Spiritual Life
END:VEVENT
BEGIN:VEVENT
DTSTART;TZID=America/New_York:20260410T160000
DTEND;TZID=America/New_York:20260410T180000
DTSTAMP:20260423T210017
CREATED:20251112T033456Z
LAST-MODIFIED:20260410T100446Z
UID:10002774-1775836800-1775844000@www.houghton.edu
SUMMARY:MT vs. Oswego
DESCRIPTION:Men’s Tennis Match\n—\nEvent Details: https://hub.houghton.edu/rsvp?id=384660
URL:https://www.houghton.edu/event/mt-vs-oswego/
LOCATION:KPAC Tennis Courts\, 1 Willard Ave\, Houghton\, NY\, United States
CATEGORIES:Athletics
GEO:42.42565;-78.157131
X-APPLE-STRUCTURED-LOCATION;VALUE=URI;X-ADDRESS=KPAC Tennis Courts 1 Willard Ave Houghton NY United States;X-APPLE-RADIUS=500;X-TITLE=1 Willard Ave:geo:-78.157131,42.42565
END:VEVENT
BEGIN:VEVENT
DTSTART;TZID=America/New_York:20260410T163000
DTEND;TZID=America/New_York:20260410T193000
DTSTAMP:20260423T210017
CREATED:20260108T060500Z
LAST-MODIFIED:20260406T094952Z
UID:10002858-1775838600-1775849400@www.houghton.edu
SUMMARY:Highlander Invitational
DESCRIPTION:Track & Field Meet\n—\nEvent Details: https://hub.houghton.edu/rsvp?id=384807
URL:https://www.houghton.edu/event/highlander-invitational-4/
LOCATION:Burke Track\, 1 Willard Ave\, Houghton\, NY\, United States
CATEGORIES:Athletics
GEO:42.42565;-78.157131
X-APPLE-STRUCTURED-LOCATION;VALUE=URI;X-ADDRESS=Burke Track 1 Willard Ave Houghton NY United States;X-APPLE-RADIUS=500;X-TITLE=1 Willard Ave:geo:-78.157131,42.42565
END:VEVENT
END:VCALENDAR