


BEGIN:VCALENDAR
VERSION:2.0
PRODID:-//Houghton University - ECPv6.15.20//NONSGML v1.0//EN
CALSCALE:GREGORIAN
METHOD:PUBLISH
X-ORIGINAL-URL:https://www.houghton.edu
X-WR-CALDESC:Events for Houghton University
REFRESH-INTERVAL;VALUE=DURATION:PT1H
X-Robots-Tag:noindex
X-PUBLISHED-TTL:PT1H
BEGIN:VTIMEZONE
TZID:America/New_York
BEGIN:DAYLIGHT
TZOFFSETFROM:-0500
TZOFFSETTO:-0400
TZNAME:EDT
DTSTART:20250309T070000
END:DAYLIGHT
BEGIN:STANDARD
TZOFFSETFROM:-0400
TZOFFSETTO:-0500
TZNAME:EST
DTSTART:20251102T060000
END:STANDARD
BEGIN:DAYLIGHT
TZOFFSETFROM:-0500
TZOFFSETTO:-0400
TZNAME:EDT
DTSTART:20260308T070000
END:DAYLIGHT
BEGIN:STANDARD
TZOFFSETFROM:-0400
TZOFFSETTO:-0500
TZNAME:EST
DTSTART:20261101T060000
END:STANDARD
BEGIN:DAYLIGHT
TZOFFSETFROM:-0500
TZOFFSETTO:-0400
TZNAME:EDT
DTSTART:20270314T070000
END:DAYLIGHT
BEGIN:STANDARD
TZOFFSETFROM:-0400
TZOFFSETTO:-0500
TZNAME:EST
DTSTART:20271107T060000
END:STANDARD
END:VTIMEZONE
BEGIN:VEVENT
DTSTART;TZID=America/New_York:20260408T190000
DTEND;TZID=America/New_York:20260408T193000
DTSTAMP:20260419T093610
CREATED:20260124T080509Z
LAST-MODIFIED:20260408T162047Z
UID:10002939-1775674800-1775676600@www.houghton.edu
SUMMARY:Life Together Group - Study of Galatians
DESCRIPTION:We will be studying the book of Galatians every Wednesday.\n—\nEvent Details: https://hub.houghton.edu/rsvp?id=384965
URL:https://www.houghton.edu/event/life-together-group-study-of-galatians-9/
LOCATION:Sign in to download the location
CATEGORIES:Spiritual Life
END:VEVENT
BEGIN:VEVENT
DTSTART;TZID=America/New_York:20260408T213000
DTEND;TZID=America/New_York:20260408T223000
DTSTAMP:20260419T093610
CREATED:20260325T141956Z
LAST-MODIFIED:20260408T141952Z
UID:10003065-1775683800-1775687400@www.houghton.edu
SUMMARY:Mandatory Floor Meetings
DESCRIPTION:Each year we hold mandatory floor meetings before spring final exams as a time to gather together and learn about final checkout procedures.\n—\nEvent Details: https://hub.houghton.edu/rsvp?id=385240
URL:https://www.houghton.edu/event/mandatory-floor-meetings-2/
LOCATION:Sign in to download the location
CATEGORIES:RLH,Students
END:VEVENT
BEGIN:VEVENT
DTSTART;TZID=America/New_York:20260409T073000
DTEND;TZID=America/New_York:20260409T075000
DTSTAMP:20260419T093610
CREATED:20260107T063458Z
LAST-MODIFIED:20260408T162048Z
UID:10002842-1775719800-1775721000@www.houghton.edu
SUMMARY:Thursday Morning Prayer
DESCRIPTION:Gather for morning prayer.\n—\nEvent Details: https://hub.houghton.edu/rsvp?id=384781
URL:https://www.houghton.edu/event/thursday-morning-prayer-11/
LOCATION:Sign in to download the location
CATEGORIES:Spiritual Life
END:VEVENT
BEGIN:VEVENT
DTSTART;TZID=America/New_York:20260409T110000
DTEND;TZID=America/New_York:20260409T120000
DTSTAMP:20260419T093610
CREATED:20251015T225003Z
LAST-MODIFIED:20260112T033503Z
UID:10002724-1775732400-1775736000@www.houghton.edu
SUMMARY:Open Pickleball
DESCRIPTION:Offering open play pickleball twice a week for beginners to advanced players.\n—\nEvent Details: https://hub.houghton.edu/rsvp?id=384547
URL:https://www.houghton.edu/event/open-pickleball-35/
LOCATION:Sign in to download the location
CATEGORIES:CAMPUSLIFE
END:VEVENT
BEGIN:VEVENT
DTSTART;TZID=America/New_York:20260409T181500
DTEND;TZID=America/New_York:20260409T190000
DTSTAMP:20260419T093610
CREATED:20260220T095004Z
LAST-MODIFIED:20260409T161949Z
UID:10003008-1775758500-1775761200@www.houghton.edu
SUMMARY:Women's Life Together Group
DESCRIPTION:The Women’s Life Together Group will be a time dedicated for the Women at Houghton to spend time mediating on the Lord’s Word and walking through life together. Our theme for this semester is the fear of the Lord (Proverbs 31:10) and how a healthy fear of the Lord leads us to fully live out our purpose. We meet every Thursday from 6:15pm-6:55pm\, if you have any questions please contact chesnie.waddingham26@houghton.edu. I hope to see you there!  — Event Details: https://hub.houghton.edu/rsvp?id=385131
URL:https://www.houghton.edu/event/womens-life-together-group-5/
LOCATION:Sign in to download the location
CATEGORIES:Spiritual Life
END:VEVENT
BEGIN:VEVENT
DTSTART;TZID=America/New_York:20260409T183000
DTEND;TZID=America/New_York:20260409T193000
DTSTAMP:20260419T093610
CREATED:20260321T032043Z
LAST-MODIFIED:20260409T070447Z
UID:10003054-1775759400-1775763000@www.houghton.edu
SUMMARY:Young Alumni Panel
DESCRIPTION:Learn about four alumni’s journey through Houghton\, their transition beyond\, and how the Lord has worked in them to be where they are and get where they are going.   Avery Belanger – Project Engineer @ Manufacturing Automation Systems Julia Hotchkiss – Lead Pastor @ Peace Wesleyan Church  Esther (Webb) Pellegrino – Head Women’s Soccer Coach @ Houghton University Jonathan Durbin – Data Scientist @ University of Rochester  Dress Code: Casual (jeans ok) — Event Details: https://hub.houghton.edu/rsvp?id=385176
URL:https://www.houghton.edu/event/young-alumni-panel-2/
LOCATION:Sign in to download the location
CATEGORIES:Center for Student Success
END:VEVENT
BEGIN:VEVENT
DTSTART;TZID=America/New_York:20260409T190000
DTEND;TZID=America/New_York:20260409T200000
DTSTAMP:20260419T093610
CREATED:20260123T080541Z
LAST-MODIFIED:20260409T161949Z
UID:10002918-1775761200-1775764800@www.houghton.edu
SUMMARY:Listening Prayer Study
DESCRIPTION:Following Brad Jersek’s book\, “Can You Hear Me.” Learn more about listening prayer in this book study throughout the semester.  — Event Details: https://hub.houghton.edu/rsvp?id=384934
URL:https://www.houghton.edu/event/listening-prayer-study-8/
LOCATION:SASF Meeting Room\, 1 Willard Ave\, Houghton\, NY\, United States
CATEGORIES:Spiritual Life
GEO:42.42565;-78.157131
X-APPLE-STRUCTURED-LOCATION;VALUE=URI;X-ADDRESS=SASF Meeting Room 1 Willard Ave Houghton NY United States;X-APPLE-RADIUS=500;X-TITLE=1 Willard Ave:geo:-78.157131,42.42565
END:VEVENT
BEGIN:VEVENT
DTSTART;TZID=America/New_York:20260409T190000
DTEND;TZID=America/New_York:20260409T200000
DTSTAMP:20260419T093610
CREATED:20260312T072006Z
LAST-MODIFIED:20260409T093453Z
UID:10003041-1775761200-1775764800@www.houghton.edu
SUMMARY:Coffeehouse
DESCRIPTION:Coffeehouse-a place to come enjoy a cup of Jo and listen to a variety of live entertainment.\n—\nEvent Details: https://hub.houghton.edu/rsvp?id=385190
URL:https://www.houghton.edu/event/coffeehouse-5/
LOCATION:Sign in to download the location
CATEGORIES:CAB
END:VEVENT
BEGIN:VEVENT
DTSTART;TZID=America/New_York:20260409T200000
DTEND;TZID=America/New_York:20260409T210000
DTSTAMP:20260419T093610
CREATED:20260203T040459Z
LAST-MODIFIED:20260409T090513Z
UID:10002967-1775764800-1775768400@www.houghton.edu
SUMMARY:Senior Capstone: Emily Hanes\, worship arts
DESCRIPTION:Emily Hanes is putting together a worship night for her senior capstone\, featuring The Good News Band.  They will be playing a mix of worship songs you probably already know\, along with a few original songs she’s written. It’s going to be a fun\, high-energy\, rockin’ night\, but also a genuine time to come together\, worship\, and spend time in the Lord’s presence. — Event Details: https://hub.houghton.edu/rsvp?id=385035
URL:https://www.houghton.edu/event/senior-capstone-emily-hanes-worship-arts/
LOCATION:Wesley Chapel\, 42.427041\,-78.153753
CATEGORIES:GSOM
ORGANIZER;CN="Greatbatch School of Music":MAILTO:music@houghton.edu
END:VEVENT
BEGIN:VEVENT
DTSTART;TZID=America/New_York:20260410T111000
DTEND;TZID=America/New_York:20260410T115000
DTSTAMP:20260419T093610
CREATED:20260108T063505Z
LAST-MODIFIED:20260409T161949Z
UID:10002882-1775819400-1775821800@www.houghton.edu
SUMMARY:Chapel - Scott Hallman\, Dean of Spiritual Life/Campus Pastor
DESCRIPTION:Chapel with Scott Hallman\, Dean of Spiritual Life/Campus Pastor — Event Details: https://hub.houghton.edu/rsvp?id=384830
URL:https://www.houghton.edu/event/chapel-scott-hallman-dean-of-spiritual-life-campus-pastor-2/
LOCATION:Sign in to download the location
CATEGORIES:Spiritual Life
END:VEVENT
BEGIN:VEVENT
DTSTART;TZID=America/New_York:20260410T160000
DTEND;TZID=America/New_York:20260410T163000
DTSTAMP:20260419T093610
CREATED:20260124T080510Z
LAST-MODIFIED:20260410T161956Z
UID:10002940-1775836800-1775838600@www.houghton.edu
SUMMARY:Life Together Group: Study of the Gospel Of John
DESCRIPTION:We will be studying the Gospel of John together every Friday.\n—\nEvent Details: https://hub.houghton.edu/rsvp?id=384954
URL:https://www.houghton.edu/event/life-together-group-study-of-the-gospel-of-john-9/
LOCATION:Sign in to download the location
CATEGORIES:Spiritual Life
END:VEVENT
BEGIN:VEVENT
DTSTART;TZID=America/New_York:20260410T160000
DTEND;TZID=America/New_York:20260410T180000
DTSTAMP:20260419T093610
CREATED:20251112T033456Z
LAST-MODIFIED:20260410T100446Z
UID:10002774-1775836800-1775844000@www.houghton.edu
SUMMARY:MT vs. Oswego
DESCRIPTION:Men’s Tennis Match\n—\nEvent Details: https://hub.houghton.edu/rsvp?id=384660
URL:https://www.houghton.edu/event/mt-vs-oswego/
LOCATION:KPAC Tennis Courts\, 1 Willard Ave\, Houghton\, NY\, United States
CATEGORIES:Athletics
GEO:42.42565;-78.157131
X-APPLE-STRUCTURED-LOCATION;VALUE=URI;X-ADDRESS=KPAC Tennis Courts 1 Willard Ave Houghton NY United States;X-APPLE-RADIUS=500;X-TITLE=1 Willard Ave:geo:-78.157131,42.42565
END:VEVENT
BEGIN:VEVENT
DTSTART;TZID=America/New_York:20260410T163000
DTEND;TZID=America/New_York:20260410T193000
DTSTAMP:20260419T093610
CREATED:20260108T060500Z
LAST-MODIFIED:20260406T094952Z
UID:10002858-1775838600-1775849400@www.houghton.edu
SUMMARY:Highlander Invitational
DESCRIPTION:Track & Field Meet\n—\nEvent Details: https://hub.houghton.edu/rsvp?id=384807
URL:https://www.houghton.edu/event/highlander-invitational-4/
LOCATION:Burke Track\, 1 Willard Ave\, Houghton\, NY\, United States
CATEGORIES:Athletics
GEO:42.42565;-78.157131
X-APPLE-STRUCTURED-LOCATION;VALUE=URI;X-ADDRESS=Burke Track 1 Willard Ave Houghton NY United States;X-APPLE-RADIUS=500;X-TITLE=1 Willard Ave:geo:-78.157131,42.42565
END:VEVENT
BEGIN:VEVENT
DTSTART;TZID=America/New_York:20260410T170000
DTEND;TZID=America/New_York:20260410T193000
DTSTAMP:20260419T093610
CREATED:20250619T205027Z
LAST-MODIFIED:20260410T100446Z
UID:10002459-1775840400-1775849400@www.houghton.edu
SUMMARY:BB vs. Keuka
DESCRIPTION:Baseball Game\n—\nEvent Details: https://hub.houghton.edu/rsvp?id=383252
URL:https://www.houghton.edu/event/bb-vs-keuka/
LOCATION:Baseball Field\, 1 Willard Ave\, Houghton\, NY\, United States
CATEGORIES:Athletics
GEO:42.42565;-78.157131
X-APPLE-STRUCTURED-LOCATION;VALUE=URI;X-ADDRESS=Baseball Field 1 Willard Ave Houghton NY United States;X-APPLE-RADIUS=500;X-TITLE=1 Willard Ave:geo:-78.157131,42.42565
END:VEVENT
BEGIN:VEVENT
DTSTART;TZID=America/New_York:20260410T190000
DTEND;TZID=America/New_York:20260410T203000
DTSTAMP:20260419T093610
CREATED:20260403T063450Z
LAST-MODIFIED:20260410T064947Z
UID:10003073-1775847600-1775853000@www.houghton.edu
SUMMARY:Senior Art Exhibition
DESCRIPTION:Join us in the Ortlip Gallery to celebrate our Senior Art Majors as they culminate their program of study with this exhibition of their artwork. This event is free\, and open to the public. Light refreshments will be served\, and each artist will be introduced by their Advisor in a brief talk (around 7:30).   This show will be on display April 10th – May 9th; gallery hours are Mon-Sat\, 9 am-6 pm.  Questions? Contact Ian Campbell\, Director of Exhibitions: ian.campbell@houghton.edu Dress Code: Casual (jeans ok) — Event Details: https://hub.houghton.edu/rsvp?id=385252
URL:https://www.houghton.edu/event/senior-art-exhibition/
LOCATION:Sign in to download the location
CATEGORIES:CAMPUSLIFE
END:VEVENT
BEGIN:VEVENT
DTSTART;TZID=America/New_York:20260411T100000
DTEND;TZID=America/New_York:20260411T200000
DTSTAMP:20260419T093610
CREATED:20251211T185350Z
LAST-MODIFIED:20260323T120037Z
UID:10002796-1775901600-1775937600@www.houghton.edu
SUMMARY:100 CELLO Festival
DESCRIPTION:[vc_row][vc_column width=”1/4″][/vc_column][vc_column width=”3/4″][vc_column_text] \nEvent Details \n[/vc_column_text][vc_column_text]Houghton University Greatbatch School of Music presents 100 CELLO Festival & Concert \nJoin this massive collaboration of 100 cellists from New York and beyond in a day of workshops\, master classes\, and a final Cello Choir performance! Participants will work alongside local and guest artists in a fun\, challenging\, and enriching environment of music-making. \nThe festival is open to students in middle school\, high school\, college/university\, adult learners\,  as well as teachers and professionals.[/vc_column_text][vc_column_text] \nRegistration Details \n[/vc_column_text][vc_column_text]Registration Fee: $50  \nIf you have any questions or concerns\, please contact Jeremy Russo at jeremy.russo@houghton.edu [/vc_column_text]Student Registration[vc_column_text]For cello teachers\, cello professionals and current Houghton students who are attending the festival\, register using the form below.[/vc_column_text]Teacher/Houghton Student Registration[/vc_column][/vc_row][vc_row text_align=”center”][vc_column width=”1/2″ boxed=”true” text_align=”center”][vc_raw_html css=””]JTNDZGl2JTIwc3R5bGUlM0QlMjdwb3NpdGlvbiUzQXJlbGF0aXZlJTNCJTIwb3ZlcmZsb3clM0FoaWRkZW4lM0IlMjBwYWRkaW5nLWJvdHRvbSUzQTQwJTI1JTI3JTNFJTNDaWZyYW1lJTIwc3JjJTNEJTI3aHR0cHMlM0ElMkYlMkZ3d3cuY2FtcHVzcmVlbC5vcmclMkZ2aWRlby1wbGF5ZXIlMkYxMDAtY2VsbG8tcHJvbW8tbW92JTI3JTIwd2lkdGglM0QlMjcxMDAlMjUlMjclMjBoZWlnaHQlM0QlMjcxMDAlMjUlMjclMjBmcmFtZWJvcmRlciUzRCUyNzAlMjclMjBzY3JvbGxpbmclM0QlMjdhdXRvJTI3JTIwdGl0bGUlM0QlMjcxMDAlMjBDRUxMTyUyMFByb21vLm1vdiUyNyUyMHN0eWxlJTNEJTI3cG9zaXRpb24lM0FhYnNvbHV0ZSUzQiUyMHRvcCUzQTAlM0IlMjBsZWZ0JTNBMCUzQiUyNyUyMGFsbG93ZnVsbHNjcmVlbiUzRSUzQyUyRmlmcmFtZSUzRSUzQyUyRmRpdiUzRQ==[/vc_raw_html][/vc_column][vc_column width=”1/2″ boxed=”true”][vc_column_text]Tentative Schedule \n9am-10am: Registration and Welcome \n10am-12:30pm: Cello Choir Rehearsals \n12:30pm-1:30pm: Lunch (provided) \n1:30pm-4:30pm: Workshops & Master Classes \n5pm: Faculty/Guest Artist Recital \n7pm: 100 CELLO Gala Concert* \n8pm: Participants dismissed \n*The concert is open to the public\, no registration required. Casual dress code is allowed.[/vc_column_text][/vc_column][/vc_row][vc_row][vc_column width=”1/4″][/vc_column][vc_column width=”3/4″][vc_column_text] \nMeet the Artistic Director \n[/vc_column_text][vc_empty_space][vc_column_text]Jeremy Russo is passionate educator and versatile performer who has appeared on stages across the United States\, notably Carnegie Hall in NYC\, Kennedy Center in Washington D.C.\, the Smith Center in Las Vegas\, as well as in Europe and Asia. A native of Las Vegas\, he has shared stages as the core string member with world’s all-time favorite pop singers\, namely Adele\, Andrea Bocelli\, and the Eagles. \nAs an educator\, Jeremy specializes in Cello Choir—bringing students and professionals together presenting specially arranged repertoire\, whose genres extend from classical to pop music. Jeremy regularly works with youth orchestras and school orchestra programs\, while directing the Houghton Cello Choir. His recent summer festival teaching appointments include the Killington Music Festival\, Blue Mountain Chamber Music Festival\, Desert Roots Rising Stars\, and the Houghton Summer String Fest. \nCurrently\, Jeremy is the Adjunct Professor of Cello at Houghton University\, while maintaining a private teaching studio in-person and online across the country.[/vc_column_text]Read More about Jeremy[/vc_column][/vc_row][vc_row row_color=”grey” text_align=”center”][vc_column][vc_column_text] \nWe Can’t Wait To See You \n[/vc_column_text]\n          \n        \n        \n          \n          close\n          \n            \n          \n          \n            keyboard_arrow_left\n            keyboard_arrow_right\n          \n        \n          \n        \n        \n          \n          close\n          \n            \n          \n          \n            keyboard_arrow_left\n            keyboard_arrow_right\n          \n        \n          \n        \n        \n          \n          close\n          \n            \n          \n          \n            keyboard_arrow_left\n            keyboard_arrow_right\n          \n        [/vc_column][/vc_row]
URL:https://www.houghton.edu/event/100-cello/
LOCATION:Wesley Chapel and Recital Hall\, 42.427041\,-78.153753
CATEGORIES:GSOM
ATTACH;FMTTYPE=image/webp:https://www.houghton.edu/wp-content/uploads/2025/12/Cello-Cover-Photo-Houghton-University.webp
ORGANIZER;CN="Greatbatch School of Music":MAILTO:music@houghton.edu
END:VEVENT
BEGIN:VEVENT
DTSTART;TZID=America/New_York:20260411T110000
DTEND;TZID=America/New_York:20260411T130000
DTSTAMP:20260419T093610
CREATED:20260327T093453Z
LAST-MODIFIED:20260411T100447Z
UID:10003066-1775905200-1775912400@www.houghton.edu
SUMMARY:Field Hockey Alumni Game
DESCRIPTION:FH Alumni Game\n—\nEvent Details: https://hub.houghton.edu/rsvp?id=385247
URL:https://www.houghton.edu/event/field-hockey-alumni-game/
LOCATION:Sign in to download the location
CATEGORIES:Athletics
END:VEVENT
BEGIN:VEVENT
DTSTART;TZID=America/New_York:20260411T120000
DTEND;TZID=America/New_York:20260411T173000
DTSTAMP:20260419T093610
CREATED:20250619T205027Z
LAST-MODIFIED:20260411T100447Z
UID:10002460-1775908800-1775928600@www.houghton.edu
SUMMARY:BB vs. Keuka
DESCRIPTION:Baseball Game 12:00PM/3:00PM\n—\nEvent Details: https://hub.houghton.edu/rsvp?id=383253
URL:https://www.houghton.edu/event/bb-vs-keuka-2/
LOCATION:Baseball Field\, 1 Willard Ave\, Houghton\, NY\, United States
CATEGORIES:Athletics
GEO:42.42565;-78.157131
X-APPLE-STRUCTURED-LOCATION;VALUE=URI;X-ADDRESS=Baseball Field 1 Willard Ave Houghton NY United States;X-APPLE-RADIUS=500;X-TITLE=1 Willard Ave:geo:-78.157131,42.42565
END:VEVENT
BEGIN:VEVENT
DTSTART;TZID=America/New_York:20260411T130000
DTEND;TZID=America/New_York:20260411T160000
DTSTAMP:20260419T093610
CREATED:20260409T065050Z
LAST-MODIFIED:20260411T065008Z
UID:10003075-1775912400-1775923200@www.houghton.edu
SUMMARY:AHA! Allegany Collegiate Start-up Competition
DESCRIPTION:Each year\, the AHA! Allegany County Startup Collegiate Competition brings together students who want to test ideas that can actually become businesses in the future. The competition invites students from Alfred University\, Houghton University\, and Alfred State College to pitch their startup business ideas in front of judges\, compete for cash prizes\, and see if what they built holds up.  The event is open to anyone from our campus or community.    Pitch Day – Saturday April 11th •	Registration Open: 11:30 am – 12:45 pm •	Lunch Available: 11:30 am – 12:45 pm (just at our regular dining hall so meal tickets must be received at the Registration table for non-Houghton students) •	Official Event Starts: 1 pm •	Judges Deliberation – Viewer’s Choice Award Voting – STARTS 3:30 – 3:45 ish – for 20 Approx •	Winner Announcement – APPROX  3:50 – 4:10 ISH •	Celebration & Group Picture: RIGHT AFTER Winners •	Expected Departure: by 4:30  Dress Code: Business Casual — Event Details: https://hub.houghton.edu/rsvp?id=385256
URL:https://www.houghton.edu/event/aha-allegany-collegiate-start-up-competition/
LOCATION:The Paine Science Center – Schaller Hall\, 1 Willard Ave\, Houghton\, NY\, United States
CATEGORIES:CAMPUSLIFE
GEO:42.42565;-78.157131
X-APPLE-STRUCTURED-LOCATION;VALUE=URI;X-ADDRESS=The Paine Science Center – Schaller Hall 1 Willard Ave Houghton NY United States;X-APPLE-RADIUS=500;X-TITLE=1 Willard Ave:geo:-78.157131,42.42565
END:VEVENT
BEGIN:VEVENT
DTSTART;TZID=America/New_York:20260411T140000
DTEND;TZID=America/New_York:20260411T160000
DTSTAMP:20260419T093610
CREATED:20251112T033456Z
LAST-MODIFIED:20260411T100447Z
UID:10002775-1775916000-1775923200@www.houghton.edu
SUMMARY:MT vs. St. John Fisher
DESCRIPTION:Men’s Tennis Match\n—\nEvent Details: https://hub.houghton.edu/rsvp?id=384661
URL:https://www.houghton.edu/event/mt-vs-st-john-fisher-4/
LOCATION:KPAC Tennis Courts\, 1 Willard Ave\, Houghton\, NY\, United States
CATEGORIES:Athletics
GEO:42.42565;-78.157131
X-APPLE-STRUCTURED-LOCATION;VALUE=URI;X-ADDRESS=KPAC Tennis Courts 1 Willard Ave Houghton NY United States;X-APPLE-RADIUS=500;X-TITLE=1 Willard Ave:geo:-78.157131,42.42565
END:VEVENT
BEGIN:VEVENT
DTSTART;TZID=America/New_York:20260411T163000
DTEND;TZID=America/New_York:20260411T193000
DTSTAMP:20260419T093610
CREATED:20251205T050459Z
LAST-MODIFIED:20260107T063449Z
UID:10002791-1775925000-1775935800@www.houghton.edu
SUMMARY:Highlander Invitational
DESCRIPTION:Track & Field Meet\n—\nEvent Details: https://hub.houghton.edu/rsvp?id=384719
URL:https://www.houghton.edu/event/highlander-invitational-3/
LOCATION:Burke Field\, 1 Willard Ave\, Houghton\, NY\, United States
CATEGORIES:Athletics
GEO:42.42565;-78.157131
X-APPLE-STRUCTURED-LOCATION;VALUE=URI;X-ADDRESS=Burke Field 1 Willard Ave Houghton NY United States;X-APPLE-RADIUS=500;X-TITLE=1 Willard Ave:geo:-78.157131,42.42565
END:VEVENT
BEGIN:VEVENT
DTSTART;TZID=America/New_York:20260411T170000
DTEND;TZID=America/New_York:20260411T180000
DTSTAMP:20260419T093610
CREATED:20260114T033507Z
LAST-MODIFIED:20260411T091954Z
UID:10002896-1775926800-1775930400@www.houghton.edu
SUMMARY:100 Cello: Community Artist Concert
DESCRIPTION:The 100 CELLO Festival brings together cellists of all ages from Western New York and beyond for a full day of workshops\, rehearsals\, and two exciting concerts. At 5 PM\, enjoy the Community Artist Concert in the Recital Hall\, followed by the 100 CELLO Gala in the Chapel at 7 PM\, featuring students and professionals performing side by side.  https://www.youtube.com/live/m30esSRLd6g?si=9pIT05tDFe8iZD70 — Event Details: https://hub.houghton.edu/rsvp?id=384846
URL:https://www.houghton.edu/event/100-cello-faculty-artist-concert/
LOCATION:CFA Recital Hall\, 42.427041\,-78.153753
CATEGORIES:GSOM
ORGANIZER;CN="Greatbatch School of Music":MAILTO:music@houghton.edu
END:VEVENT
BEGIN:VEVENT
DTSTART;TZID=America/New_York:20260411T190000
DTEND;TZID=America/New_York:20260411T200000
DTSTAMP:20260419T093610
CREATED:20260114T033507Z
LAST-MODIFIED:20260411T091954Z
UID:10002897-1775934000-1775937600@www.houghton.edu
SUMMARY:100 Cello: Gala Concert
DESCRIPTION:The 100 CELLO Festival brings together cellists of all ages from Western New York and beyond for a full day of workshops\, rehearsals\, and two exciting concerts. At 5 PM\, enjoy the Community Artist Concert in the Recital Hall\, followed by the 100 CELLO Gala in the Chapel at 7 PM\, featuring students and professionals performing side by side.  https://www.youtube.com/live/7xrgO3UlFYw?si=e-xkyWFqKinLweQD — Event Details: https://hub.houghton.edu/rsvp?id=384847
URL:https://www.houghton.edu/event/100-cello-festival-concert/
LOCATION:Wesley Chapel\, 42.427041\,-78.153753
CATEGORIES:GSOM
ORGANIZER;CN="Greatbatch School of Music":MAILTO:music@houghton.edu
END:VEVENT
BEGIN:VEVENT
DTSTART;TZID=America/New_York:20260412T190000
DTEND;TZID=America/New_York:20260412T200000
DTSTAMP:20260419T093610
CREATED:20250903T004959Z
LAST-MODIFIED:20260412T161947Z
UID:10002612-1776020400-1776024000@www.houghton.edu
SUMMARY:Koinonia
DESCRIPTION:Koinonia is a student-led\, informal praise gathering of college students and community members who desire to encounter Jesus Christ through worship in songs\, scripture\, prayer\, and testimony. — Event Details: https://hub.houghton.edu/rsvp?id=383576
URL:https://www.houghton.edu/event/koinonia-26/
LOCATION:Sign in to download the location
CATEGORIES:Spiritual Life
END:VEVENT
BEGIN:VEVENT
DTSTART;TZID=America/New_York:20260413T111000
DTEND;TZID=America/New_York:20260413T115000
DTSTAMP:20260419T093610
CREATED:20260108T063505Z
LAST-MODIFIED:20260412T161947Z
UID:10002883-1776078600-1776081000@www.houghton.edu
SUMMARY:Chapel - Jo Anne Lyon
DESCRIPTION:Chapel with Jo Anne Lyon\n—\nEvent Details: https://hub.houghton.edu/rsvp?id=384831
URL:https://www.houghton.edu/event/chapel-jo-anne-lyon/
LOCATION:Sign in to download the location
CATEGORIES:Spiritual Life
END:VEVENT
BEGIN:VEVENT
DTSTART;TZID=America/New_York:20260413T183000
DTEND;TZID=America/New_York:20260413T193000
DTSTAMP:20260419T093610
CREATED:20260123T040502Z
LAST-MODIFIED:20260413T091949Z
UID:10002908-1776105000-1776108600@www.houghton.edu
SUMMARY:Organ Studio Recital
DESCRIPTION:Some just began organ study in January of this year\, some are organ majors who have played for a long time\, and others are somewhere in between.  But all eight hardworking\, talented current organ students will participate in the Organ Studio Recital at 6:30 p.m. on Monday\, April 13 in Wesley Chapel.  Come hear the many sounds and colors of the beautiful Holtkamp organ\, and the engaging playing of organ music from the 18th to the 21st centuries.  https://www.youtube.com/live/9tfFzFLNQz8?si=eNzvCsczLkDjIH0P — Event Details: https://hub.houghton.edu/rsvp?id=384924
URL:https://www.houghton.edu/event/organ-studio-recital/
LOCATION:Wesley Chapel\, 42.427041\,-78.153753
CATEGORIES:GSOM
ORGANIZER;CN="Greatbatch School of Music":MAILTO:music@houghton.edu
END:VEVENT
BEGIN:VEVENT
DTSTART;TZID=America/New_York:20260413T200000
DTEND;TZID=America/New_York:20260413T210000
DTSTAMP:20260419T093610
CREATED:20250917T200516Z
LAST-MODIFIED:20260413T091949Z
UID:10002642-1776110400-1776114000@www.houghton.edu
SUMMARY:Senior Recital: Rhyan Lorenc\, trumpet
DESCRIPTION:“Musical Conversations” explores the expressive dialogue between trumpet and the many instruments involved\, across a wide range of styles\, from the elegance of the Classical era to the energy of contemporary brass writing. Each work highlights a unique interaction\, whether lyrical\, virtuosic\, or rhythmic\, demonstrating how musical ideas are exchanged\, developed\, and transformed between performers. Together\, the program reveals the trumpet not only as a solo voice\, but as a dynamic partner in conversation\, capable of storytelling through collaboration and contrast.  https://www.youtube.com/live/KVWETDaiEtA?si=RJo3B3p8674ts_hZ — Event Details: https://hub.houghton.edu/rsvp?id=383999
URL:https://www.houghton.edu/event/senior-recital-rhyan-lorenc-trumpet/
LOCATION:CFA Recital Hall\, 42.427041\,-78.153753
CATEGORIES:GSOM
ORGANIZER;CN="Greatbatch School of Music":MAILTO:music@houghton.edu
END:VEVENT
BEGIN:VEVENT
DTSTART;TZID=America/New_York:20260414T073000
DTEND;TZID=America/New_York:20260414T075000
DTSTAMP:20260419T093610
CREATED:20260107T063459Z
LAST-MODIFIED:20260413T161946Z
UID:10002843-1776151800-1776153000@www.houghton.edu
SUMMARY:Tuesday Morning Prayer
DESCRIPTION:Gather for morning prayer in a liturgical style.\n—\nEvent Details: https://hub.houghton.edu/rsvp?id=384767
URL:https://www.houghton.edu/event/tuesday-morning-prayer-22/
LOCATION:Sign in to download the location
CATEGORIES:Spiritual Life
END:VEVENT
BEGIN:VEVENT
DTSTART;TZID=America/New_York:20260414T093000
DTEND;TZID=America/New_York:20260414T103000
DTSTAMP:20260419T093610
CREATED:20260410T171956Z
LAST-MODIFIED:20260413T171947Z
UID:10003077-1776159000-1776162600@www.houghton.edu
SUMMARY:BEST Talk - Charles Philip '00: "Strategic Marketing in the World of AI"
DESCRIPTION:Join us on Tuesday\, April 14 at 9:30 a.m. in Library 303 as Houghton Alumnus and Business Director of Lithography at Corning Incorporated\, Charles Philip ’00\, explores the impact of AI and the rapidly evolving digital world on how businesses connect with prospective customers.  This BEST Talk is perfect for anyone interested in business\, technology\, and AI! — Event Details: https://hub.houghton.edu/rsvp?id=385262
URL:https://www.houghton.edu/event/best-talk-charles-philip-00-strategic-marketing-in-the-world-of-ai/
LOCATION:Sign in to download the location
CATEGORIES:Alumni
END:VEVENT
BEGIN:VEVENT
DTSTART;TZID=America/New_York:20260414T110000
DTEND;TZID=America/New_York:20260414T120000
DTSTAMP:20260419T093610
CREATED:20251015T225003Z
LAST-MODIFIED:20260112T033504Z
UID:10002725-1776164400-1776168000@www.houghton.edu
SUMMARY:Open Pickleball
DESCRIPTION:Offering open play pickleball twice a week for beginners to advanced players.\n—\nEvent Details: https://hub.houghton.edu/rsvp?id=384548
URL:https://www.houghton.edu/event/open-pickleball-36/
LOCATION:Sign in to download the location
CATEGORIES:CAMPUSLIFE
END:VEVENT
END:VCALENDAR