


BEGIN:VCALENDAR
VERSION:2.0
PRODID:-//Houghton University - ECPv6.15.20//NONSGML v1.0//EN
CALSCALE:GREGORIAN
METHOD:PUBLISH
X-WR-CALNAME:Houghton University
X-ORIGINAL-URL:https://www.houghton.edu
X-WR-CALDESC:Events for Houghton University
REFRESH-INTERVAL;VALUE=DURATION:PT1H
X-Robots-Tag:noindex
X-PUBLISHED-TTL:PT1H
BEGIN:VTIMEZONE
TZID:America/New_York
BEGIN:DAYLIGHT
TZOFFSETFROM:-0500
TZOFFSETTO:-0400
TZNAME:EDT
DTSTART:20250309T070000
END:DAYLIGHT
BEGIN:STANDARD
TZOFFSETFROM:-0400
TZOFFSETTO:-0500
TZNAME:EST
DTSTART:20251102T060000
END:STANDARD
BEGIN:DAYLIGHT
TZOFFSETFROM:-0500
TZOFFSETTO:-0400
TZNAME:EDT
DTSTART:20260308T070000
END:DAYLIGHT
BEGIN:STANDARD
TZOFFSETFROM:-0400
TZOFFSETTO:-0500
TZNAME:EST
DTSTART:20261101T060000
END:STANDARD
BEGIN:DAYLIGHT
TZOFFSETFROM:-0500
TZOFFSETTO:-0400
TZNAME:EDT
DTSTART:20270314T070000
END:DAYLIGHT
BEGIN:STANDARD
TZOFFSETFROM:-0400
TZOFFSETTO:-0500
TZNAME:EST
DTSTART:20271107T060000
END:STANDARD
END:VTIMEZONE
BEGIN:VEVENT
DTSTART;TZID=America/New_York:20260420T111000
DTEND;TZID=America/New_York:20260420T115000
DTSTAMP:20260419T173521
CREATED:20260108T063506Z
LAST-MODIFIED:20260419T164946Z
UID:10002885-1776683400-1776685800@www.houghton.edu
SUMMARY:Chapel - Scott Hallman\, Dean of Spiritual Life | Campus Pastor
DESCRIPTION:Chapel with Scott Hallman\, Dean of Spiritual Life | Campus Pastor — Event Details: https://hub.houghton.edu/rsvp?id=384833
URL:https://www.houghton.edu/event/chapel-caleb-choate-director-of-alumni-engagement/
LOCATION:Sign in to download the location
CATEGORIES:Spiritual Life
END:VEVENT
BEGIN:VEVENT
DTSTART;TZID=America/New_York:20260420T183000
DTEND;TZID=America/New_York:20260420T193000
DTSTAMP:20260419T173521
CREATED:20260318T054953Z
LAST-MODIFIED:20260413T091950Z
UID:10003047-1776709800-1776713400@www.houghton.edu
SUMMARY:Graduate Recital: Kevin Lee\, organ
DESCRIPTION:Kevin Lee’s graduate organ recital\n\n—\nEvent Details: https://hub.houghton.edu/rsvp?id=385206
URL:https://www.houghton.edu/event/graduate-recital-kevin-lee-organ/
LOCATION:Wesley Chapel\, 42.427041\,-78.153753
CATEGORIES:GSOM
ORGANIZER;CN="Greatbatch School of Music":MAILTO:music@houghton.edu
END:VEVENT
BEGIN:VEVENT
DTSTART;TZID=America/New_York:20260420T200000
DTEND;TZID=America/New_York:20260420T210000
DTSTAMP:20260419T173521
CREATED:20250909T003608Z
LAST-MODIFIED:20260413T091950Z
UID:10002618-1776715200-1776718800@www.houghton.edu
SUMMARY:Senior Recital: Katrina Kaufman-VonBuren\, piano: All Creation Waits
DESCRIPTION:Senior Recital\n—\nEvent Details: https://hub.houghton.edu/rsvp?id=383830
URL:https://www.houghton.edu/event/senior-recital-katrina-kaufman-vonburen/
LOCATION:CFA Recital Hall\, 42.427041\,-78.153753
CATEGORIES:GSOM
ORGANIZER;CN="Greatbatch School of Music":MAILTO:music@houghton.edu
END:VEVENT
BEGIN:VEVENT
DTSTART;TZID=America/New_York:20260420T210000
DTEND;TZID=America/New_York:20260420T214500
DTSTAMP:20260419T173521
CREATED:20260311T070517Z
LAST-MODIFIED:20260419T100455Z
UID:10003037-1776718800-1776721500@www.houghton.edu
SUMMARY:Kevin's Pool Party
DESCRIPTION:There will be floaties.\n—\nEvent Details: https://hub.houghton.edu/rsvp?id=385187
URL:https://www.houghton.edu/event/kevins-pool-party/
LOCATION:Pool at Nielsen\, 1 Willard Ave\, Houghton\, NY\, United States
CATEGORIES:CAB
GEO:42.42565;-78.157131
X-APPLE-STRUCTURED-LOCATION;VALUE=URI;X-ADDRESS=Pool at Nielsen 1 Willard Ave Houghton NY United States;X-APPLE-RADIUS=500;X-TITLE=1 Willard Ave:geo:-78.157131,42.42565
END:VEVENT
BEGIN:VEVENT
DTSTART;TZID=America/New_York:20260421T073000
DTEND;TZID=America/New_York:20260421T075000
DTSTAMP:20260419T173521
CREATED:20260107T063459Z
LAST-MODIFIED:20260419T164946Z
UID:10002846-1776756600-1776757800@www.houghton.edu
SUMMARY:Tuesday Morning Prayer
DESCRIPTION:Gather for morning prayer in a liturgical style.\n—\nEvent Details: https://hub.houghton.edu/rsvp?id=384768
URL:https://www.houghton.edu/event/tuesday-morning-prayer-24/
LOCATION:Sign in to download the location
CATEGORIES:Spiritual Life
END:VEVENT
BEGIN:VEVENT
DTSTART;TZID=America/New_York:20260421T110000
DTEND;TZID=America/New_York:20260421T120000
DTSTAMP:20260419T173521
CREATED:20251015T225004Z
LAST-MODIFIED:20260112T033504Z
UID:10002727-1776769200-1776772800@www.houghton.edu
SUMMARY:Open Pickleball
DESCRIPTION:Offering open play pickleball twice a week for beginners to advanced players.\n—\nEvent Details: https://hub.houghton.edu/rsvp?id=384550
URL:https://www.houghton.edu/event/open-pickleball-38/
LOCATION:Sign in to download the location
CATEGORIES:CAMPUSLIFE
END:VEVENT
BEGIN:VEVENT
DTSTART;TZID=America/New_York:20260421T110000
DTEND;TZID=America/New_York:20260421T123000
DTSTAMP:20260419T173521
CREATED:20260331T061950Z
LAST-MODIFIED:20260419T064950Z
UID:10003070-1776769200-1776774600@www.houghton.edu
SUMMARY:Student Research Day
DESCRIPTION:The annual student research day includes 12-minute oral presentations by students in the Chamberlain Center (schedule forth-coming) and poster presentations during the whole duration of the event (from 11:00 am – 12:30 pm) in the Van Dyk lounge of the Campus Center.\nDress Code: Casual (jeans ok)\n—\nEvent Details: https://hub.houghton.edu/rsvp?id=385249
URL:https://www.houghton.edu/event/student-research-day/
LOCATION:Sign in to download the location
CATEGORIES:CAMPUSLIFE
END:VEVENT
BEGIN:VEVENT
DTSTART;TZID=America/New_York:20260421T190000
DTEND;TZID=America/New_York:20260421T200000
DTSTAMP:20260419T173521
CREATED:20260127T083516Z
LAST-MODIFIED:20260419T164946Z
UID:10002957-1776798000-1776801600@www.houghton.edu
SUMMARY:Bible Study - Spritual Disciplines
DESCRIPTION:We will be discussing spiritual disciplines using Practicing The Way as an approached to writing your own rule of life.\n—\nEvent Details: https://hub.houghton.edu/rsvp?id=384983
URL:https://www.houghton.edu/event/bible-study-spritual-disciplines-10/
LOCATION:Sign in to download the location
CATEGORIES:Spiritual Life
END:VEVENT
BEGIN:VEVENT
DTSTART;TZID=America/New_York:20260421T193000
DTEND;TZID=America/New_York:20260421T195000
DTSTAMP:20260419T173521
CREATED:20260107T063500Z
LAST-MODIFIED:20260107T063500Z
UID:10002847-1776799800-1776801000@www.houghton.edu
SUMMARY:Tuesday Morning Prayer
DESCRIPTION:Gather for morning prayer in a liturgical style.\n—\nEvent Details: https://hub.houghton.edu/rsvp?id=384797
URL:https://www.houghton.edu/event/tuesday-morning-prayer-25/
LOCATION:Sign in to download the location
CATEGORIES:Spiritual Life
END:VEVENT
BEGIN:VEVENT
DTSTART;TZID=America/New_York:20260421T193000
DTEND;TZID=America/New_York:20260421T210000
DTSTAMP:20260419T173521
CREATED:20250721T220533Z
LAST-MODIFIED:20260419T092004Z
UID:10002508-1776799800-1776805200@www.houghton.edu
SUMMARY:Houghton Jazz Ensemble Concert
DESCRIPTION:Join the Houghton Jazz Ensemble for their final concert of the year on Tuesday\, April 21 at 7:30pm in Wesley Chapel. Featuring the music of jazz greats Miles Davis\, Ahmad Jamal\, Luiz Bonfá\, Gerry Mulligan\, and Wayne Shorter.     The ensemble will be joined by special guest soloists\, Houghton faculty members Anton Machleder on guitar and Ed Croft on bass.  https://www.youtube.com/live/Pt3GRi_OQ40?si=HkApcZcItUaCNr-b — Event Details: https://hub.houghton.edu/rsvp?id=383340
URL:https://www.houghton.edu/event/houghton-jazz-ensemble-concert-4/
LOCATION:Wesley Chapel\, 42.427041\,-78.153753
CATEGORIES:GSOM
ORGANIZER;CN="Greatbatch School of Music":MAILTO:music@houghton.edu
END:VEVENT
BEGIN:VEVENT
DTSTART;TZID=America/New_York:20260422T130000
DTEND;TZID=America/New_York:20260422T150000
DTSTAMP:20260419T173521
CREATED:20260416T071946Z
LAST-MODIFIED:20260419T071948Z
UID:10003083-1776862800-1776870000@www.houghton.edu
SUMMARY:Wellness Wednesday: DIY worry stones
DESCRIPTION:Join us in the CSS and practice wellness!\n—\nEvent Details: https://hub.houghton.edu/rsvp?id=385284
URL:https://www.houghton.edu/event/wellness-wednesday-diy-worry-stones/
LOCATION:Sign in to download the location
CATEGORIES:Center for Student Success
END:VEVENT
BEGIN:VEVENT
DTSTART;TZID=America/New_York:20260422T150000
DTEND;TZID=America/New_York:20260422T160000
DTSTAMP:20260419T173521
CREATED:20260317T074945Z
LAST-MODIFIED:20260419T100455Z
UID:10003045-1776870000-1776873600@www.houghton.edu
SUMMARY:World Earth Day Pop Up & Paint
DESCRIPTION:Come join us at Larder courtyard for some flower pot painting and informational session on sustainability and what it means to care for the environment.   Flower pots\, paint\, soil and wildflower seeds are provided.  A mini thrift mart will be available for those who want\, free of charge.   Think green\, act clean\, save our earth!  — Event Details: https://hub.houghton.edu/rsvp?id=385193
URL:https://www.houghton.edu/event/world-earth-day-pop-up-paint/
LOCATION:Sign in to download the location
CATEGORIES:CAB
END:VEVENT
BEGIN:VEVENT
DTSTART;TZID=America/New_York:20260422T160000
DTEND;TZID=America/New_York:20260422T163000
DTSTAMP:20260419T173521
CREATED:20260204T085022Z
LAST-MODIFIED:20260419T164947Z
UID:10002976-1776873600-1776875400@www.houghton.edu
SUMMARY:Wednesday Prayer
DESCRIPTION:Join us for Wednesday afternoon prayer at 4PM in the Spiritual Life Office.\n—\nEvent Details: https://hub.houghton.edu/rsvp?id=385044
URL:https://www.houghton.edu/event/wednesday-prayer-9/
LOCATION:Sign in to download the location
CATEGORIES:Spiritual Life
END:VEVENT
BEGIN:VEVENT
DTSTART;TZID=America/New_York:20260422T180000
DTEND;TZID=America/New_York:20260422T190000
DTSTAMP:20260419T173521
CREATED:20260212T092009Z
LAST-MODIFIED:20260419T164947Z
UID:10002996-1776880800-1776884400@www.houghton.edu
SUMMARY:Men in Christian Relationships - Life Together Group
DESCRIPTION:Every passing year brings new questions culturally about how to live as Christians in relationship with our friends\, partners\, and the culture around us. This group tried to answer some of the swirling pool of unanswered expectations by bringing male mentors from a variety of campus departments to talk about their experiences in friendship\, society\, dating\, and marriage. — Event Details: https://hub.houghton.edu/rsvp?id=385097
URL:https://www.houghton.edu/event/men-in-christian-relationships-life-together-group-31/
LOCATION:Sign in to download the location
CATEGORIES:Spiritual Life
END:VEVENT
BEGIN:VEVENT
DTSTART;TZID=America/New_York:20260422T183000
DTEND;TZID=America/New_York:20260422T193000
DTSTAMP:20260419T173521
CREATED:20250917T200517Z
LAST-MODIFIED:20260419T092004Z
UID:10002643-1776882600-1776886200@www.houghton.edu
SUMMARY:Junior Recital: Grace Keir\, voice
DESCRIPTION:Grace Keir’s Junior Recital titled “Seasons of Love” is a compilation of some of the songs she has studied during her first two years at Houghton. Each song explores a different season of love in this life\, as love begins\, flourishes\, and sadly sometimes ends. In all\, the listener will learn the importance of loving and being loved by the people around them.  https://www.youtube.com/live/Et-EMnhlNgo?si=Ox8MuBoRPTy6Eqj4 — Event Details: https://hub.houghton.edu/rsvp?id=384001
URL:https://www.houghton.edu/event/junior-recital-grace-keir-voice/
LOCATION:CFA Recital Hall\, 42.427041\,-78.153753
CATEGORIES:GSOM
ORGANIZER;CN="Greatbatch School of Music":MAILTO:music@houghton.edu
END:VEVENT
BEGIN:VEVENT
DTSTART;TZID=America/New_York:20260422T190000
DTEND;TZID=America/New_York:20260422T193000
DTSTAMP:20260419T173521
CREATED:20260124T080512Z
LAST-MODIFIED:20260414T161954Z
UID:10002943-1776884400-1776886200@www.houghton.edu
SUMMARY:Life Together Group - Study of Galatians
DESCRIPTION:We will be studying the book of Galatians every Wednesday.\n—\nEvent Details: https://hub.houghton.edu/rsvp?id=384967
URL:https://www.houghton.edu/event/life-together-group-study-of-galatians-11/
LOCATION:Sign in to download the location
CATEGORIES:Spiritual Life
END:VEVENT
BEGIN:VEVENT
DTSTART;TZID=America/New_York:20260422T190000
DTEND;TZID=America/New_York:20260422T200000
DTSTAMP:20260419T173521
CREATED:20260415T064947Z
LAST-MODIFIED:20260419T064951Z
UID:10003082-1776884400-1776888000@www.houghton.edu
SUMMARY:Can You Trust the Media?
DESCRIPTION:Panel Discussion\nMark Borchert: Professor of Business and Communications\nSusan Bruxvoort Lipscomb: Professor of English and Writing\nPeter Meilaender: Professor of Political Science\n—\nEvent Details: https://hub.houghton.edu/rsvp?id=385278
URL:https://www.houghton.edu/event/can-you-trust-the-media/
LOCATION:Sign in to download the location
CATEGORIES:CAMPUSLIFE
END:VEVENT
BEGIN:VEVENT
DTSTART;TZID=America/New_York:20260423T073000
DTEND;TZID=America/New_York:20260423T075000
DTSTAMP:20260419T173521
CREATED:20260107T063500Z
LAST-MODIFIED:20260419T164947Z
UID:10002848-1776929400-1776930600@www.houghton.edu
SUMMARY:Thursday Morning Prayer
DESCRIPTION:Gather for morning prayer.\n—\nEvent Details: https://hub.houghton.edu/rsvp?id=384783
URL:https://www.houghton.edu/event/thursday-morning-prayer-13/
LOCATION:Sign in to download the location
CATEGORIES:Spiritual Life
END:VEVENT
BEGIN:VEVENT
DTSTART;TZID=America/New_York:20260423T110000
DTEND;TZID=America/New_York:20260423T120000
DTSTAMP:20260419T173521
CREATED:20251015T225004Z
LAST-MODIFIED:20260112T033505Z
UID:10002728-1776942000-1776945600@www.houghton.edu
SUMMARY:Open Pickleball
DESCRIPTION:Offering open play pickleball twice a week for beginners to advanced players.\n—\nEvent Details: https://hub.houghton.edu/rsvp?id=384551
URL:https://www.houghton.edu/event/open-pickleball-39/
LOCATION:Sign in to download the location
CATEGORIES:CAMPUSLIFE
END:VEVENT
BEGIN:VEVENT
DTSTART;TZID=America/New_York:20260423T180000
DTEND;TZID=America/New_York:20260423T190000
DTSTAMP:20260419T173521
CREATED:20260312T072006Z
LAST-MODIFIED:20260419T100456Z
UID:10003042-1776967200-1776970800@www.houghton.edu
SUMMARY:Comedy House
DESCRIPTION:Coffeehouse-a place to come enjoy a cup of Jo and listen to a variety of live entertainment.\n—\nEvent Details: https://hub.houghton.edu/rsvp?id=385191
URL:https://www.houghton.edu/event/coffeehouse-6/
LOCATION:Sign in to download the location
CATEGORIES:CAB
END:VEVENT
BEGIN:VEVENT
DTSTART;TZID=America/New_York:20260423T181500
DTEND;TZID=America/New_York:20260423T190000
DTSTAMP:20260419T173521
CREATED:20260220T095006Z
LAST-MODIFIED:20260419T164947Z
UID:10003010-1776968100-1776970800@www.houghton.edu
SUMMARY:Women's Life Together Group
DESCRIPTION:The Women’s Life Together Group will be a time dedicated for the Women at Houghton to spend time mediating on the Lord’s Word and walking through life together. Our theme for this semester is the fear of the Lord (Proverbs 31:10) and how a healthy fear of the Lord leads us to fully live out our purpose. We meet every Thursday from 6:15pm-6:55pm\, if you have any questions please contact chesnie.waddingham26@houghton.edu. I hope to see you there!  — Event Details: https://hub.houghton.edu/rsvp?id=385133
URL:https://www.houghton.edu/event/womens-life-together-group-7/
LOCATION:Sign in to download the location
CATEGORIES:Spiritual Life
END:VEVENT
BEGIN:VEVENT
DTSTART;TZID=America/New_York:20260423T190000
DTEND;TZID=America/New_York:20260423T200000
DTSTAMP:20260419T173521
CREATED:20260123T080543Z
LAST-MODIFIED:20260419T164947Z
UID:10002920-1776970800-1776974400@www.houghton.edu
SUMMARY:Listening Prayer Study
DESCRIPTION:Following Brad Jersek’s book\, “Can You Hear Me.” Learn more about listening prayer in this book study throughout the semester.  — Event Details: https://hub.houghton.edu/rsvp?id=384936
URL:https://www.houghton.edu/event/listening-prayer-study-10/
LOCATION:SASF Meeting Room\, 1 Willard Ave\, Houghton\, NY\, United States
CATEGORIES:Spiritual Life
GEO:42.42565;-78.157131
X-APPLE-STRUCTURED-LOCATION;VALUE=URI;X-ADDRESS=SASF Meeting Room 1 Willard Ave Houghton NY United States;X-APPLE-RADIUS=500;X-TITLE=1 Willard Ave:geo:-78.157131,42.42565
END:VEVENT
BEGIN:VEVENT
DTSTART;TZID=America/New_York:20260423T190000
DTEND;TZID=America/New_York:20260423T203000
DTSTAMP:20260419T173521
CREATED:20251115T002006Z
LAST-MODIFIED:20260419T064951Z
UID:10002780-1776970800-1776976200@www.houghton.edu
SUMMARY:Woolsey Lecture Series with David Nienhuis
DESCRIPTION:Woolsey Lecture Series in Theology and Culture – Special Speaker – David R. Nienhuis  Professor of New Testament Studies\, Seattle Pacific University and Seminary\, Seattle\, Washington. — Event Details: https://hub.houghton.edu/rsvp?id=384679
URL:https://www.houghton.edu/event/woolsey-lecture-series-with-david-nienhuis/
LOCATION:Sign in to download the location
CATEGORIES:CAMPUSLIFE
END:VEVENT
BEGIN:VEVENT
DTSTART;TZID=America/New_York:20260424T111000
DTEND;TZID=America/New_York:20260424T115000
DTSTAMP:20260419T173521
CREATED:20260108T063507Z
LAST-MODIFIED:20260419T164947Z
UID:10002886-1777029000-1777031400@www.houghton.edu
SUMMARY:Chapel - David Nienhuis
DESCRIPTION:Chapel with David Nienhuis\n—\nEvent Details: https://hub.houghton.edu/rsvp?id=384834
URL:https://www.houghton.edu/event/chapel-david-nienhuis/
LOCATION:Sign in to download the location
CATEGORIES:Spiritual Life
END:VEVENT
BEGIN:VEVENT
DTSTART;TZID=America/New_York:20260424T150000
DTEND;TZID=America/New_York:20260424T183000
DTSTAMP:20260419T173521
CREATED:20250619T205028Z
LAST-MODIFIED:20260419T103457Z
UID:10002465-1777042800-1777055400@www.houghton.edu
SUMMARY:SB vs. Keuka
DESCRIPTION:Softball Game 3:00PM/5:00PM\n—\nEvent Details: https://hub.houghton.edu/rsvp?id=383265
URL:https://www.houghton.edu/event/sb-vs-keuka/
LOCATION:Softball field\, 1 Willard Ave\, Houghton\, NY\, United States
CATEGORIES:Athletics
GEO:42.42565;-78.157131
X-APPLE-STRUCTURED-LOCATION;VALUE=URI;X-ADDRESS=Softball field 1 Willard Ave Houghton NY United States;X-APPLE-RADIUS=500;X-TITLE=1 Willard Ave:geo:-78.157131,42.42565
END:VEVENT
BEGIN:VEVENT
DTSTART;TZID=America/New_York:20260424T160000
DTEND;TZID=America/New_York:20260424T163000
DTSTAMP:20260419T173521
CREATED:20260124T080513Z
LAST-MODIFIED:20260419T164947Z
UID:10002944-1777046400-1777048200@www.houghton.edu
SUMMARY:Life Together Group: Study of the Gospel Of John
DESCRIPTION:We will be studying the Gospel of John together every Friday.\n—\nEvent Details: https://hub.houghton.edu/rsvp?id=384956
URL:https://www.houghton.edu/event/life-together-group-study-of-the-gospel-of-john-11/
LOCATION:Sign in to download the location
CATEGORIES:Spiritual Life
END:VEVENT
BEGIN:VEVENT
DTSTART;TZID=America/New_York:20260424T160000
DTEND;TZID=America/New_York:20260424T180000
DTSTAMP:20260419T173521
CREATED:20251112T033458Z
LAST-MODIFIED:20260419T103457Z
UID:10002776-1777046400-1777053600@www.houghton.edu
SUMMARY:MT vs. Nazareth
DESCRIPTION:Men’s Tennis Match\n—\nEvent Details: https://hub.houghton.edu/rsvp?id=384662
URL:https://www.houghton.edu/event/mt-vs-nazareth-2/
LOCATION:Sign in to download the location
CATEGORIES:Athletics
END:VEVENT
BEGIN:VEVENT
DTSTART;TZID=America/New_York:20260424T170000
DTEND;TZID=America/New_York:20260424T193000
DTSTAMP:20260419T173521
CREATED:20250619T205028Z
LAST-MODIFIED:20260419T103457Z
UID:10002464-1777050000-1777059000@www.houghton.edu
SUMMARY:BB vs. Elmira
DESCRIPTION:Baseball Game\n—\nEvent Details: https://hub.houghton.edu/rsvp?id=383255
URL:https://www.houghton.edu/event/bb-vs-elmira/
LOCATION:Baseball Field\, 1 Willard Ave\, Houghton\, NY\, United States
CATEGORIES:Athletics
GEO:42.42565;-78.157131
X-APPLE-STRUCTURED-LOCATION;VALUE=URI;X-ADDRESS=Baseball Field 1 Willard Ave Houghton NY United States;X-APPLE-RADIUS=500;X-TITLE=1 Willard Ave:geo:-78.157131,42.42565
END:VEVENT
BEGIN:VEVENT
DTSTART;TZID=America/New_York:20260424T193000
DTEND;TZID=America/New_York:20260424T210000
DTSTAMP:20260419T173521
CREATED:20251107T232008Z
LAST-MODIFIED:20260419T092004Z
UID:10002764-1777059000-1777064400@www.houghton.edu
SUMMARY:"America at 250: Heritage and Honor": Houghton Symphony Orchestra and Houghton Wind Ensemble Concert
DESCRIPTION:The Houghton Wind Ensemble and Symphony Orchestra will present a joint concert celebrating the 250th anniversary of the United States on Friday\, April 24 at 7:30 p.m. in the Wesley Chapel. “America at 250: Heritage and Honor” will celebrate our nation’s musical heritage\, presenting musical works by Amy Beach\, Aaron Copland\, George Gershwin\, Omar Thomas\, and William Grant Still. The joint ensembles will also be joined by the Houghton Choir for a special tribute to U.S. Veterans.  https://www.youtube.com/live/iseU3deGrwY?si=IJtDdy3TObp5SpqH — Event Details: https://hub.houghton.edu/rsvp?id=384650
URL:https://www.houghton.edu/event/america-at-250-houghton-symphony-orchestra-and-houghton-wind-ensemble-concert/
LOCATION:Wesley Chapel\, 42.427041\,-78.153753
CATEGORIES:GSOM
ORGANIZER;CN="Greatbatch School of Music":MAILTO:music@houghton.edu
END:VEVENT
BEGIN:VEVENT
DTSTART;TZID=America/New_York:20260424T210000
DTEND;TZID=America/New_York:20260424T223000
DTSTAMP:20260419T173521
CREATED:20260311T070517Z
LAST-MODIFIED:20260419T100456Z
UID:10003038-1777064400-1777069800@www.houghton.edu
SUMMARY:5v5 Coaches vs Student Basketball Game
DESCRIPTION:5v5 Coaches vs Student Basketball Game!.  Fun event to cheer on your favorite coaches and students with prizes at halftime.\n—\nEvent Details: https://hub.houghton.edu/rsvp?id=385181
URL:https://www.houghton.edu/event/5v5-coaches-vs-student-basketball-game/
LOCATION:Sign in to download the location
CATEGORIES:CAB
END:VEVENT
END:VCALENDAR