


BEGIN:VCALENDAR
VERSION:2.0
PRODID:-//Houghton University - ECPv6.15.20//NONSGML v1.0//EN
CALSCALE:GREGORIAN
METHOD:PUBLISH
X-ORIGINAL-URL:https://www.houghton.edu
X-WR-CALDESC:Events for Houghton University
REFRESH-INTERVAL;VALUE=DURATION:PT1H
X-Robots-Tag:noindex
X-PUBLISHED-TTL:PT1H
BEGIN:VTIMEZONE
TZID:America/New_York
BEGIN:DAYLIGHT
TZOFFSETFROM:-0500
TZOFFSETTO:-0400
TZNAME:EDT
DTSTART:20250309T070000
END:DAYLIGHT
BEGIN:STANDARD
TZOFFSETFROM:-0400
TZOFFSETTO:-0500
TZNAME:EST
DTSTART:20251102T060000
END:STANDARD
BEGIN:DAYLIGHT
TZOFFSETFROM:-0500
TZOFFSETTO:-0400
TZNAME:EDT
DTSTART:20260308T070000
END:DAYLIGHT
BEGIN:STANDARD
TZOFFSETFROM:-0400
TZOFFSETTO:-0500
TZNAME:EST
DTSTART:20261101T060000
END:STANDARD
BEGIN:DAYLIGHT
TZOFFSETFROM:-0500
TZOFFSETTO:-0400
TZNAME:EDT
DTSTART:20270314T070000
END:DAYLIGHT
BEGIN:STANDARD
TZOFFSETFROM:-0400
TZOFFSETTO:-0500
TZNAME:EST
DTSTART:20271107T060000
END:STANDARD
END:VTIMEZONE
BEGIN:VEVENT
DTSTART;TZID=America/New_York:20260427T140000
DTEND;TZID=America/New_York:20260427T180000
DTSTAMP:20260420T011823
CREATED:20260414T100445Z
LAST-MODIFIED:20260419T103457Z
UID:10003080-1777298400-1777312800@www.houghton.edu
SUMMARY:SB vs. Alfred State
DESCRIPTION:Softball Game\n—\nEvent Details: https://hub.houghton.edu/rsvp?id=385269
URL:https://www.houghton.edu/event/sb-vs-alfred-state-2/
LOCATION:Softball field\, 1 Willard Ave\, Houghton\, NY\, United States
CATEGORIES:Athletics
GEO:42.42565;-78.157131
X-APPLE-STRUCTURED-LOCATION;VALUE=URI;X-ADDRESS=Softball field 1 Willard Ave Houghton NY United States;X-APPLE-RADIUS=500;X-TITLE=1 Willard Ave:geo:-78.157131,42.42565
END:VEVENT
BEGIN:VEVENT
DTSTART;TZID=America/New_York:20260427T183000
DTEND;TZID=America/New_York:20260427T193000
DTSTAMP:20260420T011823
CREATED:20260311T055000Z
LAST-MODIFIED:20260419T092004Z
UID:10003035-1777314600-1777318200@www.houghton.edu
SUMMARY:Faculty Recital: Anton Machleder\, guitar
DESCRIPTION:This program is a study in collaborative repertoire for guitar from the 16th century to the present featuring Soo Yeon Kim – Violin and Jeremy Russo – viola da gamba\, cello. It will feature music of Dowland\, Marais\, Schmeltzer\, Telemann\, Giuliani\, Granados\, Ibert\, Gismonti and Piazzolla.  https://www.youtube.com/live/3SLTxb9f0Fc?si=_3FvFuPyz7wO-8zC — Event Details: https://hub.houghton.edu/rsvp?id=385183
URL:https://www.houghton.edu/event/faculty-recital-anton-machleder-guitar/
LOCATION:CFA Recital Hall\, 42.427041\,-78.153753
CATEGORIES:GSOM
ORGANIZER;CN="Greatbatch School of Music":MAILTO:music@houghton.edu
END:VEVENT
BEGIN:VEVENT
DTSTART;TZID=America/New_York:20260427T200000
DTEND;TZID=America/New_York:20260427T210000
DTSTAMP:20260420T011823
CREATED:20260108T032028Z
LAST-MODIFIED:20260419T092004Z
UID:10002857-1777320000-1777323600@www.houghton.edu
SUMMARY:Great "Batch" Of Acts
DESCRIPTION:Hoot and holler with music students and faculty as we put on our talent/comedy show\, coordinated by our NAfME chapter of Music Education students. — Event Details: https://hub.houghton.edu/rsvp?id=384801
URL:https://www.houghton.edu/event/great-batch-of-acts/
LOCATION:CFA Recital Hall\, 1 Willard Ave\, Houghton\, NY\, United States
CATEGORIES:GSOM
ORGANIZER;CN="Greatbatch School of Music":MAILTO:music@houghton.edu
GEO:42.42565;-78.157131
X-APPLE-STRUCTURED-LOCATION;VALUE=URI;X-ADDRESS=CFA Recital Hall 1 Willard Ave Houghton NY United States;X-APPLE-RADIUS=500;X-TITLE=1 Willard Ave:geo:-78.157131,42.42565
END:VEVENT
BEGIN:VEVENT
DTSTART;TZID=America/New_York:20260428T073000
DTEND;TZID=America/New_York:20260428T075000
DTSTAMP:20260420T011823
CREATED:20260107T063501Z
LAST-MODIFIED:20260419T164947Z
UID:10002849-1777361400-1777362600@www.houghton.edu
SUMMARY:Tuesday Morning Prayer
DESCRIPTION:Gather for morning prayer in a liturgical style.\n—\nEvent Details: https://hub.houghton.edu/rsvp?id=384769
URL:https://www.houghton.edu/event/tuesday-morning-prayer-26/
LOCATION:Sign in to download the location
CATEGORIES:Spiritual Life
END:VEVENT
BEGIN:VEVENT
DTSTART;TZID=America/New_York:20260428T110000
DTEND;TZID=America/New_York:20260428T120000
DTSTAMP:20260420T011823
CREATED:20251015T225005Z
LAST-MODIFIED:20260112T033506Z
UID:10002729-1777374000-1777377600@www.houghton.edu
SUMMARY:Open Pickleball
DESCRIPTION:Offering open play pickleball twice a week for beginners to advanced players.\n—\nEvent Details: https://hub.houghton.edu/rsvp?id=384552
URL:https://www.houghton.edu/event/open-pickleball-40/
LOCATION:Sign in to download the location
CATEGORIES:CAMPUSLIFE
END:VEVENT
BEGIN:VEVENT
DTSTART;TZID=America/New_York:20260428T180000
DTEND;TZID=America/New_York:20260428T193000
DTSTAMP:20260420T011823
CREATED:20260210T042007Z
LAST-MODIFIED:20260419T064951Z
UID:10002983-1777399200-1777404600@www.houghton.edu
SUMMARY:Psi Chi Honor Society Banquet
DESCRIPTION:New inductees to the Psychology Honor society together with current members of the organization on campus are invited to a special buffet dinner as well as the induction ceremony for these new members.  This event is supported by the Psi Chi Student Club on campus in cooperation with the Department of Psychology and Criminal Justice.\nDress Code: Business Casual\n—\nEvent Details: https://hub.houghton.edu/rsvp?id=385075
URL:https://www.houghton.edu/event/psi-chi-honor-society-banquet/
LOCATION:Sign in to download the location
CATEGORIES:CAMPUSLIFE
END:VEVENT
BEGIN:VEVENT
DTSTART;TZID=America/New_York:20260428T190000
DTEND;TZID=America/New_York:20260428T200000
DTSTAMP:20260420T011823
CREATED:20260127T083520Z
LAST-MODIFIED:20260419T164947Z
UID:10002958-1777402800-1777406400@www.houghton.edu
SUMMARY:Bible Study - Spritual Disciplines
DESCRIPTION:We will be discussing spiritual disciplines using Practicing The Way as an approached to writing your own rule of life.\n—\nEvent Details: https://hub.houghton.edu/rsvp?id=384984
URL:https://www.houghton.edu/event/bible-study-spritual-disciplines-11/
LOCATION:Sign in to download the location
CATEGORIES:Spiritual Life
END:VEVENT
BEGIN:VEVENT
DTSTART;TZID=America/New_York:20260428T190000
DTEND;TZID=America/New_York:20260428T200000
DTSTAMP:20260420T011823
CREATED:20260211T044952Z
LAST-MODIFIED:20260419T100456Z
UID:10002987-1777402800-1777406400@www.houghton.edu
SUMMARY:Trivia Night
DESCRIPTION:Join us at Java with a team of 6\, ready to rumble. See you there! — Event Details: https://hub.houghton.edu/rsvp?id=385084
URL:https://www.houghton.edu/event/trivia-night-2/
LOCATION:Sign in to download the location
CATEGORIES:CAB
END:VEVENT
BEGIN:VEVENT
DTSTART;TZID=America/New_York:20260428T193000
DTEND;TZID=America/New_York:20260428T195000
DTSTAMP:20260420T011823
CREATED:20260107T063501Z
LAST-MODIFIED:20260107T063501Z
UID:10002850-1777404600-1777405800@www.houghton.edu
SUMMARY:Tuesday Morning Prayer
DESCRIPTION:Gather for morning prayer in a liturgical style.\n—\nEvent Details: https://hub.houghton.edu/rsvp?id=384798
URL:https://www.houghton.edu/event/tuesday-morning-prayer-27/
LOCATION:Sign in to download the location
CATEGORIES:Spiritual Life
END:VEVENT
BEGIN:VEVENT
DTSTART;TZID=America/New_York:20260429T150000
DTEND;TZID=America/New_York:20260429T163000
DTSTAMP:20260420T011823
CREATED:20260416T071946Z
LAST-MODIFIED:20260419T071949Z
UID:10003084-1777474800-1777480200@www.houghton.edu
SUMMARY:Wellness Wednesday: De-stress with Dogs
DESCRIPTION:Stop in and de-stress with dogs!\n—\nEvent Details: https://hub.houghton.edu/rsvp?id=385285
URL:https://www.houghton.edu/event/wellness-wednesday-de-stress-with-dogs-2/
LOCATION:Sign in to download the location
CATEGORIES:Center for Student Success
END:VEVENT
BEGIN:VEVENT
DTSTART;TZID=America/New_York:20260429T160000
DTEND;TZID=America/New_York:20260429T163000
DTSTAMP:20260420T011823
CREATED:20260204T085024Z
LAST-MODIFIED:20260419T164947Z
UID:10002977-1777478400-1777480200@www.houghton.edu
SUMMARY:Wednesday Prayer
DESCRIPTION:Join us for Wednesday afternoon prayer at 4PM in the Spiritual Life Office.\n—\nEvent Details: https://hub.houghton.edu/rsvp?id=385045
URL:https://www.houghton.edu/event/wednesday-prayer-10/
LOCATION:Sign in to download the location
CATEGORIES:Spiritual Life
END:VEVENT
BEGIN:VEVENT
DTSTART;TZID=America/New_York:20260429T180000
DTEND;TZID=America/New_York:20260429T190000
DTSTAMP:20260420T011823
CREATED:20260212T092011Z
LAST-MODIFIED:20260419T164948Z
UID:10002997-1777485600-1777489200@www.houghton.edu
SUMMARY:Men in Christian Relationships - Life Together Group
DESCRIPTION:Every passing year brings new questions culturally about how to live as Christians in relationship with our friends\, partners\, and the culture around us. This group tried to answer some of the swirling pool of unanswered expectations by bringing male mentors from a variety of campus departments to talk about their experiences in friendship\, society\, dating\, and marriage. — Event Details: https://hub.houghton.edu/rsvp?id=385098
URL:https://www.houghton.edu/event/men-in-christian-relationships-life-together-group-32/
LOCATION:Sign in to download the location
CATEGORIES:Spiritual Life
END:VEVENT
BEGIN:VEVENT
DTSTART;TZID=America/New_York:20260429T183000
DTEND;TZID=America/New_York:20260429T193000
DTSTAMP:20260420T011823
CREATED:20250721T220534Z
LAST-MODIFIED:20260419T092004Z
UID:10002511-1777487400-1777491000@www.houghton.edu
SUMMARY:Composition Recital
DESCRIPTION:Come hear original works by our composition students!\n\n—\nEvent Details: https://hub.houghton.edu/rsvp?id=383343
URL:https://www.houghton.edu/event/composition-recital-3/
LOCATION:CFA Recital Hall\, 42.427041\,-78.153753
CATEGORIES:GSOM
ORGANIZER;CN="Greatbatch School of Music":MAILTO:music@houghton.edu
END:VEVENT
BEGIN:VEVENT
DTSTART;TZID=America/New_York:20260429T190000
DTEND;TZID=America/New_York:20260429T193000
DTSTAMP:20260420T011823
CREATED:20260124T080513Z
LAST-MODIFIED:20260414T161955Z
UID:10002945-1777489200-1777491000@www.houghton.edu
SUMMARY:Life Together Group - Study of Galatians
DESCRIPTION:We will be studying the book of Galatians every Wednesday.\n—\nEvent Details: https://hub.houghton.edu/rsvp?id=384968
URL:https://www.houghton.edu/event/life-together-group-study-of-galatians-12/
LOCATION:Sign in to download the location
CATEGORIES:Spiritual Life
END:VEVENT
BEGIN:VEVENT
DTSTART;TZID=America/New_York:20260429T200000
DTEND;TZID=America/New_York:20260429T210000
DTSTAMP:20260420T011823
CREATED:20250721T220534Z
LAST-MODIFIED:20260414T091951Z
UID:10002512-1777492800-1777496400@www.houghton.edu
SUMMARY:Composition Recital
DESCRIPTION:Come hear original works by our composition students!\n\n—\nEvent Details: https://hub.houghton.edu/rsvp?id=383344
URL:https://www.houghton.edu/event/composition-recital-4/
LOCATION:CFA Recital Hall\, 42.427041\,-78.153753
CATEGORIES:GSOM
ORGANIZER;CN="Greatbatch School of Music":MAILTO:music@houghton.edu
END:VEVENT
BEGIN:VEVENT
DTSTART;TZID=America/New_York:20260430T073000
DTEND;TZID=America/New_York:20260430T075000
DTSTAMP:20260420T011823
CREATED:20260107T063501Z
LAST-MODIFIED:20260419T164948Z
UID:10002851-1777534200-1777535400@www.houghton.edu
SUMMARY:Thursday Morning Prayer
DESCRIPTION:Gather for morning prayer.\n—\nEvent Details: https://hub.houghton.edu/rsvp?id=384784
URL:https://www.houghton.edu/event/thursday-morning-prayer-14/
LOCATION:Sign in to download the location
CATEGORIES:Spiritual Life
END:VEVENT
BEGIN:VEVENT
DTSTART;TZID=America/New_York:20260430T110000
DTEND;TZID=America/New_York:20260430T120000
DTSTAMP:20260420T011823
CREATED:20251015T225005Z
LAST-MODIFIED:20260112T033506Z
UID:10002730-1777546800-1777550400@www.houghton.edu
SUMMARY:Open Pickleball
DESCRIPTION:Offering open play pickleball twice a week for beginners to advanced players.\n—\nEvent Details: https://hub.houghton.edu/rsvp?id=384553
URL:https://www.houghton.edu/event/open-pickleball-41/
LOCATION:Sign in to download the location
CATEGORIES:CAMPUSLIFE
END:VEVENT
BEGIN:VEVENT
DTSTART;TZID=America/New_York:20260430T150000
DTEND;TZID=America/New_York:20260430T183000
DTSTAMP:20260420T011823
CREATED:20250619T205026Z
LAST-MODIFIED:20260419T103457Z
UID:10002455-1777561200-1777573800@www.houghton.edu
SUMMARY:SB vs. SUNY Geneseo
DESCRIPTION:Softball Game 3:00PM/5:00PM\n—\nEvent Details: https://hub.houghton.edu/rsvp?id=383261
URL:https://www.houghton.edu/event/sb-vs-suny-geneseo/
LOCATION:Softball field\, 1 Willard Ave\, Houghton\, NY\, United States
CATEGORIES:Athletics
GEO:42.42565;-78.157131
X-APPLE-STRUCTURED-LOCATION;VALUE=URI;X-ADDRESS=Softball field 1 Willard Ave Houghton NY United States;X-APPLE-RADIUS=500;X-TITLE=1 Willard Ave:geo:-78.157131,42.42565
END:VEVENT
BEGIN:VEVENT
DTSTART;TZID=America/New_York:20260430T163000
DTEND;TZID=America/New_York:20260430T183000
DTSTAMP:20260420T011823
CREATED:20260414T140455Z
LAST-MODIFIED:20260419T140446Z
UID:10003081-1777566600-1777573800@www.houghton.edu
SUMMARY:Ultimate Campus Chef Competition
DESCRIPTION:Join us in the Campus Dining Hall to determine who is the Ultimate Campus Chef!\n*Student teams must sign up by April 23rd\n *Sign-up sheet is located at the checker station in the dining hall\n*Not competing? No problem — all are welcome to come watch and support!\n—\nEvent Details: https://hub.houghton.edu/rsvp?id=385270
URL:https://www.houghton.edu/event/ultimate-campus-chef-competition/
LOCATION:Sign in to download the location
CATEGORIES:ADMIN,Students
END:VEVENT
BEGIN:VEVENT
DTSTART;TZID=America/New_York:20260430T181500
DTEND;TZID=America/New_York:20260430T190000
DTSTAMP:20260420T011823
CREATED:20260220T095008Z
LAST-MODIFIED:20260419T164948Z
UID:10003011-1777572900-1777575600@www.houghton.edu
SUMMARY:Women's Life Together Group
DESCRIPTION:The Women’s Life Together Group will be a time dedicated for the Women at Houghton to spend time mediating on the Lord’s Word and walking through life together. Our theme for this semester is the fear of the Lord (Proverbs 31:10) and how a healthy fear of the Lord leads us to fully live out our purpose. We meet every Thursday from 6:15pm-6:55pm\, if you have any questions please contact chesnie.waddingham26@houghton.edu. I hope to see you there!  — Event Details: https://hub.houghton.edu/rsvp?id=385134
URL:https://www.houghton.edu/event/womens-life-together-group-8/
LOCATION:Sign in to download the location
CATEGORIES:Spiritual Life
END:VEVENT
BEGIN:VEVENT
DTSTART;TZID=America/New_York:20260430T190000
DTEND;TZID=America/New_York:20260430T200000
DTSTAMP:20260420T011823
CREATED:20260123T080544Z
LAST-MODIFIED:20260419T164948Z
UID:10002921-1777575600-1777579200@www.houghton.edu
SUMMARY:Listening Prayer Study
DESCRIPTION:Following Brad Jersek’s book\, “Can You Hear Me.” Learn more about listening prayer in this book study throughout the semester.  — Event Details: https://hub.houghton.edu/rsvp?id=384937
URL:https://www.houghton.edu/event/listening-prayer-study-11/
LOCATION:SASF Meeting Room\, 1 Willard Ave\, Houghton\, NY\, United States
CATEGORIES:Spiritual Life
GEO:42.42565;-78.157131
X-APPLE-STRUCTURED-LOCATION;VALUE=URI;X-ADDRESS=SASF Meeting Room 1 Willard Ave Houghton NY United States;X-APPLE-RADIUS=500;X-TITLE=1 Willard Ave:geo:-78.157131,42.42565
END:VEVENT
BEGIN:VEVENT
DTSTART;TZID=America/New_York:20260430T190000
DTEND;TZID=America/New_York:20260430T200000
DTSTAMP:20260420T011823
CREATED:20260312T072007Z
LAST-MODIFIED:20260419T100456Z
UID:10003043-1777575600-1777579200@www.houghton.edu
SUMMARY:Coffeehouse
DESCRIPTION:Coffeehouse-a place to come enjoy a cup of Jo and listen to a variety of live entertainment.\n—\nEvent Details: https://hub.houghton.edu/rsvp?id=385192
URL:https://www.houghton.edu/event/coffeehouse-7/
LOCATION:Sign in to download the location
CATEGORIES:CAB
END:VEVENT
BEGIN:VEVENT
DTSTART;TZID=America/New_York:20260430T193000
DTEND;TZID=America/New_York:20260430T203000
DTSTAMP:20260420T011823
CREATED:20260116T033504Z
LAST-MODIFIED:20260419T092004Z
UID:10002902-1777577400-1777581000@www.houghton.edu
SUMMARY:Saxophone Ensemble Concert
DESCRIPTION:Saxophone Ensemble Concert\n\n—\nEvent Details: https://hub.houghton.edu/rsvp?id=384890
URL:https://www.houghton.edu/event/saxophone-ensemble-concert/
LOCATION:CFA Recital Hall\, 42.427041\,-78.153753
CATEGORIES:GSOM
ORGANIZER;CN="Greatbatch School of Music":MAILTO:music@houghton.edu
END:VEVENT
BEGIN:VEVENT
DTSTART;TZID=America/New_York:20260501T111000
DTEND;TZID=America/New_York:20260501T115000
DTSTAMP:20260420T011823
CREATED:20260108T063508Z
LAST-MODIFIED:20260419T164948Z
UID:10002888-1777633800-1777636200@www.houghton.edu
SUMMARY:Chapel - President Wayne Lewis
DESCRIPTION:Chapel with President Lewis\n—\nEvent Details: https://hub.houghton.edu/rsvp?id=384836
URL:https://www.houghton.edu/event/chapel-president-wayne-lewis-3/
LOCATION:Sign in to download the location
CATEGORIES:Spiritual Life
END:VEVENT
BEGIN:VEVENT
DTSTART;TZID=America/New_York:20260501T193000
DTEND;TZID=America/New_York:20260501T210000
DTSTAMP:20260420T011823
CREATED:20251107T232009Z
LAST-MODIFIED:20260419T092004Z
UID:10002765-1777663800-1777669200@www.houghton.edu
SUMMARY:Houghton Choir Concert
DESCRIPTION:Houghton Choir Concert\n\n—\nEvent Details: https://hub.houghton.edu/rsvp?id=384649
URL:https://www.houghton.edu/event/houghton-choir-concert-4/
LOCATION:Houghton Wesleyan Church\, 9712 NY-19\, Houghton\, 14744\, United States
CATEGORIES:GSOM
ORGANIZER;CN="Greatbatch School of Music":MAILTO:music@houghton.edu
END:VEVENT
BEGIN:VEVENT
DTSTART;TZID=America/New_York:20260502T083000
DTEND;TZID=America/New_York:20260502T170000
DTSTAMP:20260420T011823
CREATED:20260120T003447Z
LAST-MODIFIED:20260420T050446Z
UID:10002904-1777710600-1777741200@www.houghton.edu
SUMMARY:Spring Dressage Schooling Show
DESCRIPTION:Come join some friendly dressage competition at our Spring Dressage Schooling Show! For the price of an entry fee you will get the chance to show off your horse in a friendly environment\, a score sheet with judges feedback\, and a shot at a ribbon! This show is a part of the WNYDA Challenge Show Series and opportunities for year end WNYDA awards are possible for all active members with high point scores. Options to ride USEA Eventing tests or WDAA Western Dressage tests are available for this show!  New this year! WDAA tests will be eligible for WNYDA awards. Make sure to become a member.  USEA tests will not count towards the WNYDA Challenge Show Series.  New this year: Online registration now available in addition to paper copies. Use the link below to register online.  https://forms.gle/vuPiFjS5KMZQyLcbA *Note-Payment will still need to be mailed in to confirm registration and secure show spot.  — Event Details: https://hub.houghton.edu/rsvp?id=384896
URL:https://www.houghton.edu/event/spring-dressage-schooling-show/
LOCATION:Equestrian Center\, 9823 School Farm Rd\, Houghton\, NY\, United States
CATEGORIES:Equestrian
GEO:42.431326;-78.176592
X-APPLE-STRUCTURED-LOCATION;VALUE=URI;X-ADDRESS=Equestrian Center 9823 School Farm Rd Houghton NY United States;X-APPLE-RADIUS=500;X-TITLE=9823 School Farm Rd:geo:-78.176592,42.431326
END:VEVENT
BEGIN:VEVENT
DTSTART;TZID=America/New_York:20260503T190000
DTEND;TZID=America/New_York:20260503T200000
DTSTAMP:20260420T011823
CREATED:20250903T005000Z
LAST-MODIFIED:20260419T164948Z
UID:10002615-1777834800-1777838400@www.houghton.edu
SUMMARY:Koinonia
DESCRIPTION:Koinonia is a student-led\, informal praise gathering of college students and community members who desire to encounter Jesus Christ through worship in songs\, scripture\, prayer\, and testimony. — Event Details: https://hub.houghton.edu/rsvp?id=383579
URL:https://www.houghton.edu/event/koinonia-29/
LOCATION:Sign in to download the location
CATEGORIES:Spiritual Life
END:VEVENT
BEGIN:VEVENT
DTSTART;TZID=America/New_York:20260505T073000
DTEND;TZID=America/New_York:20260505T075000
DTSTAMP:20260420T011823
CREATED:20260107T063501Z
LAST-MODIFIED:20260419T164948Z
UID:10002852-1777966200-1777967400@www.houghton.edu
SUMMARY:Tuesday Morning Prayer
DESCRIPTION:Gather for morning prayer in a liturgical style.\n—\nEvent Details: https://hub.houghton.edu/rsvp?id=384770
URL:https://www.houghton.edu/event/tuesday-morning-prayer-28/
LOCATION:Sign in to download the location
CATEGORIES:Spiritual Life
END:VEVENT
BEGIN:VEVENT
DTSTART;TZID=America/New_York:20260505T193000
DTEND;TZID=America/New_York:20260505T195000
DTSTAMP:20260420T011823
CREATED:20260107T063502Z
LAST-MODIFIED:20260107T063502Z
UID:10002853-1778009400-1778010600@www.houghton.edu
SUMMARY:Tuesday Morning Prayer
DESCRIPTION:Gather for morning prayer in a liturgical style.\n—\nEvent Details: https://hub.houghton.edu/rsvp?id=384799
URL:https://www.houghton.edu/event/tuesday-morning-prayer-29/
LOCATION:Sign in to download the location
CATEGORIES:Spiritual Life
END:VEVENT
BEGIN:VEVENT
DTSTART;TZID=America/New_York:20260507T073000
DTEND;TZID=America/New_York:20260507T075000
DTSTAMP:20260420T011823
CREATED:20260107T063502Z
LAST-MODIFIED:20260419T164948Z
UID:10002854-1778139000-1778140200@www.houghton.edu
SUMMARY:Thursday Morning Prayer
DESCRIPTION:Gather for morning prayer.\n—\nEvent Details: https://hub.houghton.edu/rsvp?id=384785
URL:https://www.houghton.edu/event/thursday-morning-prayer-15/
LOCATION:Sign in to download the location
CATEGORIES:Spiritual Life
END:VEVENT
END:VCALENDAR