


BEGIN:VCALENDAR
VERSION:2.0
PRODID:-//Houghton University - ECPv6.15.20//NONSGML v1.0//EN
CALSCALE:GREGORIAN
METHOD:PUBLISH
X-WR-CALNAME:Houghton University
X-ORIGINAL-URL:https://www.houghton.edu
X-WR-CALDESC:Events for Houghton University
REFRESH-INTERVAL;VALUE=DURATION:PT1H
X-Robots-Tag:noindex
X-PUBLISHED-TTL:PT1H
BEGIN:VTIMEZONE
TZID:America/New_York
BEGIN:DAYLIGHT
TZOFFSETFROM:-0500
TZOFFSETTO:-0400
TZNAME:EDT
DTSTART:20250309T070000
END:DAYLIGHT
BEGIN:STANDARD
TZOFFSETFROM:-0400
TZOFFSETTO:-0500
TZNAME:EST
DTSTART:20251102T060000
END:STANDARD
BEGIN:DAYLIGHT
TZOFFSETFROM:-0500
TZOFFSETTO:-0400
TZNAME:EDT
DTSTART:20260308T070000
END:DAYLIGHT
BEGIN:STANDARD
TZOFFSETFROM:-0400
TZOFFSETTO:-0500
TZNAME:EST
DTSTART:20261101T060000
END:STANDARD
BEGIN:DAYLIGHT
TZOFFSETFROM:-0500
TZOFFSETTO:-0400
TZNAME:EDT
DTSTART:20270314T070000
END:DAYLIGHT
BEGIN:STANDARD
TZOFFSETFROM:-0400
TZOFFSETTO:-0500
TZNAME:EST
DTSTART:20271107T060000
END:STANDARD
BEGIN:DAYLIGHT
TZOFFSETFROM:-0500
TZOFFSETTO:-0400
TZNAME:EDT
DTSTART:20280312T070000
END:DAYLIGHT
BEGIN:STANDARD
TZOFFSETFROM:-0400
TZOFFSETTO:-0500
TZNAME:EST
DTSTART:20281105T060000
END:STANDARD
END:VTIMEZONE
BEGIN:VEVENT
DTSTART;TZID=America/New_York:20261107T150000
DTEND;TZID=America/New_York:20261107T160000
DTSTAMP:20260422T190014
CREATED:20260422T065017Z
LAST-MODIFIED:20260422T092046Z
UID:10003113-1794063600-1794067200@www.houghton.edu
SUMMARY:Honor Orchestra and Honor Choir Concert
DESCRIPTION:High school students join our orchestra and choir.\n—\nEvent Details: https://hub.houghton.edu/rsvp?id=385333
URL:https://www.houghton.edu/event/honor-orchestra-and-honor-choir-concert/
LOCATION:Wesley Chapel\, 42.427041\,-78.153753
CATEGORIES:GSOM
ORGANIZER;CN="Greatbatch School of Music":MAILTO:music@houghton.edu
END:VEVENT
BEGIN:VEVENT
DTSTART;TZID=America/New_York:20261117T193000
DTEND;TZID=America/New_York:20261117T210000
DTSTAMP:20260422T190014
CREATED:20260321T060516Z
LAST-MODIFIED:20260422T092046Z
UID:10003057-1794943800-1794949200@www.houghton.edu
SUMMARY:Jazz Ensemble Concert
DESCRIPTION:Jazz Ensemble Concert\n—\nEvent Details: https://hub.houghton.edu/rsvp?id=385223
URL:https://www.houghton.edu/event/jazz-ensemble-concert/
LOCATION:Wesley Chapel\, 42.427041\,-78.153753
CATEGORIES:GSOM
ORGANIZER;CN="Greatbatch School of Music":MAILTO:music@houghton.edu
END:VEVENT
BEGIN:VEVENT
DTSTART;TZID=America/New_York:20261119T193000
DTEND;TZID=America/New_York:20261119T223000
DTSTAMP:20260422T190014
CREATED:20260422T065017Z
LAST-MODIFIED:20260422T092047Z
UID:10003114-1795116600-1795127400@www.houghton.edu
SUMMARY:Lyric Theatre: Jason Robert Brown's Songs for a New World
DESCRIPTION:Lyric Theatre: Jason Robert Brown’s Songs for a New World\n—\nEvent Details: https://hub.houghton.edu/rsvp?id=385334
URL:https://www.houghton.edu/event/lyric-theatre-jason-robert-browns-songs-for-a-new-world/
LOCATION:CFA Recital Hall\, 42.427041\,-78.153753
CATEGORIES:GSOM
ORGANIZER;CN="Greatbatch School of Music":MAILTO:music@houghton.edu
END:VEVENT
BEGIN:VEVENT
DTSTART;TZID=America/New_York:20261121T193000
DTEND;TZID=America/New_York:20261121T223000
DTSTAMP:20260422T190014
CREATED:20260422T065018Z
LAST-MODIFIED:20260422T092047Z
UID:10003115-1795289400-1795300200@www.houghton.edu
SUMMARY:Lyric Theatre: Jason Robert Brown's Songs for a New World
DESCRIPTION:Lyric Theatre: Jason Robert Brown’s Songs for a New World\n—\nEvent Details: https://hub.houghton.edu/rsvp?id=385336
URL:https://www.houghton.edu/event/lyric-theatre-jason-robert-browns-songs-for-a-new-world-2/
LOCATION:CFA Recital Hall\, 42.427041\,-78.153753
CATEGORIES:GSOM
ORGANIZER;CN="Greatbatch School of Music":MAILTO:music@houghton.edu
END:VEVENT
BEGIN:VEVENT
DTSTART;TZID=America/New_York:20261202T183000
DTEND;TZID=America/New_York:20261202T193000
DTSTAMP:20260422T190014
CREATED:20260321T060516Z
LAST-MODIFIED:20260422T092047Z
UID:10003058-1796236200-1796239800@www.houghton.edu
SUMMARY:Composition Recital
DESCRIPTION:Composition Recital\n—\nEvent Details: https://hub.houghton.edu/rsvp?id=385225
URL:https://www.houghton.edu/event/composition-recital-6/
LOCATION:CFA Recital Hall\, 42.427041\,-78.153753
CATEGORIES:GSOM
ORGANIZER;CN="Greatbatch School of Music":MAILTO:music@houghton.edu
END:VEVENT
BEGIN:VEVENT
DTSTART;TZID=America/New_York:20261202T200000
DTEND;TZID=America/New_York:20261202T210000
DTSTAMP:20260422T190014
CREATED:20260321T060516Z
LAST-MODIFIED:20260422T092047Z
UID:10003059-1796241600-1796245200@www.houghton.edu
SUMMARY:Composition Recital
DESCRIPTION:Composition Recital\n—\nEvent Details: https://hub.houghton.edu/rsvp?id=385226
URL:https://www.houghton.edu/event/composition-recital-7/
LOCATION:CFA Recital Hall\, 42.427041\,-78.153753
CATEGORIES:GSOM
ORGANIZER;CN="Greatbatch School of Music":MAILTO:music@houghton.edu
END:VEVENT
BEGIN:VEVENT
DTSTART;TZID=America/New_York:20261205T193000
DTEND;TZID=America/New_York:20261205T213000
DTSTAMP:20260422T190014
CREATED:20260422T065018Z
LAST-MODIFIED:20260422T174958Z
UID:10003116-1796499000-1796506200@www.houghton.edu
SUMMARY:Christmas Prism
DESCRIPTION:Christmas Prism\n—\nEvent Details: https://hub.houghton.edu/rsvp?id=385337
URL:https://www.houghton.edu/event/christmas-prism/
LOCATION:Wesley Chapel\, 42.427041\,-78.153753
CATEGORIES:Alumni,GSOM
ORGANIZER;CN="Greatbatch School of Music":MAILTO:music@houghton.edu
END:VEVENT
BEGIN:VEVENT
DTSTART;TZID=America/New_York:20261208T220000
DTEND;TZID=America/New_York:20261208T230000
DTSTAMP:20260422T190014
CREATED:20260421T101951Z
LAST-MODIFIED:20260422T102000Z
UID:10003100-1796767200-1796770800@www.houghton.edu
SUMMARY:Late Night Breakfast
DESCRIPTION:Late Night Breakfast!\n—\nEvent Details: https://hub.houghton.edu/rsvp?id=385312
URL:https://www.houghton.edu/event/late-night-breakfast-3/
LOCATION:Sign in to download the location
CATEGORIES:CAB
END:VEVENT
BEGIN:VEVENT
DTSTART;TZID=America/New_York:20270203T183000
DTEND;TZID=America/New_York:20270203T193000
DTSTAMP:20260422T190014
CREATED:20260321T060516Z
LAST-MODIFIED:20260422T092047Z
UID:10003060-1801679400-1801683000@www.houghton.edu
SUMMARY:Composition in the Atrium
DESCRIPTION:GSOM composers will present a short concert of brand-new works! The performance will feature a mix of traditional and experimental pieces that utilize the atrium space to stretch our understanding of sound and music. Come join us for a concert unlike anything you’ve heard before!\n—\nEvent Details: https://hub.houghton.edu/rsvp?id=385229
URL:https://www.houghton.edu/event/composition-in-the-atrium/
LOCATION:CFA Atrium\, 42.427041\,-78.153753
CATEGORIES:GSOM
ORGANIZER;CN="Greatbatch School of Music":MAILTO:music@houghton.edu
END:VEVENT
BEGIN:VEVENT
DTSTART;TZID=America/New_York:20270209T110000
DTEND;TZID=America/New_York:20270209T120000
DTSTAMP:20260422T190014
CREATED:20260421T064953Z
LAST-MODIFIED:20260422T065018Z
UID:10003087-1802170800-1802174400@www.houghton.edu
SUMMARY:Fall Honors Celebration Reception
DESCRIPTION:An informal gathering for the students that have earned a spot on the Fall Dean’s List\, Dean’s Honor List\, and the President’s List. — Event Details: https://hub.houghton.edu/rsvp?id=385296
URL:https://www.houghton.edu/event/fall-honors-celebration-reception/
LOCATION:Van Dyk Lounge\, 1 Willard Ave\, Houghton\, NY\, United States
CATEGORIES:CAMPUSLIFE
GEO:42.42565;-78.157131
X-APPLE-STRUCTURED-LOCATION;VALUE=URI;X-ADDRESS=Van Dyk Lounge 1 Willard Ave Houghton NY United States;X-APPLE-RADIUS=500;X-TITLE=1 Willard Ave:geo:-78.157131,42.42565
END:VEVENT
BEGIN:VEVENT
DTSTART;TZID=America/New_York:20270308T210000
DTEND;TZID=America/New_York:20270308T230000
DTSTAMP:20260422T190014
CREATED:20260421T101951Z
LAST-MODIFIED:20260422T102000Z
UID:10003101-1804539600-1804546800@www.houghton.edu
SUMMARY:Hall Brawl
DESCRIPTION:Hall Brawl events\n—\nEvent Details: https://hub.houghton.edu/rsvp?id=385313
URL:https://www.houghton.edu/event/hall-brawl-2/
LOCATION:Sign in to download the location
CATEGORIES:CAB
END:VEVENT
BEGIN:VEVENT
DTSTART;TZID=America/New_York:20270309T210000
DTEND;TZID=America/New_York:20270309T230000
DTSTAMP:20260422T190014
CREATED:20260421T101951Z
LAST-MODIFIED:20260422T102000Z
UID:10003102-1804626000-1804633200@www.houghton.edu
SUMMARY:Hall Brawl
DESCRIPTION:Hall Brawl events\n—\nEvent Details: https://hub.houghton.edu/rsvp?id=385314
URL:https://www.houghton.edu/event/hall-brawl-3/
LOCATION:Sign in to download the location
CATEGORIES:CAB
END:VEVENT
BEGIN:VEVENT
DTSTART;TZID=America/New_York:20270310T210000
DTEND;TZID=America/New_York:20270310T230000
DTSTAMP:20260422T190014
CREATED:20260421T101951Z
LAST-MODIFIED:20260422T102000Z
UID:10003103-1804712400-1804719600@www.houghton.edu
SUMMARY:Hall Brawl
DESCRIPTION:Hall Brawl events\n—\nEvent Details: https://hub.houghton.edu/rsvp?id=385315
URL:https://www.houghton.edu/event/hall-brawl-4/
LOCATION:Sign in to download the location
CATEGORIES:CAB
END:VEVENT
BEGIN:VEVENT
DTSTART;TZID=America/New_York:20270311T210000
DTEND;TZID=America/New_York:20270311T230000
DTSTAMP:20260422T190014
CREATED:20260421T101951Z
LAST-MODIFIED:20260422T102000Z
UID:10003104-1804798800-1804806000@www.houghton.edu
SUMMARY:Hall Brawl
DESCRIPTION:Hall Brawl events\n—\nEvent Details: https://hub.houghton.edu/rsvp?id=385316
URL:https://www.houghton.edu/event/hall-brawl-5/
LOCATION:Sign in to download the location
CATEGORIES:CAB
END:VEVENT
BEGIN:VEVENT
DTSTART;TZID=America/New_York:20270312T210000
DTEND;TZID=America/New_York:20270312T230000
DTSTAMP:20260422T190014
CREATED:20260421T101951Z
LAST-MODIFIED:20260422T102000Z
UID:10003105-1804885200-1804892400@www.houghton.edu
SUMMARY:Hall Brawl
DESCRIPTION:Hall Brawl events\n—\nEvent Details: https://hub.houghton.edu/rsvp?id=385317
URL:https://www.houghton.edu/event/hall-brawl-6/
LOCATION:Sign in to download the location
CATEGORIES:CAB
END:VEVENT
BEGIN:VEVENT
DTSTART;TZID=America/New_York:20270313T210000
DTEND;TZID=America/New_York:20270313T230000
DTSTAMP:20260422T190014
CREATED:20260421T101951Z
LAST-MODIFIED:20260422T102001Z
UID:10003106-1804971600-1804978800@www.houghton.edu
SUMMARY:SPOT
DESCRIPTION:SPOT\n—\nEvent Details: https://hub.houghton.edu/rsvp?id=385318
URL:https://www.houghton.edu/event/spot/
LOCATION:Sign in to download the location
CATEGORIES:CAB
END:VEVENT
BEGIN:VEVENT
DTSTART;TZID=America/New_York:20270318T110000
DTEND;TZID=America/New_York:20270318T120000
DTSTAMP:20260422T190014
CREATED:20260421T064953Z
LAST-MODIFIED:20260422T065018Z
UID:10003088-1805367600-1805371200@www.houghton.edu
SUMMARY:Rank and Tenure Celebration
DESCRIPTION:Please join us at this casual gathering to celebrate those faculty members receiving promotions or receiving tenure this year.\nDress Code: Casual (jeans ok)\n—\nEvent Details: https://hub.houghton.edu/rsvp?id=385301
URL:https://www.houghton.edu/event/rank-and-tenure-celebration/
LOCATION:Sign in to download the location
CATEGORIES:CAMPUSLIFE
END:VEVENT
BEGIN:VEVENT
DTSTART;TZID=America/New_York:20270410T210000
DTEND;TZID=America/New_York:20270410T230000
DTSTAMP:20260422T190014
CREATED:20260421T101951Z
LAST-MODIFIED:20260422T102001Z
UID:10003107-1807390800-1807398000@www.houghton.edu
SUMMARY:Roller Skating
DESCRIPTION:Roller Skating\n—\nEvent Details: https://hub.houghton.edu/rsvp?id=385319
URL:https://www.houghton.edu/event/roller-skating/
LOCATION:Sign in to download the location
CATEGORIES:CAB
END:VEVENT
BEGIN:VEVENT
DTSTART;TZID=America/New_York:20270420T193000
DTEND;TZID=America/New_York:20270420T203000
DTSTAMP:20260422T190014
CREATED:20260321T060517Z
LAST-MODIFIED:20260422T092048Z
UID:10003061-1808249400-1808253000@www.houghton.edu
SUMMARY:Jazz Ensemble Concert
DESCRIPTION:Jazz Ensemble Concert\n—\nEvent Details: https://hub.houghton.edu/rsvp?id=385234
URL:https://www.houghton.edu/event/jazz-ensemble-concert-2/
LOCATION:Wesley Chapel\, 42.427041\,-78.153753
CATEGORIES:GSOM
ORGANIZER;CN="Greatbatch School of Music":MAILTO:music@houghton.edu
END:VEVENT
BEGIN:VEVENT
DTSTART;TZID=America/New_York:20270426T183000
DTEND;TZID=America/New_York:20270426T193000
DTSTAMP:20260422T190014
CREATED:20260321T060517Z
LAST-MODIFIED:20260422T092048Z
UID:10003062-1808764200-1808767800@www.houghton.edu
SUMMARY:Composition Recital
DESCRIPTION:Composition Recital\n—\nEvent Details: https://hub.houghton.edu/rsvp?id=385236
URL:https://www.houghton.edu/event/composition-recital-8/
LOCATION:CFA Recital Hall\, 42.427041\,-78.153753
CATEGORIES:GSOM
ORGANIZER;CN="Greatbatch School of Music":MAILTO:music@houghton.edu
END:VEVENT
BEGIN:VEVENT
DTSTART;TZID=America/New_York:20270426T200000
DTEND;TZID=America/New_York:20270426T210000
DTSTAMP:20260422T190014
CREATED:20260321T060517Z
LAST-MODIFIED:20260422T092048Z
UID:10003063-1808769600-1808773200@www.houghton.edu
SUMMARY:Composition Recital
DESCRIPTION:Composition Recital\n—\nEvent Details: https://hub.houghton.edu/rsvp?id=385237
URL:https://www.houghton.edu/event/composition-recital-9/
LOCATION:CFA Recital Hall\, 42.427041\,-78.153753
CATEGORIES:GSOM
ORGANIZER;CN="Greatbatch School of Music":MAILTO:music@houghton.edu
END:VEVENT
BEGIN:VEVENT
DTSTART;TZID=America/New_York:20270429T190000
DTEND;TZID=America/New_York:20270429T210000
DTSTAMP:20260422T190014
CREATED:20260422T104948Z
LAST-MODIFIED:20260422T104948Z
UID:10003121-1809025200-1809032400@www.houghton.edu
SUMMARY:Houghton Athletics Night of Excellence
DESCRIPTION:Night of Excellence\n—\nEvent Details: https://hub.houghton.edu/rsvp?id=385326
URL:https://www.houghton.edu/event/houghton-athletics-night-of-excellence-2/
LOCATION:Wesley Chapel\, 1 Willard Ave\, Houghton\, NY\, United States
CATEGORIES:Athletics
GEO:42.42565;-78.157131
X-APPLE-STRUCTURED-LOCATION;VALUE=URI;X-ADDRESS=Wesley Chapel 1 Willard Ave Houghton NY United States;X-APPLE-RADIUS=500;X-TITLE=1 Willard Ave:geo:-78.157131,42.42565
END:VEVENT
BEGIN:VEVENT
DTSTART;TZID=America/New_York:20270501T120000
DTEND;TZID=America/New_York:20270501T140000
DTSTAMP:20260422T190014
CREATED:20260422T104948Z
LAST-MODIFIED:20260422T104948Z
UID:10003122-1809172800-1809180000@www.houghton.edu
SUMMARY:Hall of Honor Luncheon
DESCRIPTION:Luncheon\n—\nEvent Details: https://hub.houghton.edu/rsvp?id=385328
URL:https://www.houghton.edu/event/hall-of-honor-luncheon-2/
LOCATION:Dining Hall\, 1 Willard Ave\, Houghton\, NY\, United States
CATEGORIES:Athletics
GEO:42.42565;-78.157131
X-APPLE-STRUCTURED-LOCATION;VALUE=URI;X-ADDRESS=Dining Hall 1 Willard Ave Houghton NY United States;X-APPLE-RADIUS=500;X-TITLE=1 Willard Ave:geo:-78.157131,42.42565
END:VEVENT
END:VCALENDAR