


BEGIN:VCALENDAR
VERSION:2.0
PRODID:-//Houghton University - ECPv6.15.20//NONSGML v1.0//EN
CALSCALE:GREGORIAN
METHOD:PUBLISH
X-WR-CALNAME:Houghton University
X-ORIGINAL-URL:https://www.houghton.edu
X-WR-CALDESC:Events for Houghton University
REFRESH-INTERVAL;VALUE=DURATION:PT1H
X-Robots-Tag:noindex
X-PUBLISHED-TTL:PT1H
BEGIN:VTIMEZONE
TZID:America/New_York
BEGIN:DAYLIGHT
TZOFFSETFROM:-0500
TZOFFSETTO:-0400
TZNAME:EDT
DTSTART:20250309T070000
END:DAYLIGHT
BEGIN:STANDARD
TZOFFSETFROM:-0400
TZOFFSETTO:-0500
TZNAME:EST
DTSTART:20251102T060000
END:STANDARD
BEGIN:DAYLIGHT
TZOFFSETFROM:-0500
TZOFFSETTO:-0400
TZNAME:EDT
DTSTART:20260308T070000
END:DAYLIGHT
BEGIN:STANDARD
TZOFFSETFROM:-0400
TZOFFSETTO:-0500
TZNAME:EST
DTSTART:20261101T060000
END:STANDARD
BEGIN:DAYLIGHT
TZOFFSETFROM:-0500
TZOFFSETTO:-0400
TZNAME:EDT
DTSTART:20270314T070000
END:DAYLIGHT
BEGIN:STANDARD
TZOFFSETFROM:-0400
TZOFFSETTO:-0500
TZNAME:EST
DTSTART:20271107T060000
END:STANDARD
END:VTIMEZONE
BEGIN:VEVENT
DTSTART;TZID=America/New_York:20260210T193000
DTEND;TZID=America/New_York:20260210T195000
DTSTAMP:20260421T104735
CREATED:20260107T063454Z
LAST-MODIFIED:20260107T063454Z
UID:10002823-1770751800-1770753000@www.houghton.edu
SUMMARY:Tuesday Morning Prayer
DESCRIPTION:Gather for morning prayer in a liturgical style.\n—\nEvent Details: https://hub.houghton.edu/rsvp?id=384789
URL:https://www.houghton.edu/event/tuesday-morning-prayer-9/
LOCATION:Sign in to download the location
CATEGORIES:Spiritual Life
END:VEVENT
BEGIN:VEVENT
DTSTART;TZID=America/New_York:20260210T190000
DTEND;TZID=America/New_York:20260210T200000
DTSTAMP:20260421T104735
CREATED:20260127T083500Z
LAST-MODIFIED:20260210T091955Z
UID:10002949-1770750000-1770753600@www.houghton.edu
SUMMARY:Bible Study - Spritual Disciplines
DESCRIPTION:We will be discussing spiritual disciplines using Practicing The Way as an approached to writing your own rule of life.\n—\nEvent Details: https://hub.houghton.edu/rsvp?id=384975
URL:https://www.houghton.edu/event/bible-study-spritual-disciplines-2/
LOCATION:Sign in to download the location
CATEGORIES:Spiritual Life
END:VEVENT
BEGIN:VEVENT
DTSTART;TZID=America/New_York:20260210T073000
DTEND;TZID=America/New_York:20260210T075000
DTSTAMP:20260421T104735
CREATED:20260107T063454Z
LAST-MODIFIED:20260210T091955Z
UID:10002822-1770708600-1770709800@www.houghton.edu
SUMMARY:Tuesday Morning Prayer
DESCRIPTION:Gather for morning prayer in a liturgical style.\n—\nEvent Details: https://hub.houghton.edu/rsvp?id=384760
URL:https://www.houghton.edu/event/tuesday-morning-prayer-8/
LOCATION:Sign in to download the location
CATEGORIES:Spiritual Life
END:VEVENT
BEGIN:VEVENT
DTSTART;TZID=America/New_York:20260209T111000
DTEND;TZID=America/New_York:20260209T115000
DTSTAMP:20260421T104735
CREATED:20260108T063457Z
LAST-MODIFIED:20260209T091953Z
UID:10002866-1770635400-1770637800@www.houghton.edu
SUMMARY:Chapel with Rev. Dr. Nicole Massie Martin\, author of Nailing It: Why Successful Leadership Demands Suffering and Surrender (2025)
DESCRIPTION:Chapel with Dr. Nicole Massie Martin\, author of Nailing It: Why Successful Leadership Demands Suffering and Surrender (2025). Rev. Dr. Martin is a pastor\, speaker\, author\, COO of Christianity Today\, and founder of Soulfire Ministries.  — Event Details: https://hub.houghton.edu/rsvp?id=384817
URL:https://www.houghton.edu/event/chapel-dr-nichole-massie-martin/
LOCATION:Sign in to download the location
CATEGORIES:Spiritual Life
END:VEVENT
BEGIN:VEVENT
DTSTART;TZID=America/New_York:20260208T170000
DTEND;TZID=America/New_York:20260208T180000
DTSTAMP:20260421T104735
CREATED:20250903T004957Z
LAST-MODIFIED:20260208T091951Z
UID:10002605-1770570000-1770573600@www.houghton.edu
SUMMARY:Koinonia
DESCRIPTION:Koinonia is a student-led\, informal praise gathering of college students and community members who desire to encounter Jesus Christ through worship in songs\, scripture\, prayer\, and testimony. — Event Details: https://hub.houghton.edu/rsvp?id=383569
URL:https://www.houghton.edu/event/koinonia-19/
LOCATION:Sign in to download the location
CATEGORIES:Spiritual Life
END:VEVENT
BEGIN:VEVENT
DTSTART;TZID=America/New_York:20260206T160000
DTEND;TZID=America/New_York:20260206T163000
DTSTAMP:20260421T104735
CREATED:20260124T080458Z
LAST-MODIFIED:20260206T090456Z
UID:10002926-1770393600-1770395400@www.houghton.edu
SUMMARY:Life Together Group: Study of the Gospel Of John
DESCRIPTION:We will be studying the Gospel of John together every Friday.\n—\nEvent Details: https://hub.houghton.edu/rsvp?id=384947
URL:https://www.houghton.edu/event/life-together-group-study-of-the-gospel-of-john-2/
LOCATION:Sign in to download the location
CATEGORIES:Spiritual Life
END:VEVENT
BEGIN:VEVENT
DTSTART;TZID=America/New_York:20260206T111000
DTEND;TZID=America/New_York:20260206T115000
DTSTAMP:20260421T104735
CREATED:20260108T063457Z
LAST-MODIFIED:20260206T090456Z
UID:10002865-1770376200-1770378600@www.houghton.edu
SUMMARY:Chapel - Mike Schooley
DESCRIPTION:Chapel with Mike Schooley\n—\nEvent Details: https://hub.houghton.edu/rsvp?id=384816
URL:https://www.houghton.edu/event/chapel-mike-schoolery/
LOCATION:Sign in to download the location
CATEGORIES:Spiritual Life
END:VEVENT
BEGIN:VEVENT
DTSTART;TZID=America/New_York:20260205T073000
DTEND;TZID=America/New_York:20260205T075000
DTSTAMP:20260421T104735
CREATED:20260107T063453Z
LAST-MODIFIED:20260205T090454Z
UID:10002821-1770276600-1770277800@www.houghton.edu
SUMMARY:Thursday Morning Prayer
DESCRIPTION:Gather for morning prayer.\n—\nEvent Details: https://hub.houghton.edu/rsvp?id=384774
URL:https://www.houghton.edu/event/thursday-morning-prayer-4/
LOCATION:Sign in to download the location
CATEGORIES:Spiritual Life
END:VEVENT
BEGIN:VEVENT
DTSTART;TZID=America/New_York:20260204T190000
DTEND;TZID=America/New_York:20260204T193000
DTSTAMP:20260421T104735
CREATED:20260124T080458Z
LAST-MODIFIED:20260204T085026Z
UID:10002925-1770231600-1770233400@www.houghton.edu
SUMMARY:Life Together Group - Study of Galatians
DESCRIPTION:We will be studying the book of Galatians every Wednesday.\n—\nEvent Details: https://hub.houghton.edu/rsvp?id=384958
URL:https://www.houghton.edu/event/life-together-group-study-of-galatians-2/
LOCATION:Sign in to download the location
CATEGORIES:Spiritual Life
END:VEVENT
BEGIN:VEVENT
DTSTART;TZID=America/New_York:20260204T111000
DTEND;TZID=America/New_York:20260204T115000
DTSTAMP:20260421T104735
CREATED:20260108T063456Z
LAST-MODIFIED:20260204T085026Z
UID:10002864-1770203400-1770205800@www.houghton.edu
SUMMARY:Around the Table - Worship Music
DESCRIPTION:Gathering to reflect on God’s goodness.\n—\nEvent Details: https://hub.houghton.edu/rsvp?id=384754
URL:https://www.houghton.edu/event/around-the-table-4/
LOCATION:Sign in to download the location
CATEGORIES:Spiritual Life
END:VEVENT
BEGIN:VEVENT
DTSTART;TZID=America/New_York:20260203T193000
DTEND;TZID=America/New_York:20260203T195000
DTSTAMP:20260421T104735
CREATED:20260107T063453Z
LAST-MODIFIED:20260107T063453Z
UID:10002819-1770147000-1770148200@www.houghton.edu
SUMMARY:Tuesday Morning Prayer
DESCRIPTION:Gather for morning prayer in a liturgical style.\n—\nEvent Details: https://hub.houghton.edu/rsvp?id=384788
URL:https://www.houghton.edu/event/tuesday-morning-prayer-6/
LOCATION:Sign in to download the location
CATEGORIES:Spiritual Life
END:VEVENT
BEGIN:VEVENT
DTSTART;TZID=America/New_York:20260203T190000
DTEND;TZID=America/New_York:20260203T200000
DTSTAMP:20260421T104735
CREATED:20260127T083458Z
LAST-MODIFIED:20260203T084956Z
UID:10002948-1770145200-1770148800@www.houghton.edu
SUMMARY:Bible Study - Spritual Disciplines
DESCRIPTION:We will be discussing spiritual disciplines using Practicing The Way as an approached to writing your own rule of life.\n—\nEvent Details: https://hub.houghton.edu/rsvp?id=384974
URL:https://www.houghton.edu/event/bible-study-spritual-disciplines/
LOCATION:Sign in to download the location
CATEGORIES:Spiritual Life
END:VEVENT
BEGIN:VEVENT
DTSTART;TZID=America/New_York:20260203T073000
DTEND;TZID=America/New_York:20260203T075000
DTSTAMP:20260421T104735
CREATED:20260107T063453Z
LAST-MODIFIED:20260203T084956Z
UID:10002820-1770103800-1770105000@www.houghton.edu
SUMMARY:Tuesday Morning Prayer
DESCRIPTION:Gather for morning prayer in a liturgical style.\n—\nEvent Details: https://hub.houghton.edu/rsvp?id=384759
URL:https://www.houghton.edu/event/tuesday-morning-prayer-7/
LOCATION:Sign in to download the location
CATEGORIES:Spiritual Life
END:VEVENT
BEGIN:VEVENT
DTSTART;TZID=America/New_York:20260202T111000
DTEND;TZID=America/New_York:20260202T115000
DTSTAMP:20260421T104735
CREATED:20260108T063456Z
LAST-MODIFIED:20260202T085002Z
UID:10002863-1770030600-1770033000@www.houghton.edu
SUMMARY:Chapel - Joey Jennings
DESCRIPTION:Chapel with Joey Jennings\n—\nEvent Details: https://hub.houghton.edu/rsvp?id=384815
URL:https://www.houghton.edu/event/chapel-joey-jennings-2/
LOCATION:Sign in to download the location
CATEGORIES:Spiritual Life
END:VEVENT
BEGIN:VEVENT
DTSTART;TZID=America/New_York:20260201T190000
DTEND;TZID=America/New_York:20260201T200000
DTSTAMP:20260421T104735
CREATED:20250903T004957Z
LAST-MODIFIED:20260201T084952Z
UID:10002604-1769972400-1769976000@www.houghton.edu
SUMMARY:Koinonia
DESCRIPTION:Koinonia is a student-led\, informal praise gathering of college students and community members who desire to encounter Jesus Christ through worship in songs\, scripture\, prayer\, and testimony. — Event Details: https://hub.houghton.edu/rsvp?id=383568
URL:https://www.houghton.edu/event/koinonia-18/
LOCATION:Sign in to download the location
CATEGORIES:Spiritual Life
END:VEVENT
BEGIN:VEVENT
DTSTART;TZID=America/New_York:20260130T160000
DTEND;TZID=America/New_York:20260130T163000
DTSTAMP:20260421T104735
CREATED:20260124T080457Z
LAST-MODIFIED:20260130T085002Z
UID:10002924-1769788800-1769790600@www.houghton.edu
SUMMARY:Life Together Group: Study of the Gospel Of John
DESCRIPTION:We will be studying the Gospel of John together every Friday.\n—\nEvent Details: https://hub.houghton.edu/rsvp?id=384946
URL:https://www.houghton.edu/event/life-together-group-study-of-the-gospel-of-john/
LOCATION:Sign in to download the location
CATEGORIES:Spiritual Life
END:VEVENT
BEGIN:VEVENT
DTSTART;TZID=America/New_York:20260130T111000
DTEND;TZID=America/New_York:20260130T115000
DTSTAMP:20260421T104735
CREATED:20260108T063455Z
LAST-MODIFIED:20260130T085001Z
UID:10002862-1769771400-1769773800@www.houghton.edu
SUMMARY:Chapel - Michael Carey
DESCRIPTION:Chapel with Mike Carey\, Student Council  — Event Details: https://hub.houghton.edu/rsvp?id=384814
URL:https://www.houghton.edu/event/chapel-michael-carey/
LOCATION:Sign in to download the location
CATEGORIES:Spiritual Life
END:VEVENT
BEGIN:VEVENT
DTSTART;TZID=America/New_York:20260129T190000
DTEND;TZID=America/New_York:20260129T200000
DTSTAMP:20260421T104735
CREATED:20260123T080531Z
LAST-MODIFIED:20260129T084952Z
UID:10002910-1769713200-1769716800@www.houghton.edu
SUMMARY:Listening Prayer Study
DESCRIPTION:Following Brad Jersek’s book\, “Can You Hear Me.” Learn more about listening prayer in this book study throughout the semester.  — Event Details: https://hub.houghton.edu/rsvp?id=384927
URL:https://www.houghton.edu/event/listening-prayer-study/
LOCATION:SASF Meeting Room\, 1 Willard Ave\, Houghton\, NY\, United States
CATEGORIES:Spiritual Life
GEO:42.42565;-78.157131
X-APPLE-STRUCTURED-LOCATION;VALUE=URI;X-ADDRESS=SASF Meeting Room 1 Willard Ave Houghton NY United States;X-APPLE-RADIUS=500;X-TITLE=1 Willard Ave:geo:-78.157131,42.42565
END:VEVENT
BEGIN:VEVENT
DTSTART;TZID=America/New_York:20260129T073000
DTEND;TZID=America/New_York:20260129T075000
DTSTAMP:20260421T104735
CREATED:20260107T063453Z
LAST-MODIFIED:20260129T084952Z
UID:10002818-1769671800-1769673000@www.houghton.edu
SUMMARY:Thursday Morning Prayer
DESCRIPTION:Gather for morning prayer.\n—\nEvent Details: https://hub.houghton.edu/rsvp?id=384773
URL:https://www.houghton.edu/event/thursday-morning-prayer-3/
LOCATION:Sign in to download the location
CATEGORIES:Spiritual Life
END:VEVENT
BEGIN:VEVENT
DTSTART;TZID=America/New_York:20260128T190000
DTEND;TZID=America/New_York:20260128T193000
DTSTAMP:20260421T104735
CREATED:20260124T080456Z
LAST-MODIFIED:20260128T085016Z
UID:10002923-1769626800-1769628600@www.houghton.edu
SUMMARY:Life Together Group - Study of Galatians
DESCRIPTION:We will be studying the book of Galatians every Wednesday.\n—\nEvent Details: https://hub.houghton.edu/rsvp?id=384957
URL:https://www.houghton.edu/event/life-together-group-study-of-galatians/
LOCATION:Sign in to download the location
CATEGORIES:Spiritual Life
END:VEVENT
BEGIN:VEVENT
DTSTART;TZID=America/New_York:20260127T193000
DTEND;TZID=America/New_York:20260127T195000
DTSTAMP:20260421T104735
CREATED:20260107T063453Z
LAST-MODIFIED:20260107T063453Z
UID:10002817-1769542200-1769543400@www.houghton.edu
SUMMARY:Tuesday Morning Prayer
DESCRIPTION:Gather for morning prayer in a liturgical style.\n—\nEvent Details: https://hub.houghton.edu/rsvp?id=384787
URL:https://www.houghton.edu/event/tuesday-morning-prayer-5/
LOCATION:Sign in to download the location
CATEGORIES:Spiritual Life
END:VEVENT
BEGIN:VEVENT
DTSTART;TZID=America/New_York:20260127T073000
DTEND;TZID=America/New_York:20260127T075000
DTSTAMP:20260421T104735
CREATED:20260107T063452Z
LAST-MODIFIED:20260127T083457Z
UID:10002816-1769499000-1769500200@www.houghton.edu
SUMMARY:Tuesday Morning Prayer
DESCRIPTION:Gather for morning prayer in a liturgical style.\n—\nEvent Details: https://hub.houghton.edu/rsvp?id=384758
URL:https://www.houghton.edu/event/tuesday-morning-prayer-4/
LOCATION:Sign in to download the location
CATEGORIES:Spiritual Life
END:VEVENT
BEGIN:VEVENT
DTSTART;TZID=America/New_York:20260126T111000
DTEND;TZID=America/New_York:20260126T115000
DTSTAMP:20260421T104735
CREATED:20260108T063454Z
LAST-MODIFIED:20260126T082717Z
UID:10002861-1769425800-1769428200@www.houghton.edu
SUMMARY:Chapel - Pastor Scott Hallman
DESCRIPTION:Chapel with Scott Hallman\, Dean of Spiritual Life/Campus Pastor — Event Details: https://hub.houghton.edu/rsvp?id=384813
URL:https://www.houghton.edu/event/chapel-pastor-scott-hallman/
LOCATION:Sign in to download the location
CATEGORIES:Spiritual Life
END:VEVENT
BEGIN:VEVENT
DTSTART;TZID=America/New_York:20260125T190000
DTEND;TZID=America/New_York:20260125T200000
DTSTAMP:20260421T104735
CREATED:20250903T004957Z
LAST-MODIFIED:20260125T080454Z
UID:10002603-1769367600-1769371200@www.houghton.edu
SUMMARY:Koinonia
DESCRIPTION:Koinonia is a student-led\, informal praise gathering of college students and community members who desire to encounter Jesus Christ through worship in songs\, scripture\, prayer\, and testimony. — Event Details: https://hub.houghton.edu/rsvp?id=383567
URL:https://www.houghton.edu/event/koinonia-17/
LOCATION:Sign in to download the location
CATEGORIES:Spiritual Life
END:VEVENT
BEGIN:VEVENT
DTSTART;TZID=America/New_York:20260123T111000
DTEND;TZID=America/New_York:20260123T115000
DTSTAMP:20260421T104735
CREATED:20260108T063454Z
LAST-MODIFIED:20260123T080529Z
UID:10002860-1769166600-1769169000@www.houghton.edu
SUMMARY:Chapel - Pastor Mark Harley
DESCRIPTION:Chapel with Pastor Mark Harley from Fillmore Wesleyan Church\n—\nEvent Details: https://hub.houghton.edu/rsvp?id=384812
URL:https://www.houghton.edu/event/chapel-pastor-mark-harley/
LOCATION:Sign in to download the location
CATEGORIES:Spiritual Life
END:VEVENT
BEGIN:VEVENT
DTSTART;TZID=America/New_York:20260122T073000
DTEND;TZID=America/New_York:20260122T075000
DTSTAMP:20260421T104735
CREATED:20260107T063452Z
LAST-MODIFIED:20260122T075035Z
UID:10002815-1769067000-1769068200@www.houghton.edu
SUMMARY:Thursday Morning Prayer
DESCRIPTION:Gather for morning prayer.\n—\nEvent Details: https://hub.houghton.edu/rsvp?id=384772
URL:https://www.houghton.edu/event/thursday-morning-prayer-2/
LOCATION:Sign in to download the location
CATEGORIES:Spiritual Life
END:VEVENT
BEGIN:VEVENT
DTSTART;TZID=America/New_York:20260120T073000
DTEND;TZID=America/New_York:20260120T075000
DTSTAMP:20260421T104735
CREATED:20260107T063452Z
LAST-MODIFIED:20260107T063452Z
UID:10002813-1768894200-1768895400@www.houghton.edu
SUMMARY:Tuesday Morning Prayer
DESCRIPTION:Gather for morning prayer in a liturgical style.\n—\nEvent Details: https://hub.houghton.edu/rsvp?id=384757
URL:https://www.houghton.edu/event/tuesday-morning-prayer-2/
LOCATION:Sign in to download the location
CATEGORIES:Spiritual Life
END:VEVENT
BEGIN:VEVENT
DTSTART;TZID=America/New_York:20260120T073000
DTEND;TZID=America/New_York:20260120T075000
DTSTAMP:20260421T104735
CREATED:20260107T063452Z
LAST-MODIFIED:20260120T074949Z
UID:10002814-1768894200-1768895400@www.houghton.edu
SUMMARY:Tuesday Morning Prayer
DESCRIPTION:Gather for morning prayer in a liturgical style.\n—\nEvent Details: https://hub.houghton.edu/rsvp?id=384786
URL:https://www.houghton.edu/event/tuesday-morning-prayer-3/
LOCATION:Sign in to download the location
CATEGORIES:Spiritual Life
END:VEVENT
BEGIN:VEVENT
DTSTART;TZID=America/New_York:20260119T111000
DTEND;TZID=America/New_York:20260119T115000
DTSTAMP:20260421T104735
CREATED:20260108T063453Z
LAST-MODIFIED:20260119T074954Z
UID:10002859-1768821000-1768823400@www.houghton.edu
SUMMARY:Chapel - Rev. Kimberly Gladden
DESCRIPTION:Our chapel service today will pay tribute to Dr. King and feature guest speaker\, Rev. Kimberly Gladden.  Rev. Gladden has more than 30 years of ministry experience. She retired as director of discipleship for Church Multiplication and Discipleship (CMAD) for The Wesleyan Church. She is founder and pastor of a Wesleyan urban congregation in Buffalo\, ZionQuest Christian Fellowship. Previously\, she served on staff at Eastern Hills Wesleyan Church (Williamsville\, NY) as discipleship pastor and missions pastor. Rev. Gladden is the founder of the VisionQuest Christian Orchestra and VisionQuest Ministries (a mission service organization). She is also a former Houghton staff member. We look forward to welcoming her back to campus. — Event Details: https://hub.houghton.edu/rsvp?id=384811
URL:https://www.houghton.edu/event/chapel-28/
LOCATION:Sign in to download the location
CATEGORIES:Spiritual Life
END:VEVENT
BEGIN:VEVENT
DTSTART;TZID=America/New_York:20260118T190000
DTEND;TZID=America/New_York:20260118T200000
DTSTAMP:20260421T104735
CREATED:20250903T004957Z
LAST-MODIFIED:20260118T073502Z
UID:10002602-1768762800-1768766400@www.houghton.edu
SUMMARY:Koinonia
DESCRIPTION:Koinonia is a student-led\, informal praise gathering of college students and community members who desire to encounter Jesus Christ through worship in songs\, scripture\, prayer\, and testimony. — Event Details: https://hub.houghton.edu/rsvp?id=383566
URL:https://www.houghton.edu/event/koinonia-16/
LOCATION:Sign in to download the location
CATEGORIES:Spiritual Life
END:VEVENT
END:VCALENDAR