


BEGIN:VCALENDAR
VERSION:2.0
PRODID:-//Houghton University - ECPv6.15.20//NONSGML v1.0//EN
CALSCALE:GREGORIAN
METHOD:PUBLISH
X-ORIGINAL-URL:https://www.houghton.edu
X-WR-CALDESC:Events for Houghton University
REFRESH-INTERVAL;VALUE=DURATION:PT1H
X-Robots-Tag:noindex
X-PUBLISHED-TTL:PT1H
BEGIN:VTIMEZONE
TZID:America/New_York
BEGIN:DAYLIGHT
TZOFFSETFROM:-0500
TZOFFSETTO:-0400
TZNAME:EDT
DTSTART:20240310T070000
END:DAYLIGHT
BEGIN:STANDARD
TZOFFSETFROM:-0400
TZOFFSETTO:-0500
TZNAME:EST
DTSTART:20241103T060000
END:STANDARD
BEGIN:DAYLIGHT
TZOFFSETFROM:-0500
TZOFFSETTO:-0400
TZNAME:EDT
DTSTART:20250309T070000
END:DAYLIGHT
BEGIN:STANDARD
TZOFFSETFROM:-0400
TZOFFSETTO:-0500
TZNAME:EST
DTSTART:20251102T060000
END:STANDARD
BEGIN:DAYLIGHT
TZOFFSETFROM:-0500
TZOFFSETTO:-0400
TZNAME:EDT
DTSTART:20260308T070000
END:DAYLIGHT
BEGIN:STANDARD
TZOFFSETFROM:-0400
TZOFFSETTO:-0500
TZNAME:EST
DTSTART:20261101T060000
END:STANDARD
END:VTIMEZONE
BEGIN:VEVENT
DTSTART;TZID=America/New_York:20251213T090000
DTEND;TZID=America/New_York:20251213T170000
DTSTAMP:20260419T133504
CREATED:20251112T221949Z
LAST-MODIFIED:20251212T233455Z
UID:10002777-1765616400-1765645200@www.houghton.edu
SUMMARY:Hunter Jumper Christmas Fun Show
DESCRIPTION:Come join us for the day and participate in a variety of classes such as hunter and equitation on the flat and over fences and jumpers! Preregistration not required\, so come day of to participate in the fun. Limited Stabling available but must email equestrian@houghton.edu to reserve stall. — Event Details: https://hub.houghton.edu/rsvp?id=384669
URL:https://www.houghton.edu/event/hunter-jumper-christmas-fun-show-2/
LOCATION:Equestrian Center\, 9823 School Farm Rd\, Houghton\, NY\, United States
CATEGORIES:Equestrian
GEO:42.431326;-78.176592
X-APPLE-STRUCTURED-LOCATION;VALUE=URI;X-ADDRESS=Equestrian Center 9823 School Farm Rd Houghton NY United States;X-APPLE-RADIUS=500;X-TITLE=9823 School Farm Rd:geo:-78.176592,42.431326
END:VEVENT
BEGIN:VEVENT
DTSTART;TZID=America/New_York:20251122T090000
DTEND;TZID=America/New_York:20251122T170000
DTSTAMP:20260419T133504
CREATED:20251022T213453Z
LAST-MODIFIED:20251121T231953Z
UID:10002738-1763802000-1763830800@www.houghton.edu
SUMMARY:Western Fall Fun Show
DESCRIPTION:Come join us for our Western Fall Fun Show! We will have a fully western show day with lots of different pleasure\, equitation\, horsemanship\, and gaming classes throughout the day that riders of all ages are welcome to participate in.   Preregistration not required\, so come day of to participate in the fun. Limited Stabling available but must email equestrian@houghton.edu to reserve stall.  — Event Details: https://hub.houghton.edu/rsvp?id=384573
URL:https://www.houghton.edu/event/western-fall-fun-show/
LOCATION:Equestrian Center\, 9823 School Farm Rd\, Houghton\, NY\, United States
CATEGORIES:Equestrian
GEO:42.431326;-78.176592
X-APPLE-STRUCTURED-LOCATION;VALUE=URI;X-ADDRESS=Equestrian Center 9823 School Farm Rd Houghton NY United States;X-APPLE-RADIUS=500;X-TITLE=9823 School Farm Rd:geo:-78.176592,42.431326
END:VEVENT
BEGIN:VEVENT
DTSTART;TZID=America/New_York:20251101T083000
DTEND;TZID=America/New_York:20251101T170000
DTSTAMP:20260419T133504
CREATED:20250917T223451Z
LAST-MODIFIED:20251031T213445Z
UID:10002656-1761985800-1762016400@www.houghton.edu
SUMMARY:Fall Dressage Schooling Show
DESCRIPTION:Come join us for our Fall Dressage Schooling Show! For the price of an entry fee you will get the chance to show off your horse in a friendly environment\, a score sheet with judges feedback\, and a shot at a ribbon. This show is apart of the Western New York Dressage Association’s (WNYDA) Challenge Show Series where high point ribbons and awards will be offered and a chance at WNYDA’s overall year end awards. We will also be allowing entries to ride Western Dressage tests! — Event Details: https://hub.houghton.edu/rsvp?id=383854
URL:https://www.houghton.edu/event/fall-dressage-schooling-show/
LOCATION:Equestrian Center\, 9823 School Farm Rd\, Houghton\, NY\, United States
CATEGORIES:Equestrian
GEO:42.431326;-78.176592
X-APPLE-STRUCTURED-LOCATION;VALUE=URI;X-ADDRESS=Equestrian Center 9823 School Farm Rd Houghton NY United States;X-APPLE-RADIUS=500;X-TITLE=9823 School Farm Rd:geo:-78.176592,42.431326
END:VEVENT
BEGIN:VEVENT
DTSTART;TZID=America/New_York:20251010T083000
DTEND;TZID=America/New_York:20251012T170000
DTSTAMP:20260419T133504
CREATED:20250917T200502Z
LAST-MODIFIED:20251009T221956Z
UID:10002633-1760085000-1760288400@www.houghton.edu
SUMMARY:Dressage & Jumping Clinic with Frederick Magazzeni
DESCRIPTION:We are excited to have Frederick Magazzeni\, a Houghton alumni\, out for a dressage and jumping clinic. Fred brings to the table a unique style of training that not only focuses on correct dressage foundations\, but also honing in on each rider’s strengths as well as formulating a pragmatic\, and effective way to improve the riders development. Fred grew up in Germany and the United States\, riding in saddle clubs in a local German village close to the family home\, and riding western horses in the United States. He has a BA from Houghton University where he gained his German connections to further study in Germany as an adult and worked under the German training program at both the Hof Kasselmann stables first and then later under the tutelage of the Koschel family dressage training stables. Lesson spaces are available! Private Dressage or Jump Lesson-$125 Semi-Private Dressage or Jump Lesson-$75/rider Auditing-$20/day — Event Details: https://hub.houghton.edu/rsvp?id=383833
URL:https://www.houghton.edu/event/dressage-jumping-clinic-with-frederick-magazzeni/
LOCATION:Equestrian Center\, 9823 School Farm Rd\, Houghton\, NY\, United States
CATEGORIES:Equestrian
GEO:42.431326;-78.176592
X-APPLE-STRUCTURED-LOCATION;VALUE=URI;X-ADDRESS=Equestrian Center 9823 School Farm Rd Houghton NY United States;X-APPLE-RADIUS=500;X-TITLE=9823 School Farm Rd:geo:-78.176592,42.431326
END:VEVENT
BEGIN:VEVENT
DTSTART;TZID=America/New_York:20250920T080000
DTEND;TZID=America/New_York:20250920T170000
DTSTAMP:20260419T133504
CREATED:20250812T223555Z
LAST-MODIFIED:20250919T203519Z
UID:10002534-1758355200-1758387600@www.houghton.edu
SUMMARY:Horse Trial\, Combined Test & Dressage Schooling Show
DESCRIPTION:Schedule is Set!\nCome join us for a fun day of friendly competition!\nCheck out the the link below for more information and registration.\nOpening date for registrations is August 12th and closing date is September 10th.\nDon’t forget that the Dressage only portion of the show will be a part of the WNYDA Challenge Show Series!\n—\nEvent Details: https://hub.houghton.edu/rsvp?id=383403
URL:https://www.houghton.edu/event/horse-trial-combined-test-dressage-schooling-show/
LOCATION:Equestrian Center\, 9823 School Farm Rd\, Houghton\, NY\, United States
CATEGORIES:Equestrian
GEO:42.431326;-78.176592
X-APPLE-STRUCTURED-LOCATION;VALUE=URI;X-ADDRESS=Equestrian Center 9823 School Farm Rd Houghton NY United States;X-APPLE-RADIUS=500;X-TITLE=9823 School Farm Rd:geo:-78.176592,42.431326
END:VEVENT
END:VCALENDAR